BEGIN:VCALENDAR
VERSION:2.0
PRODID:-//The W - ECPv6.15.17.1//NONSGML v1.0//EN
CALSCALE:GREGORIAN
METHOD:PUBLISH
X-WR-CALNAME:The W
X-ORIGINAL-URL:https://www.muw.edu
X-WR-CALDESC:Events for The W
REFRESH-INTERVAL;VALUE=DURATION:PT1H
X-Robots-Tag:noindex
X-PUBLISHED-TTL:PT1H
BEGIN:VTIMEZONE
TZID:America/Chicago
BEGIN:DAYLIGHT
TZOFFSETFROM:-0600
TZOFFSETTO:-0500
TZNAME:CDT
DTSTART:20240310T080000
END:DAYLIGHT
BEGIN:STANDARD
TZOFFSETFROM:-0500
TZOFFSETTO:-0600
TZNAME:CST
DTSTART:20241103T070000
END:STANDARD
BEGIN:DAYLIGHT
TZOFFSETFROM:-0600
TZOFFSETTO:-0500
TZNAME:CDT
DTSTART:20250309T080000
END:DAYLIGHT
BEGIN:STANDARD
TZOFFSETFROM:-0500
TZOFFSETTO:-0600
TZNAME:CST
DTSTART:20251102T070000
END:STANDARD
BEGIN:DAYLIGHT
TZOFFSETFROM:-0600
TZOFFSETTO:-0500
TZNAME:CDT
DTSTART:20260308T080000
END:DAYLIGHT
BEGIN:STANDARD
TZOFFSETFROM:-0500
TZOFFSETTO:-0600
TZNAME:CST
DTSTART:20261101T070000
END:STANDARD
BEGIN:DAYLIGHT
TZOFFSETFROM:-0600
TZOFFSETTO:-0500
TZNAME:CDT
DTSTART:20270314T080000
END:DAYLIGHT
BEGIN:STANDARD
TZOFFSETFROM:-0500
TZOFFSETTO:-0600
TZNAME:CST
DTSTART:20271107T070000
END:STANDARD
END:VTIMEZONE
BEGIN:VEVENT
DTSTART;TZID=America/Chicago:20260417T080000
DTEND;TZID=America/Chicago:20260417T170000
DTSTAMP:20260422T010519
CREATED:20260205T140433Z
LAST-MODIFIED:20260417T141929Z
UID:10012346-1776412800-1776445200@www.muw.edu
SUMMARY:Undergraduate Research Conference
DESCRIPTION:The 6th-annual all-campus symposium\, showcasing student research.
URL:https://www.muw.edu/event/undergraduate-research-conference-3/
LOCATION:Gail P. Gunter Multi-Purpose Room
CATEGORIES:Library Event > Office of Undergraduate Research
ORGANIZER;CN="Hillary Richardson":MAILTO:hhrichardson@muw.edu
END:VEVENT
BEGIN:VEVENT
DTSTART;TZID=America/Chicago:20260414T120000
DTEND;TZID=America/Chicago:20260414T200000
DTSTAMP:20260422T010519
CREATED:20260129T140430Z
LAST-MODIFIED:20260414T141930Z
UID:10012303-1776168000-1776196800@www.muw.edu
SUMMARY:Natchez Documentary Screening
DESCRIPTION:After the screening\, we will discuss the film with a panel featuring: Chuck Yarborough\, MSMS Faculty (Moderator)Laverne Green-Leech\, R.E. Hunt MuseumTracy “Rev” Collins\, Rev’s Country ToursSuzannah Hebert\, Natchez filmmakerDarcy McKinnon\, Natchez filmmaker \nSee also the IDEA featuring The Deepest South of All\, by Richard Grant4 . 2 2 . 2 6 | 1 2 : 0 0 P M | G P G R O O M \nMore details about the IDEA Book Talk (including how to attend virtually) here: https://libreserves.muw.edu/event/16250705
URL:https://www.muw.edu/event/natchez-documentary-screening/
LOCATION:Gail P. Gunter Multi-Purpose Room
CATEGORIES:Library Event
ORGANIZER;CN="Hillary Richardson":MAILTO:hhrichardson@muw.edu
END:VEVENT
BEGIN:VEVENT
DTSTART;TZID=America/Chicago:20260408T160000
DTEND;TZID=America/Chicago:20260408T170000
DTSTAMP:20260422T010519
CREATED:20251113T111931Z
LAST-MODIFIED:20260408T134930Z
UID:10012041-1775664000-1775667600@www.muw.edu
SUMMARY:Community Read Book Talk: The Barn
DESCRIPTION:
URL:https://www.muw.edu/event/community-read-book-talk-the-barn-4/
LOCATION:Gail P. Gunter Multi-Purpose Room
ORGANIZER;CN="Rachael Damms":MAILTO:redamms@muw.edu
END:VEVENT
BEGIN:VEVENT
DTSTART;TZID=America/Chicago:20260406T160000
DTEND;TZID=America/Chicago:20260406T170000
DTSTAMP:20260422T010519
CREATED:20251015T201931Z
LAST-MODIFIED:20260406T134930Z
UID:10011996-1775491200-1775494800@www.muw.edu
SUMMARY:Books & Banter - Twilight Tandem Read
DESCRIPTION:Join us as we sink our teeth into Twilight and Midnight Sun and experience the beloved story through both Bella’s and Edward’s perspective.
URL:https://www.muw.edu/event/books-banter-twilight-tandem-read-3/
LOCATION:Gail P. Gunter Multi-Purpose Room
CATEGORIES:Library Event
ORGANIZER;CN="Kelsey Damms":MAILTO:kmdamms@muw.edu
END:VEVENT
BEGIN:VEVENT
DTSTART;TZID=America/Chicago:20260324T123000
DTEND;TZID=America/Chicago:20260324T140000
DTSTAMP:20260422T010519
CREATED:20260121T130434Z
LAST-MODIFIED:20260324T161931Z
UID:10012282-1774355400-1774360800@www.muw.edu
SUMMARY:Meet the Author: Elise Smith
DESCRIPTION:Meet Art Historian and Author Elise Smith\, who will discuss her book Southern Women\, Southern Landscapes: Cultural Reflections on the Garden\, 1870-1970. All are welcome to attend\, but lunch will be provided to the first 20 attendees.
URL:https://www.muw.edu/event/meet-the-author-elise-smith/
LOCATION:Gail P. Gunter Multi-Purpose Room
CATEGORIES:Library Event,Women's Mission
ATTACH;FMTTYPE=image/jpeg:https://www.muw.edu/wp-content/uploads/2026/01/Elise-Smith-resized.jpg
ORGANIZER;CN="Hillary Richardson":MAILTO:hhrichardson@muw.edu
END:VEVENT
BEGIN:VEVENT
DTSTART;TZID=America/Chicago:20260302T160000
DTEND;TZID=America/Chicago:20260302T170000
DTSTAMP:20260422T010519
CREATED:20251015T201931Z
LAST-MODIFIED:20260302T153430Z
UID:10011995-1772467200-1772470800@www.muw.edu
SUMMARY:Books & Banter - Twilight Tandem Read
DESCRIPTION:Join us as we sink our teeth into Twilight and Midnight Sun and experience the beloved story through both Bella’s and Edward’s perspective.
URL:https://www.muw.edu/event/books-banter-twilight-tandem-read-2/
LOCATION:Gail P. Gunter Multi-Purpose Room
CATEGORIES:Library Event
ORGANIZER;CN="Kelsey Damms":MAILTO:kmdamms@muw.edu
END:VEVENT
BEGIN:VEVENT
DTSTART;TZID=America/Chicago:20260211T160000
DTEND;TZID=America/Chicago:20260211T170000
DTSTAMP:20260422T010519
CREATED:20251113T111930Z
LAST-MODIFIED:20260211T143429Z
UID:10012040-1770825600-1770829200@www.muw.edu
SUMMARY:Community Read Book Talk: The Barn
DESCRIPTION:
URL:https://www.muw.edu/event/community-read-book-talk-the-barn-3/
LOCATION:Gail P. Gunter Multi-Purpose Room
ORGANIZER;CN="Rachael Damms":MAILTO:redamms@muw.edu
END:VEVENT
BEGIN:VEVENT
DTSTART;TZID=America/Chicago:20260202T160000
DTEND;TZID=America/Chicago:20260202T170000
DTSTAMP:20260422T010519
CREATED:20251015T201931Z
LAST-MODIFIED:20260202T140429Z
UID:10011994-1770048000-1770051600@www.muw.edu
SUMMARY:Books & Banter - Twilight Tandem Read
DESCRIPTION:Join us as we sink our teeth into Twilight and Midnight Sun and experience the beloved story through both Bella’s and Edward’s perspective.
URL:https://www.muw.edu/event/books-banter-twilight-tandem-read/
LOCATION:Gail P. Gunter Multi-Purpose Room
CATEGORIES:Library Event
ORGANIZER;CN="Kelsey Damms":MAILTO:kmdamms@muw.edu
END:VEVENT
BEGIN:VEVENT
DTSTART;TZID=America/Chicago:20260129T160000
DTEND;TZID=America/Chicago:20260129T160000
DTSTAMP:20260422T010519
CREATED:20260128T223527Z
LAST-MODIFIED:20260128T224715Z
UID:10012296-1769702400-1769702400@www.muw.edu
SUMMARY:Vision Board for annual financial goals
DESCRIPTION:Responsibly plan out your year with your finances in mind.
URL:https://www.muw.edu/event/vision-board-for-annual-financial-goals/
LOCATION:Gail P. Gunter Multi-Purpose Room
ATTACH;FMTTYPE=image/png:https://www.muw.edu/wp-content/uploads/2026/01/Financial-Vision-Workshop.png
END:VEVENT
BEGIN:VEVENT
DTSTART;TZID=America/Chicago:20251113T170000
DTEND;TZID=America/Chicago:20251113T203000
DTSTAMP:20260422T010519
CREATED:20250507T181931Z
LAST-MODIFIED:20251113T111930Z
UID:10011552-1763053200-1763065800@www.muw.edu
SUMMARY:Honors Research Symposium
DESCRIPTION:
URL:https://www.muw.edu/event/honors-research-symposium-8/
LOCATION:Gail P. Gunter Multi-Purpose Room
ORGANIZER;CN="Anita Pintado":MAILTO:ampintado@muw.edu
END:VEVENT
BEGIN:VEVENT
DTSTART;TZID=America/Chicago:20251112T160000
DTEND;TZID=America/Chicago:20251112T170000
DTSTAMP:20260422T010519
CREATED:20250813T143445Z
LAST-MODIFIED:20251112T003550Z
UID:10011815-1762963200-1762966800@www.muw.edu
SUMMARY:Community Read Book Talk: The Barn
DESCRIPTION:
URL:https://www.muw.edu/event/community-read-book-talk-the-barn-2/
LOCATION:Gail P. Gunter Multi-Purpose Room
CATEGORIES:Library Event
ORGANIZER;CN="Rachael Damms":MAILTO:redamms@muw.edu
END:VEVENT
BEGIN:VEVENT
DTSTART;TZID=America/Chicago:20250926T120000
DTEND;TZID=America/Chicago:20250926T133000
DTSTAMP:20260422T010519
CREATED:20250721T210434Z
LAST-MODIFIED:20250925T190544Z
UID:10011785-1758888000-1758893400@www.muw.edu
SUMMARY:Meet the Author: Chelsi West Ohueri
DESCRIPTION:
URL:https://www.muw.edu/event/meet-the-author-chelsi-west-ohueri/
LOCATION:Gail P. Gunter Multi-Purpose Room
CATEGORIES:Library Event
ORGANIZER;CN="Hillary Richardson":MAILTO:hhrichardson@muw.edu
END:VEVENT
BEGIN:VEVENT
DTSTART;TZID=America/Chicago:20250910T160000
DTEND;TZID=America/Chicago:20250910T170000
DTSTAMP:20260422T010519
CREATED:20250813T143434Z
LAST-MODIFIED:20250910T172045Z
UID:10011812-1757520000-1757523600@www.muw.edu
SUMMARY:Community Read Book Talk: The Barn
DESCRIPTION:Join us for the 1st in a series of book talks about The Barn\, by Wright Thompson\, discussing Section I of the book. Copies of the book will be available to first attendees present. \nGuest facilitator: TBA
URL:https://www.muw.edu/event/community-read-book-talk-the-barn/
LOCATION:Gail P. Gunter Multi-Purpose Room
CATEGORIES:Library Event
ORGANIZER;CN="Rachael Damms":MAILTO:redamms@muw.edu
END:VEVENT
BEGIN:VEVENT
DTSTART;TZID=America/Chicago:20250423T160000
DTEND;TZID=America/Chicago:20250423T170000
DTSTAMP:20260422T010519
CREATED:20241113T231930Z
LAST-MODIFIED:20250423T180435Z
UID:10011223-1745424000-1745427600@www.muw.edu
SUMMARY:Spring Book Talk
DESCRIPTION:
URL:https://www.muw.edu/event/spring-book-talk-8/
LOCATION:Gail P. Gunter Multi-Purpose Room
ORGANIZER;CN="Rachael Damms":MAILTO:redamms@muw.edu
END:VEVENT
END:VCALENDAR