BEGIN:VCALENDAR
VERSION:2.0
PRODID:-//The W - ECPv6.15.17.1//NONSGML v1.0//EN
CALSCALE:GREGORIAN
METHOD:PUBLISH
X-WR-CALNAME:The W
X-ORIGINAL-URL:https://www.muw.edu
X-WR-CALDESC:Events for The W
REFRESH-INTERVAL;VALUE=DURATION:PT1H
X-Robots-Tag:noindex
X-PUBLISHED-TTL:PT1H
BEGIN:VTIMEZONE
TZID:America/Chicago
BEGIN:DAYLIGHT
TZOFFSETFROM:-0600
TZOFFSETTO:-0500
TZNAME:CDT
DTSTART:20240310T080000
END:DAYLIGHT
BEGIN:STANDARD
TZOFFSETFROM:-0500
TZOFFSETTO:-0600
TZNAME:CST
DTSTART:20241103T070000
END:STANDARD
BEGIN:DAYLIGHT
TZOFFSETFROM:-0600
TZOFFSETTO:-0500
TZNAME:CDT
DTSTART:20250309T080000
END:DAYLIGHT
BEGIN:STANDARD
TZOFFSETFROM:-0500
TZOFFSETTO:-0600
TZNAME:CST
DTSTART:20251102T070000
END:STANDARD
BEGIN:DAYLIGHT
TZOFFSETFROM:-0600
TZOFFSETTO:-0500
TZNAME:CDT
DTSTART:20260308T080000
END:DAYLIGHT
BEGIN:STANDARD
TZOFFSETFROM:-0500
TZOFFSETTO:-0600
TZNAME:CST
DTSTART:20261101T070000
END:STANDARD
BEGIN:DAYLIGHT
TZOFFSETFROM:-0600
TZOFFSETTO:-0500
TZNAME:CDT
DTSTART:20270314T080000
END:DAYLIGHT
BEGIN:STANDARD
TZOFFSETFROM:-0500
TZOFFSETTO:-0600
TZNAME:CST
DTSTART:20271107T070000
END:STANDARD
END:VTIMEZONE
BEGIN:VEVENT
DTSTART;TZID=America/Chicago:20260422T160000
DTEND;TZID=America/Chicago:20260422T170000
DTSTAMP:20260423T104134
CREATED:20260112T221713Z
LAST-MODIFIED:20260112T221713Z
UID:10012259-1776873600-1776877200@www.muw.edu
SUMMARY:1884 Fellow Lessa Harvey's Feminist Book Club: Session 3
DESCRIPTION:The feminist book club’s final book pick of the spring is an introduction to contemporary feminism for the Instagram age. Florence Given’s Women Don’t Owe You Pretty points out the narratives that keep women from embracing their own power. \n1884 Fellow Lessa Harvey started this book club as part of her Nancy Yates Community Engagement internship.
URL:https://www.muw.edu/event/1884-fellow-lessa-harveys-feminist-book-club-session-3/
LOCATION:Friendly City Books\, 109 5th Street North\, Columbus\, 39701\, United States
CATEGORIES:Campus Event,Community Events,Cultural Calendar,Reading,Students,ThoughtfulLearning,Women's Mission
ATTACH;FMTTYPE=image/jpeg:https://www.muw.edu/wp-content/uploads/2026/01/women-dont-owe-resized.jpg
ORGANIZER;CN="Women's College":MAILTO:womenscollege@muw.edu
END:VEVENT
BEGIN:VEVENT
DTSTART;TZID=America/Chicago:20260325T160000
DTEND;TZID=America/Chicago:20260325T170000
DTSTAMP:20260423T104134
CREATED:20260112T213936Z
LAST-MODIFIED:20260217T232608Z
UID:10012258-1774454400-1774458000@www.muw.edu
SUMMARY:1884 Fellow Lessa Harvey's Feminist Book Club: Session 2
DESCRIPTION:Octavia Butler’s dystopian Parable of the Sower is the feminist book club’s next spring read. Whether you are new to speculative fiction or a long-standing fan\, join this discussion of Butler’s prescient novel. \n1884 Fellow Lessa Harvey began this book club as part of her Nancy Yates Community Engagement internship.
URL:https://www.muw.edu/event/1884-fellow-lessa-harveys-feminist-book-club-session-2/
LOCATION:Friendly City Books\, 109 5th Street North\, Columbus\, 39701\, United States
CATEGORIES:Campus Event,Community Events,Cultural Calendar,Reading,Special Events,Students,ThoughtfulLearning,Women's History Month,Women's Mission
ATTACH;FMTTYPE=image/jpeg:https://www.muw.edu/wp-content/uploads/2026/01/Butler_cover-resized.jpg
ORGANIZER;CN="Women's College":MAILTO:womenscollege@muw.edu
END:VEVENT
BEGIN:VEVENT
DTSTART;TZID=America/Chicago:20251119T160000
DTEND;TZID=America/Chicago:20251119T170000
DTSTAMP:20260423T104134
CREATED:20250916T180508Z
LAST-MODIFIED:20250917T213907Z
UID:10011919-1763568000-1763571600@www.muw.edu
SUMMARY:Feminist Book Club Session #3
DESCRIPTION:At the club’s last fall session\, members will discuss Bad Feminist by Roxane Gay. \nLessa Harvey\, an 1884 Fellow in the Women’s College\, created this feminist book club after working at Friendly City Books as a Nancy Yates Community Engagement Fellow in the summer of 2025.
URL:https://www.muw.edu/event/feminist-book-club-session-3/
LOCATION:Friendly City Books\, 109 5th Street North\, Columbus\, 39701\, United States
CATEGORIES:Community Events,Cultural Calendar,Reading,Students,ThoughtfulLearning,Women's Mission
ATTACH;FMTTYPE=image/jpeg:https://www.muw.edu/wp-content/uploads/2025/09/Bad-Feminist.jpg
END:VEVENT
BEGIN:VEVENT
DTSTART;TZID=America/Chicago:20251022T160000
DTEND;TZID=America/Chicago:20251022T170000
DTSTAMP:20260423T104134
CREATED:20250916T175938Z
LAST-MODIFIED:20250917T213717Z
UID:10011918-1761148800-1761152400@www.muw.edu
SUMMARY:Feminist Book Club Session #2
DESCRIPTION:At the club’s second session\, members will discuss The Book Club for Troublesome Women by Marie Bostwick. \nLessa Harvey\, an 1884 Fellow in the Women’s College\, created this feminist book club after working at Friendly City Books as a Nancy Yates Community Engagement Fellow in the summer of 2025.
URL:https://www.muw.edu/event/feminist-book-club-session-2/
LOCATION:Friendly City Books\, 109 5th Street North\, Columbus\, 39701\, United States
CATEGORIES:Community Events,Cultural Calendar,Reading,Students,ThoughtfulLearning,Women's Mission
ATTACH;FMTTYPE=image/jpeg:https://www.muw.edu/wp-content/uploads/2025/09/The-Book-Club-for-Troublesome-Women.jpg
END:VEVENT
BEGIN:VEVENT
DTSTART;TZID=America/Chicago:20250924T160000
DTEND;TZID=America/Chicago:20250924T170000
DTSTAMP:20260423T104134
CREATED:20250916T174837Z
LAST-MODIFIED:20250917T213743Z
UID:10011917-1758729600-1758733200@www.muw.edu
SUMMARY:Feminist Book Club Session #1
DESCRIPTION:At the club’s first session\, members will discuss Rebecca Solnit’s Men Explain Things to Me. \nLessa Harvey\, an 1884 Fellow in the Women’s College\, created this feminist book club after working at Friendly City Books as a Nancy Yates Community Engagement Fellow in the summer of 2025.
URL:https://www.muw.edu/event/feminist-book-club-session-1/
LOCATION:Friendly City Books\, 109 5th Street North\, Columbus\, 39701\, United States
CATEGORIES:Community Events,Cultural Calendar,Reading,Students,ThoughtfulLearning,Women's Mission
ATTACH;FMTTYPE=image/jpeg:https://www.muw.edu/wp-content/uploads/2025/09/Men-Explain-Things-to-Me.jpg
END:VEVENT
BEGIN:VEVENT
DTSTART;TZID=America/Chicago:20250924T160000
DTEND;TZID=America/Chicago:20250924T160000
DTSTAMP:20260423T104134
CREATED:20250918T213414Z
LAST-MODIFIED:20250918T213642Z
UID:10011933-1758729600-1758729600@www.muw.edu
SUMMARY:1884 Fellow Lessa Harvey's Feminist Book Club
DESCRIPTION:1884 Fellow in the Women’s College\, Lessa Harvey\, will be hosting a Feminist Book Club in partnership with MUW’s Women’s College and Friendly City Books. The meeting on Wednesday\, September 24 at 4 p.m. will discuss Rebecca Solnit’s Men Explain Things To Me. The book club is open to the public and will meet at Friendly City Books one Wednesday each month to discuss a new book.
URL:https://www.muw.edu/event/1884-fellow-lessa-harveys-feminist-book-club/
LOCATION:Friendly City Books\, 109 5th Street North\, Columbus\, 39701\, United States
ATTACH;FMTTYPE=image/jpeg:https://www.muw.edu/wp-content/uploads/2025/09/feminist_book_club_f25-scaled.jpg
END:VEVENT
BEGIN:VEVENT
DTSTART;TZID=America/Chicago:20250605T190000
DTEND;TZID=America/Chicago:20250605T203000
DTSTAMP:20260423T104134
CREATED:20250530T163405Z
LAST-MODIFIED:20250530T163737Z
UID:10011566-1749150000-1749155400@www.muw.edu
SUMMARY:MFA Full Residency Reading #5
DESCRIPTION:Featuring: \nLauren Rhoades\, Split the Baby \nKendall Dunkelberg\, Tree Fall with Birdsong \nat Friendly City Books \n@TheWMFACW on YouTube
URL:https://www.muw.edu/event/mfa-full-residency-reading-5/
LOCATION:Friendly City Books\, 109 5th Street North\, Columbus\, 39701\, United States
CATEGORIES:Community Events,Cultural Calendar,Reading
END:VEVENT
END:VCALENDAR