BEGIN:VCALENDAR
VERSION:2.0
PRODID:-//The W - ECPv6.15.17.1//NONSGML v1.0//EN
CALSCALE:GREGORIAN
METHOD:PUBLISH
X-ORIGINAL-URL:https://www.muw.edu
X-WR-CALDESC:Events for The W
REFRESH-INTERVAL;VALUE=DURATION:PT1H
X-Robots-Tag:noindex
X-PUBLISHED-TTL:PT1H
BEGIN:VTIMEZONE
TZID:America/Chicago
BEGIN:DAYLIGHT
TZOFFSETFROM:-0600
TZOFFSETTO:-0500
TZNAME:CDT
DTSTART:20240310T080000
END:DAYLIGHT
BEGIN:STANDARD
TZOFFSETFROM:-0500
TZOFFSETTO:-0600
TZNAME:CST
DTSTART:20241103T070000
END:STANDARD
BEGIN:DAYLIGHT
TZOFFSETFROM:-0600
TZOFFSETTO:-0500
TZNAME:CDT
DTSTART:20250309T080000
END:DAYLIGHT
BEGIN:STANDARD
TZOFFSETFROM:-0500
TZOFFSETTO:-0600
TZNAME:CST
DTSTART:20251102T070000
END:STANDARD
BEGIN:DAYLIGHT
TZOFFSETFROM:-0600
TZOFFSETTO:-0500
TZNAME:CDT
DTSTART:20260308T080000
END:DAYLIGHT
BEGIN:STANDARD
TZOFFSETFROM:-0500
TZOFFSETTO:-0600
TZNAME:CST
DTSTART:20261101T070000
END:STANDARD
BEGIN:DAYLIGHT
TZOFFSETFROM:-0600
TZOFFSETTO:-0500
TZNAME:CDT
DTSTART:20270314T080000
END:DAYLIGHT
BEGIN:STANDARD
TZOFFSETFROM:-0500
TZOFFSETTO:-0600
TZNAME:CST
DTSTART:20271107T070000
END:STANDARD
END:VTIMEZONE
BEGIN:VEVENT
DTSTART;TZID=America/Chicago:20260421T140000
DTEND;TZID=America/Chicago:20260421T170000
DTSTAMP:20260425T093411
CREATED:20260327T214308Z
LAST-MODIFIED:20260421T083432Z
UID:10012201-1776780000-1776790800@www.muw.edu
SUMMARY:Mississippi University for Women  Baseball at Lyon College (Ark.)
DESCRIPTION:Mississippi University for Women  Baseball at Lyon College (Ark.)
URL:https://www.muw.edu/event/mississippi-university-for-women-baseball-at-lyon-college-ark-5/
LOCATION:Batesville\, AR
CATEGORIES:Owls Athletics
END:VEVENT
BEGIN:VEVENT
DTSTART;TZID=America/Chicago:20260421T120000
DTEND;TZID=America/Chicago:20260421T150000
DTSTAMP:20260425T093411
CREATED:20260327T214244Z
LAST-MODIFIED:20260421T083432Z
UID:10012200-1776772800-1776783600@www.muw.edu
SUMMARY:Mississippi University for Women  Baseball at Lyon College (Ark.)
DESCRIPTION:Mississippi University for Women  Baseball at Lyon College (Ark.)
URL:https://www.muw.edu/event/mississippi-university-for-women-baseball-at-lyon-college-ark-4/
LOCATION:Batesville\, AR
CATEGORIES:Owls Athletics
END:VEVENT
BEGIN:VEVENT
DTSTART;TZID=America/Chicago:20260410T150000
DTEND;TZID=America/Chicago:20260410T170000
DTSTAMP:20260425T093411
CREATED:20260327T214116Z
LAST-MODIFIED:20260410T083436Z
UID:10012188-1775833200-1775840400@www.muw.edu
SUMMARY:Mississippi University for Women  Softball at Lyon College (Ark.)
DESCRIPTION:Mississippi University for Women  Softball at Lyon College (Ark.)Streaming Video: https://team1sports.com/lyonscots/
URL:https://www.muw.edu/event/mississippi-university-for-women-softball-at-lyon-college-ark-4/
LOCATION:Batesville\, AR
CATEGORIES:Owls Athletics
END:VEVENT
BEGIN:VEVENT
DTSTART;TZID=America/Chicago:20260410T130000
DTEND;TZID=America/Chicago:20260410T150000
DTSTAMP:20260425T093411
CREATED:20260327T214116Z
LAST-MODIFIED:20260410T083436Z
UID:10012189-1775826000-1775833200@www.muw.edu
SUMMARY:Mississippi University for Women  Softball at Lyon College (Ark.)
DESCRIPTION:Mississippi University for Women  Softball at Lyon College (Ark.)Streaming Video: https://team1sports.com/lyonscots/
URL:https://www.muw.edu/event/mississippi-university-for-women-softball-at-lyon-college-ark-3/
LOCATION:Batesville\, AR
CATEGORIES:Owls Athletics
END:VEVENT
BEGIN:VEVENT
DTSTART;TZID=America/Chicago:20251125T173000
DTEND;TZID=America/Chicago:20251125T193000
DTSTAMP:20260425T093411
CREATED:20251107T170213Z
LAST-MODIFIED:20251125T181935Z
UID:10011678-1764091800-1764099000@www.muw.edu
SUMMARY:Mississippi University for Women  Women's Basketball at Lyon College (Ark.)
DESCRIPTION:Mississippi University for Women Women’s Basketball at Lyon College (Ark.)
URL:https://www.muw.edu/event/mississippi-university-for-women-womens-basketball-at-lyon-college-ark-3/
LOCATION:Batesville\, AR
CATEGORIES:Owls Athletics
END:VEVENT
BEGIN:VEVENT
DTSTART;TZID=America/Chicago:20251125T150000
DTEND;TZID=America/Chicago:20251125T170000
DTSTAMP:20260425T093411
CREATED:20251107T170133Z
LAST-MODIFIED:20251125T181934Z
UID:10011652-1764082800-1764090000@www.muw.edu
SUMMARY:Mississippi University for Women  Men's Basketball at Lyon College (Ark.)
DESCRIPTION:Mississippi University for Women Men’s Basketball at Lyon College (Ark.)
URL:https://www.muw.edu/event/mississippi-university-for-women-mens-basketball-at-lyon-college-ark-4/
LOCATION:Batesville\, AR
CATEGORIES:Owls Athletics
END:VEVENT
BEGIN:VEVENT
DTSTART;TZID=America/Chicago:20251029T153000
DTEND;TZID=America/Chicago:20251029T173000
DTSTAMP:20260425T093411
CREATED:20251001T140249Z
LAST-MODIFIED:20251029T073434Z
UID:10011639-1761751800-1761759000@www.muw.edu
SUMMARY:Mississippi University for Women  Men's Soccer at Lyon College (Ark.)
DESCRIPTION:Mississippi University for Women Men’s Soccer at Lyon College (Ark.)
URL:https://www.muw.edu/event/mississippi-university-for-women-mens-soccer-at-lyon-college-ark-2/
LOCATION:Batesville\, AR
CATEGORIES:Owls Athletics
END:VEVENT
BEGIN:VEVENT
DTSTART;TZID=America/Chicago:20251029T130000
DTEND;TZID=America/Chicago:20251029T150000
DTSTAMP:20260425T093411
CREATED:20251001T140243Z
LAST-MODIFIED:20251029T073434Z
UID:10011638-1761742800-1761750000@www.muw.edu
SUMMARY:Mississippi University for Women  Women's Soccer at Lyon College (Ark.)
DESCRIPTION:Mississippi University for Women Women’s Soccer at Lyon College (Ark.)
URL:https://www.muw.edu/event/mississippi-university-for-women-womens-soccer-at-lyon-college-ark-2/
LOCATION:Batesville\, AR
CATEGORIES:Owls Athletics
END:VEVENT
BEGIN:VEVENT
DTSTART;TZID=America/Chicago:20251004T140000
DTEND;TZID=America/Chicago:20251004T160000
DTSTAMP:20260425T093411
CREATED:20250923T213451Z
LAST-MODIFIED:20251004T193437Z
UID:10011582-1759586400-1759593600@www.muw.edu
SUMMARY:Mississippi University for Women  Women's Volleyball at Lyon College (Ark.)
DESCRIPTION:Mississippi University for Women Women’s Volleyball at Lyon College (Ark.)
URL:https://www.muw.edu/event/mississippi-university-for-women-womens-volleyball-at-lyon-college-ark-3/
LOCATION:Batesville\, AR
CATEGORIES:Owls Athletics
END:VEVENT
BEGIN:VEVENT
DTSTART;TZID=America/Chicago:20251004T120000
DTEND;TZID=America/Chicago:20251004T140000
DTSTAMP:20260425T093411
CREATED:20250923T213439Z
LAST-MODIFIED:20251003T193434Z
UID:10011621-1759579200-1759586400@www.muw.edu
SUMMARY:Mississippi University for Women  Women's Volleyball vs Greenville University
DESCRIPTION:Mississippi University for Women Women’s Volleyball vs Greenville University
URL:https://www.muw.edu/event/mississippi-university-for-women-womens-volleyball-vs-greenville-university-2/
LOCATION:Batesville\, AR
CATEGORIES:Owls Athletics
END:VEVENT
BEGIN:VEVENT
DTSTART;TZID=America/Chicago:20251004T120000
DTEND;TZID=America/Chicago:20251004T140000
DTSTAMP:20260425T093411
CREATED:20250923T213434Z
LAST-MODIFIED:20250923T213434Z
UID:10011581-1759579200-1759586400@www.muw.edu
SUMMARY:Mississippi University for Women  Women's Volleyball vs TBA
DESCRIPTION:Mississippi University for Women Women’s Volleyball vs TBA
URL:https://www.muw.edu/event/mississippi-university-for-women-womens-volleyball-vs-tba/
LOCATION:Batesville\, AR
CATEGORIES:Owls Athletics
END:VEVENT
BEGIN:VEVENT
DTSTART;VALUE=DATE:20250929
DTEND;VALUE=DATE:20250930
DTSTAMP:20260425T093411
CREATED:20250905T211615Z
LAST-MODIFIED:20250929T193437Z
UID:10011712-1759104000-1759190399@www.muw.edu
SUMMARY:Mississippi University for Women  Men's Golf at Lyon College (Ark.) Scots Fall Invitational
DESCRIPTION:Mississippi University for Women Men’s Golf at Lyon College (Ark.) Scots Fall Invitational
URL:https://www.muw.edu/event/mississippi-university-for-women-mens-golf-at-lyon-college-ark-scots-fall-invitational/
LOCATION:Batesville\, AR
CATEGORIES:Owls Athletics
END:VEVENT
BEGIN:VEVENT
DTSTART;VALUE=DATE:20250929
DTEND;VALUE=DATE:20250930
DTSTAMP:20260425T093411
CREATED:20250905T211612Z
LAST-MODIFIED:20250929T193437Z
UID:10011711-1759104000-1759190399@www.muw.edu
SUMMARY:Mississippi University for Women  Women's Golf at Lyon College (Ark.) Scots Fall Invitational
DESCRIPTION:Mississippi University for Women Women’s Golf at Lyon College (Ark.) Scots Fall Invitational
URL:https://www.muw.edu/event/mississippi-university-for-women-womens-golf-at-lyon-college-ark-scots-fall-invitational/
LOCATION:Batesville\, AR
CATEGORIES:Owls Athletics
END:VEVENT
BEGIN:VEVENT
DTSTART;TZID=America/Chicago:20250426T150000
DTEND;TZID=America/Chicago:20250426T180000
DTSTAMP:20260425T093411
CREATED:20250408T204148Z
LAST-MODIFIED:20250426T153431Z
UID:10011291-1745679600-1745690400@www.muw.edu
SUMMARY:Mississippi University for Women  Baseball at Lyon College (Ark.)
DESCRIPTION:Mississippi University for Women Baseball at Lyon College (Ark.)
URL:https://www.muw.edu/event/mississippi-university-for-women-baseball-at-lyon-college-ark-3/
LOCATION:Batesville\, AR
CATEGORIES:Owls Athletics
END:VEVENT
BEGIN:VEVENT
DTSTART;TZID=America/Chicago:20250426T120000
DTEND;TZID=America/Chicago:20250426T150000
DTSTAMP:20260425T093411
CREATED:20250408T204129Z
LAST-MODIFIED:20250426T153431Z
UID:10011290-1745668800-1745679600@www.muw.edu
SUMMARY:Mississippi University for Women  Baseball at Lyon College (Ark.)
DESCRIPTION:Mississippi University for Women Baseball at Lyon College (Ark.)
URL:https://www.muw.edu/event/mississippi-university-for-women-baseball-at-lyon-college-ark-2/
LOCATION:Batesville\, AR
CATEGORIES:Owls Athletics
END:VEVENT
BEGIN:VEVENT
DTSTART;VALUE=DATE:20250426
DTEND;VALUE=DATE:20250427
DTSTAMP:20260425T093411
CREATED:20250113T164020Z
LAST-MODIFIED:20250113T164020Z
UID:10011292-1745625600-1745711999@www.muw.edu
SUMMARY:Mississippi University for Women  Baseball at Lyon College (Ark.)
DESCRIPTION:Mississippi University for Women Baseball at Lyon College (Ark.)
URL:https://www.muw.edu/event/mississippi-university-for-women-baseball-at-lyon-college-ark/
LOCATION:Batesville\, AR
CATEGORIES:Owls Athletics
END:VEVENT
END:VCALENDAR