BEGIN:VCALENDAR
VERSION:2.0
PRODID:-//Department of Languages, Literature, &amp; Philosophy - ECPv6.15.17.1//NONSGML v1.0//EN
CALSCALE:GREGORIAN
METHOD:PUBLISH
X-WR-CALNAME:Department of Languages, Literature, &amp; Philosophy
X-ORIGINAL-URL:https://www.muw.edu/llp
X-WR-CALDESC:Events for Department of Languages, Literature, &amp; Philosophy
REFRESH-INTERVAL;VALUE=DURATION:PT1H
X-Robots-Tag:noindex
X-PUBLISHED-TTL:PT1H
BEGIN:VTIMEZONE
TZID:America/Chicago
BEGIN:DAYLIGHT
TZOFFSETFROM:-0600
TZOFFSETTO:-0500
TZNAME:CDT
DTSTART:20240310T080000
END:DAYLIGHT
BEGIN:STANDARD
TZOFFSETFROM:-0500
TZOFFSETTO:-0600
TZNAME:CST
DTSTART:20241103T070000
END:STANDARD
BEGIN:DAYLIGHT
TZOFFSETFROM:-0600
TZOFFSETTO:-0500
TZNAME:CDT
DTSTART:20250309T080000
END:DAYLIGHT
BEGIN:STANDARD
TZOFFSETFROM:-0500
TZOFFSETTO:-0600
TZNAME:CST
DTSTART:20251102T070000
END:STANDARD
BEGIN:DAYLIGHT
TZOFFSETFROM:-0600
TZOFFSETTO:-0500
TZNAME:CDT
DTSTART:20260308T080000
END:DAYLIGHT
BEGIN:STANDARD
TZOFFSETFROM:-0500
TZOFFSETTO:-0600
TZNAME:CST
DTSTART:20261101T070000
END:STANDARD
END:VTIMEZONE
BEGIN:VEVENT
DTSTART;TZID=America/Chicago:20251118T190000
DTEND;TZID=America/Chicago:20251120T220000
DTSTAMP:20260419T224135
CREATED:20251109T173445Z
LAST-MODIFIED:20251121T001934Z
UID:10001528-1763492400-1763676000@www.muw.edu
SUMMARY:Wild Wild West!
DESCRIPTION:Come out have a great time at the Wild Wild West event hosted by SPB! Come out and show off your line dancing skills and eat some good food! Hosted by: Student Programming Board Additional Information can be found at: https://muw.campuslabs.com/engage/event/11711163
URL:https://www.muw.edu/llp/event/wild-wild-west-2/
LOCATION:Stark Backyard
CATEGORIES:Social,Students
END:VEVENT
BEGIN:VEVENT
DTSTART;TZID=America/Chicago:20250423T200000
DTEND;TZID=America/Chicago:20250423T210000
DTSTAMP:20260419T224135
CREATED:20250415T141936Z
LAST-MODIFIED:20250423T143439Z
UID:10001396-1745438400-1745442000@www.muw.edu
SUMMARY:Silent Headphone Party
DESCRIPTION:Celebrate the end of the semester with a fun\, unique Silent Headphone Party! Grab your wireless headphones\, choose your favorite music channel\, and dance the night away with friends. It’s the perfect way to unwind and celebrate the end of the year! Hosted by: Residence Hall Association Additional Information can be found at: https://muw.campuslabs.com/engage/event/10726387
URL:https://www.muw.edu/llp/event/silent-headphone-party-2/
LOCATION:Stark Backyard
CATEGORIES:Social,Students
END:VEVENT
BEGIN:VEVENT
DTSTART;TZID=America/Chicago:20250423T200000
DTEND;TZID=America/Chicago:20250423T200000
DTSTAMP:20260419T224135
CREATED:20250330T141927Z
LAST-MODIFIED:20250423T143439Z
UID:10001338-1745438400-1745438400@www.muw.edu
SUMMARY:Silent Headphone Party
DESCRIPTION:
URL:https://www.muw.edu/llp/event/silent-headphone-party/
LOCATION:Stark Backyard
END:VEVENT
END:VCALENDAR