BEGIN:VCALENDAR
VERSION:2.0
PRODID:-//Department of Languages, Literature, &amp; Philosophy - ECPv6.15.17.1//NONSGML v1.0//EN
CALSCALE:GREGORIAN
METHOD:PUBLISH
X-WR-CALNAME:Department of Languages, Literature, &amp; Philosophy
X-ORIGINAL-URL:https://www.muw.edu/llp
X-WR-CALDESC:Events for Department of Languages, Literature, &amp; Philosophy
REFRESH-INTERVAL;VALUE=DURATION:PT1H
X-Robots-Tag:noindex
X-PUBLISHED-TTL:PT1H
BEGIN:VTIMEZONE
TZID:America/Chicago
BEGIN:DAYLIGHT
TZOFFSETFROM:-0600
TZOFFSETTO:-0500
TZNAME:CDT
DTSTART:20240310T080000
END:DAYLIGHT
BEGIN:STANDARD
TZOFFSETFROM:-0500
TZOFFSETTO:-0600
TZNAME:CST
DTSTART:20241103T070000
END:STANDARD
BEGIN:DAYLIGHT
TZOFFSETFROM:-0600
TZOFFSETTO:-0500
TZNAME:CDT
DTSTART:20250309T080000
END:DAYLIGHT
BEGIN:STANDARD
TZOFFSETFROM:-0500
TZOFFSETTO:-0600
TZNAME:CST
DTSTART:20251102T070000
END:STANDARD
BEGIN:DAYLIGHT
TZOFFSETFROM:-0600
TZOFFSETTO:-0500
TZNAME:CDT
DTSTART:20260308T080000
END:DAYLIGHT
BEGIN:STANDARD
TZOFFSETFROM:-0500
TZOFFSETTO:-0600
TZNAME:CST
DTSTART:20261101T070000
END:STANDARD
BEGIN:DAYLIGHT
TZOFFSETFROM:-0600
TZOFFSETTO:-0500
TZNAME:CDT
DTSTART:20270314T080000
END:DAYLIGHT
BEGIN:STANDARD
TZOFFSETFROM:-0500
TZOFFSETTO:-0600
TZNAME:CST
DTSTART:20271107T070000
END:STANDARD
END:VTIMEZONE
BEGIN:VEVENT
DTSTART;TZID=America/Chicago:20260122T193000
DTEND;TZID=America/Chicago:20260122T213000
DTSTAMP:20260419T210404
CREATED:20260122T053444Z
LAST-MODIFIED:20260122T053446Z
UID:10001596-1769110200-1769117400@www.muw.edu
SUMMARY:Mississippi University for Women  Men's Basketball at Webster University
DESCRIPTION:Mississippi University for Women Men’s Basketball at Webster University
URL:https://www.muw.edu/llp/event/mississippi-university-for-women-mens-basketball-at-webster-university-3/
LOCATION:St. Louis\, MO
CATEGORIES:Owls Athletics
END:VEVENT
BEGIN:VEVENT
DTSTART;TZID=America/Chicago:20260122T173000
DTEND;TZID=America/Chicago:20260122T193000
DTSTAMP:20260419T210404
CREATED:20260122T053443Z
LAST-MODIFIED:20260122T053446Z
UID:10001594-1769103000-1769110200@www.muw.edu
SUMMARY:Mississippi University for Women  Women's Basketball at Webster University
DESCRIPTION:Mississippi University for Women Women’s Basketball at Webster University
URL:https://www.muw.edu/llp/event/mississippi-university-for-women-womens-basketball-at-webster-university-3/
LOCATION:St. Louis\, MO
CATEGORIES:Owls Athletics
END:VEVENT
BEGIN:VEVENT
DTSTART;TZID=America/Chicago:20250504T140000
DTEND;TZID=America/Chicago:20250504T160000
DTSTAMP:20260419T210404
CREATED:20250426T144931Z
LAST-MODIFIED:20250504T144927Z
UID:10001428-1746367200-1746374400@www.muw.edu
SUMMARY:Mississippi University for Women  Softball at Webster University
DESCRIPTION:Mississippi University for Women Softball at Webster University
URL:https://www.muw.edu/llp/event/mississippi-university-for-women-softball-at-webster-university-4/
LOCATION:St. Louis\, MO
CATEGORIES:Owls Athletics
END:VEVENT
BEGIN:VEVENT
DTSTART;TZID=America/Chicago:20250504T120000
DTEND;TZID=America/Chicago:20250504T140000
DTSTAMP:20260419T210404
CREATED:20250426T144931Z
LAST-MODIFIED:20250504T144927Z
UID:10001427-1746360000-1746367200@www.muw.edu
SUMMARY:Mississippi University for Women  Softball at Webster University
DESCRIPTION:Mississippi University for Women Softball at Webster University
URL:https://www.muw.edu/llp/event/mississippi-university-for-women-softball-at-webster-university-3/
LOCATION:St. Louis\, MO
CATEGORIES:Owls Athletics
END:VEVENT
BEGIN:VEVENT
DTSTART;TZID=America/Chicago:20250503T140000
DTEND;TZID=America/Chicago:20250503T160000
DTSTAMP:20260419T210404
CREATED:20250423T143439Z
LAST-MODIFIED:20250425T144954Z
UID:10001417-1746280800-1746288000@www.muw.edu
SUMMARY:Mississippi University for Women  Softball at Webster University
DESCRIPTION:Mississippi University for Women Softball at Webster University
URL:https://www.muw.edu/llp/event/mississippi-university-for-women-softball-at-webster-university-2/
LOCATION:St. Louis\, MO
CATEGORIES:Owls Athletics
END:VEVENT
BEGIN:VEVENT
DTSTART;TZID=America/Chicago:20250503T120000
DTEND;TZID=America/Chicago:20250503T140000
DTSTAMP:20260419T210404
CREATED:20250423T143439Z
LAST-MODIFIED:20250425T144954Z
UID:10001415-1746273600-1746280800@www.muw.edu
SUMMARY:Mississippi University for Women  Softball at Webster University
DESCRIPTION:Mississippi University for Women Softball at Webster University
URL:https://www.muw.edu/llp/event/mississippi-university-for-women-softball-at-webster-university/
LOCATION:St. Louis\, MO
CATEGORIES:Owls Athletics
END:VEVENT
END:VCALENDAR