BEGIN:VCALENDAR
VERSION:2.0
PRODID:-//Department of Languages, Literature, &amp; Philosophy - ECPv6.15.17.1//NONSGML v1.0//EN
CALSCALE:GREGORIAN
METHOD:PUBLISH
X-WR-CALNAME:Department of Languages, Literature, &amp; Philosophy
X-ORIGINAL-URL:https://www.muw.edu/llp
X-WR-CALDESC:Events for Department of Languages, Literature, &amp; Philosophy
REFRESH-INTERVAL;VALUE=DURATION:PT1H
X-Robots-Tag:noindex
X-PUBLISHED-TTL:PT1H
BEGIN:VTIMEZONE
TZID:America/Chicago
BEGIN:DAYLIGHT
TZOFFSETFROM:-0600
TZOFFSETTO:-0500
TZNAME:CDT
DTSTART:20240310T080000
END:DAYLIGHT
BEGIN:STANDARD
TZOFFSETFROM:-0500
TZOFFSETTO:-0600
TZNAME:CST
DTSTART:20241103T070000
END:STANDARD
BEGIN:DAYLIGHT
TZOFFSETFROM:-0600
TZOFFSETTO:-0500
TZNAME:CDT
DTSTART:20250309T080000
END:DAYLIGHT
BEGIN:STANDARD
TZOFFSETFROM:-0500
TZOFFSETTO:-0600
TZNAME:CST
DTSTART:20251102T070000
END:STANDARD
BEGIN:DAYLIGHT
TZOFFSETFROM:-0600
TZOFFSETTO:-0500
TZNAME:CDT
DTSTART:20260308T080000
END:DAYLIGHT
BEGIN:STANDARD
TZOFFSETFROM:-0500
TZOFFSETTO:-0600
TZNAME:CST
DTSTART:20261101T070000
END:STANDARD
END:VTIMEZONE
BEGIN:VEVENT
DTSTART;TZID=America/Chicago:20251106T193000
DTEND;TZID=America/Chicago:20251106T203000
DTSTAMP:20260419T155827
CREATED:20251102T060526Z
LAST-MODIFIED:20251106T074927Z
UID:10001479-1762457400-1762461000@www.muw.edu
SUMMARY:Senior Trumpet Recital - Zahrya Harrison
DESCRIPTION:Join the W Department of Music as we celebrate senior music major\, Zahrya Harrison and her academic journey! This event is free and open to the public.
URL:https://www.muw.edu/llp/event/senior-trumpet-recital-zahrya-harrison/
LOCATION:Kossen Auditorium (Inside Poindexter Hall)
CATEGORIES:Community Events,Concert,Concerts,Cultural Calendar,Music
ATTACH;FMTTYPE=image/jpeg:https://www.muw.edu/llp/wp-content/uploads/sites/18/2025/01/Poindexter-Night-scaled-RbVk8w.tmp_-PH6JfB.tmp_.jpg
END:VEVENT
BEGIN:VEVENT
DTSTART;TZID=America/Chicago:20251104T193000
DTEND;TZID=America/Chicago:20251104T203000
DTSTAMP:20260419T155827
CREATED:20251102T060525Z
LAST-MODIFIED:20251104T073428Z
UID:10001476-1762284600-1762288200@www.muw.edu
SUMMARY:W Chamber Singers Fall Concert
DESCRIPTION:The W Department of Music invites you to join the W Chamber Singers\, conducted by Dr. William Reber and Prof. Zane Lynn for their fall performance! This event is free and open to the public.
URL:https://www.muw.edu/llp/event/w-chamber-singers-fall-concert/
LOCATION:Kossen Auditorium (Inside Poindexter Hall)
CATEGORIES:Concert,Concerts,Cultural Calendar,Music
ATTACH;FMTTYPE=image/jpeg:https://www.muw.edu/llp/wp-content/uploads/sites/18/2025/11/YT-Thumbnail-W-Chamber-Singers-Fall24-Stair-Photo-Gr2pR1-HIxqHY.jpg
END:VEVENT
BEGIN:VEVENT
DTSTART;TZID=America/Chicago:20251103T193000
DTEND;TZID=America/Chicago:20251103T203000
DTSTAMP:20260419T155827
CREATED:20251102T060523Z
LAST-MODIFIED:20251103T073427Z
UID:10001473-1762198200-1762201800@www.muw.edu
SUMMARY:The Brass-Bow Trio Recital
DESCRIPTION:Experience an extraordinary fusion of musical artistry in The Brass-Bow Trio Recital featuring the incredible talents of Dr. Douglas Mark on trombone\, Anne-Gaëlle Ravetto on violin\, and Jung-Won Shin on piano. This event is free and open to the public.
URL:https://www.muw.edu/llp/event/the-brass-bow-trio-recital/
LOCATION:Kossen Auditorium (Inside Poindexter Hall)
CATEGORIES:Concert,Concerts,Cultural Calendar,Music
ATTACH;FMTTYPE=image/jpeg:https://www.muw.edu/llp/wp-content/uploads/sites/18/2025/11/Sills-Auditorium-facing-Audience-scaled-y5hKdR-ZFCgkb.jpg
END:VEVENT
BEGIN:VEVENT
DTSTART;TZID=America/Chicago:20250429T193000
DTEND;TZID=America/Chicago:20250429T203000
DTSTAMP:20260419T155827
CREATED:20250405T142008Z
LAST-MODIFIED:20250429T144931Z
UID:10001348-1745955000-1745958600@www.muw.edu
SUMMARY:The W Jazz Ensemble Spring Concert
DESCRIPTION:You are invited to join the W Department of Music for our spring semester’s Jazz Ensemble Concert! This event is free and open to the public.
URL:https://www.muw.edu/llp/event/the-w-jazz-ensemble-spring-concert-2/
LOCATION:Kossen Auditorium (Inside Poindexter Hall)
CATEGORIES:Concert,Concerts,Music
ATTACH;FMTTYPE=image/jpeg:https://www.muw.edu/llp/wp-content/uploads/sites/18/2025/04/20240405-DSC00057-UkLUBp.tmp_-Ejb1ZJ.tmp_.jpg
END:VEVENT
BEGIN:VEVENT
DTSTART;TZID=America/Chicago:20250428T193000
DTEND;TZID=America/Chicago:20250428T203000
DTSTAMP:20260419T155827
CREATED:20250405T142008Z
LAST-MODIFIED:20250428T144940Z
UID:10001347-1745868600-1745872200@www.muw.edu
SUMMARY:The W Wind Ensemble Spring Concert
DESCRIPTION:You are invited to join the W Department of Music for our spring semester’s Wind Ensemble Concert! This event is free and open to the public.
URL:https://www.muw.edu/llp/event/the-w-wind-ensemble-spring-concert-3/
LOCATION:Kossen Auditorium (Inside Poindexter Hall)
CATEGORIES:Concert,Concerts,Music
ATTACH;FMTTYPE=image/jpeg:https://www.muw.edu/llp/wp-content/uploads/sites/18/2023/11/Wind-Ensemble-Spring-22-Concert-H2huEv.tmp_-OL9uEY.tmp_.jpg
END:VEVENT
BEGIN:VEVENT
DTSTART;TZID=America/Chicago:20250428T080000
DTEND;TZID=America/Chicago:20250428T170000
DTSTAMP:20260419T155827
CREATED:20250404T141928Z
LAST-MODIFIED:20250428T144940Z
UID:10001346-1745827200-1745859600@www.muw.edu
SUMMARY:The W Wind Ensemble Spring Concert
DESCRIPTION:You are invited to join the W Department of Music for our spring semester’s Wind Ensemble Concert! This event is free and open to the public.
URL:https://www.muw.edu/llp/event/the-w-wind-ensemble-spring-concert-2/
LOCATION:Kossen Auditorium (Inside Poindexter Hall)
CATEGORIES:Concert,Concerts,Music
ATTACH;FMTTYPE=image/jpeg:https://www.muw.edu/llp/wp-content/uploads/sites/18/2023/11/Wind-Ensemble-Spring-22-Concert-H2huEv.tmp_-OL9uEY.tmp_.jpg
END:VEVENT
BEGIN:VEVENT
DTSTART;VALUE=DATE:20250425
DTEND;VALUE=DATE:20250427
DTSTAMP:20260419T155827
CREATED:20250401T141932Z
LAST-MODIFIED:20250426T144931Z
UID:10001342-1745539200-1745711999@www.muw.edu
SUMMARY:Opera Scenes
DESCRIPTION:The W Department of Music invites you to a fantastical performance\, full of drama and engaging scenes from classic musicals and operas. Scenes are presented fully staged and costumed with piano accompaniment. Performances take place in Kossen Auditorium in Poindexter Hall at the W campus on April 25 and 26 at 7:30. Livestream for this concert can be found here on our Virtual Concert Series page. Performances are free and open to the public.
URL:https://www.muw.edu/llp/event/opera-scenes-3/
LOCATION:Kossen Auditorium (Inside Poindexter Hall)
CATEGORIES:Concert,Concerts,Music
ATTACH;FMTTYPE=image/jpeg:https://www.muw.edu/llp/wp-content/uploads/sites/18/2024/04/Candide-Group-Shot-Opera-Scenes-Spring-23-ogaVfy.tmp_-EnbTFK.tmp_.jpg
END:VEVENT
END:VCALENDAR