BEGIN:VCALENDAR
VERSION:2.0
PRODID:-//Department of Languages, Literature, &amp; Philosophy - ECPv6.15.17.1//NONSGML v1.0//EN
CALSCALE:GREGORIAN
METHOD:PUBLISH
X-ORIGINAL-URL:https://www.muw.edu/llp
X-WR-CALDESC:Events for Department of Languages, Literature, &amp; Philosophy
REFRESH-INTERVAL;VALUE=DURATION:PT1H
X-Robots-Tag:noindex
X-PUBLISHED-TTL:PT1H
BEGIN:VTIMEZONE
TZID:America/Chicago
BEGIN:DAYLIGHT
TZOFFSETFROM:-0600
TZOFFSETTO:-0500
TZNAME:CDT
DTSTART:20240310T080000
END:DAYLIGHT
BEGIN:STANDARD
TZOFFSETFROM:-0500
TZOFFSETTO:-0600
TZNAME:CST
DTSTART:20241103T070000
END:STANDARD
BEGIN:DAYLIGHT
TZOFFSETFROM:-0600
TZOFFSETTO:-0500
TZNAME:CDT
DTSTART:20250309T080000
END:DAYLIGHT
BEGIN:STANDARD
TZOFFSETFROM:-0500
TZOFFSETTO:-0600
TZNAME:CST
DTSTART:20251102T070000
END:STANDARD
BEGIN:DAYLIGHT
TZOFFSETFROM:-0600
TZOFFSETTO:-0500
TZNAME:CDT
DTSTART:20260308T080000
END:DAYLIGHT
BEGIN:STANDARD
TZOFFSETFROM:-0500
TZOFFSETTO:-0600
TZNAME:CST
DTSTART:20261101T070000
END:STANDARD
BEGIN:DAYLIGHT
TZOFFSETFROM:-0600
TZOFFSETTO:-0500
TZNAME:CDT
DTSTART:20270314T080000
END:DAYLIGHT
BEGIN:STANDARD
TZOFFSETFROM:-0500
TZOFFSETTO:-0600
TZNAME:CST
DTSTART:20271107T070000
END:STANDARD
END:VTIMEZONE
BEGIN:VEVENT
DTSTART;TZID=America/Chicago:20260301T120000
DTEND;TZID=America/Chicago:20260301T150000
DTSTAMP:20260419T120648
CREATED:20260223T064931Z
LAST-MODIFIED:20260301T064934Z
UID:10001656-1772366400-1772377200@www.muw.edu
SUMMARY:Mississippi University for Women  Women's Tennis at Millsaps College
DESCRIPTION:Mississippi University for Women Women’s Tennis at Millsaps College
URL:https://www.muw.edu/llp/event/mississippi-university-for-women-womens-tennis-at-millsaps-college/
LOCATION:Jackson\, MS
CATEGORIES:Owls Athletics
END:VEVENT
BEGIN:VEVENT
DTSTART;TZID=America/Chicago:20260301T120000
DTEND;TZID=America/Chicago:20260301T150000
DTSTAMP:20260419T120648
CREATED:20260222T064930Z
LAST-MODIFIED:20260301T064934Z
UID:10001655-1772366400-1772377200@www.muw.edu
SUMMARY:Mississippi University for Women  Men's Tennis at Millsaps College
DESCRIPTION:Mississippi University for Women Men’s Tennis at Millsaps College
URL:https://www.muw.edu/llp/event/mississippi-university-for-women-mens-tennis-at-millsaps-college/
LOCATION:Jackson\, MS
CATEGORIES:Owls Athletics
END:VEVENT
BEGIN:VEVENT
DTSTART;TZID=America/Chicago:20260301T120000
DTEND;TZID=America/Chicago:20260301T140000
DTSTAMP:20260419T120648
CREATED:20260222T064930Z
LAST-MODIFIED:20260301T064934Z
UID:10001654-1772366400-1772373600@www.muw.edu
SUMMARY:Mississippi University for Women  Softball at Millsaps College
DESCRIPTION:Mississippi University for Women Softball at Millsaps College
URL:https://www.muw.edu/llp/event/mississippi-university-for-women-softball-at-millsaps-college-10/
LOCATION:Jackson\, MS
CATEGORIES:Owls Athletics
END:VEVENT
BEGIN:VEVENT
DTSTART;VALUE=DATE:20260301
DTEND;VALUE=DATE:20260302
DTSTAMP:20260419T120648
CREATED:20260222T064930Z
LAST-MODIFIED:20260301T064934Z
UID:10001653-1772323200-1772409599@www.muw.edu
SUMMARY:Mississippi University for Women  Softball at Millsaps College
DESCRIPTION:Mississippi University for Women Softball at Millsaps College
URL:https://www.muw.edu/llp/event/mississippi-university-for-women-softball-at-millsaps-college-9/
LOCATION:Jackson\, MS
CATEGORIES:Owls Athletics
END:VEVENT
BEGIN:VEVENT
DTSTART;TZID=America/Chicago:20260228T140000
DTEND;TZID=America/Chicago:20260228T160000
DTSTAMP:20260419T120648
CREATED:20260222T064930Z
LAST-MODIFIED:20260228T064925Z
UID:10001652-1772287200-1772294400@www.muw.edu
SUMMARY:Mississippi University for Women  Softball at Millsaps College
DESCRIPTION:Mississippi University for Women Softball at Millsaps College
URL:https://www.muw.edu/llp/event/mississippi-university-for-women-softball-at-millsaps-college-8/
LOCATION:Jackson\, MS
CATEGORIES:Owls Athletics
END:VEVENT
BEGIN:VEVENT
DTSTART;TZID=America/Chicago:20260228T120000
DTEND;TZID=America/Chicago:20260228T140000
DTSTAMP:20260419T120648
CREATED:20260221T064944Z
LAST-MODIFIED:20260228T064925Z
UID:10001648-1772280000-1772287200@www.muw.edu
SUMMARY:Mississippi University for Women  Softball at Millsaps College
DESCRIPTION:Mississippi University for Women Softball at Millsaps College
URL:https://www.muw.edu/llp/event/mississippi-university-for-women-softball-at-millsaps-college-7/
LOCATION:Jackson\, MS
CATEGORIES:Owls Athletics
END:VEVENT
BEGIN:VEVENT
DTSTART;TZID=America/Chicago:20251121T180000
DTEND;TZID=America/Chicago:20251121T200000
DTSTAMP:20260419T120648
CREATED:20251118T000430Z
LAST-MODIFIED:20251122T001930Z
UID:10001532-1763748000-1763755200@www.muw.edu
SUMMARY:Mississippi University for Women  Men's Basketball at Millsaps College
DESCRIPTION:Mississippi University for Women Men’s Basketball at Millsaps College
URL:https://www.muw.edu/llp/event/mississippi-university-for-women-mens-basketball-at-millsaps-college/
LOCATION:Jackson\, MS
CATEGORIES:Owls Athletics
END:VEVENT
BEGIN:VEVENT
DTSTART;TZID=America/Chicago:20251108T150000
DTEND;TZID=America/Chicago:20251108T170000
DTSTAMP:20260419T120648
CREATED:20251108T173031Z
LAST-MODIFIED:20251108T173034Z
UID:10001511-1762614000-1762621200@www.muw.edu
SUMMARY:Mississippi University for Women  Women's Basketball at Millsaps College
DESCRIPTION:Mississippi University for Women Women’s Basketball at Millsaps CollegeStreaming Video: https://gomajors.com/sports/2023/7/25/millsaps-video.aspx
URL:https://www.muw.edu/llp/event/mississippi-university-for-women-womens-basketball-at-millsaps-college-3/
LOCATION:Jackson\, MS
CATEGORIES:Owls Athletics
END:VEVENT
END:VCALENDAR