BEGIN:VCALENDAR
VERSION:2.0
PRODID:-//Department of Languages, Literature, &amp; Philosophy - ECPv6.15.17.1//NONSGML v1.0//EN
CALSCALE:GREGORIAN
METHOD:PUBLISH
X-ORIGINAL-URL:https://www.muw.edu/llp
X-WR-CALDESC:Events for Department of Languages, Literature, &amp; Philosophy
REFRESH-INTERVAL;VALUE=DURATION:PT1H
X-Robots-Tag:noindex
X-PUBLISHED-TTL:PT1H
BEGIN:VTIMEZONE
TZID:America/Chicago
BEGIN:DAYLIGHT
TZOFFSETFROM:-0600
TZOFFSETTO:-0500
TZNAME:CDT
DTSTART:20240310T080000
END:DAYLIGHT
BEGIN:STANDARD
TZOFFSETFROM:-0500
TZOFFSETTO:-0600
TZNAME:CST
DTSTART:20241103T070000
END:STANDARD
BEGIN:DAYLIGHT
TZOFFSETFROM:-0600
TZOFFSETTO:-0500
TZNAME:CDT
DTSTART:20250309T080000
END:DAYLIGHT
BEGIN:STANDARD
TZOFFSETFROM:-0500
TZOFFSETTO:-0600
TZNAME:CST
DTSTART:20251102T070000
END:STANDARD
BEGIN:DAYLIGHT
TZOFFSETFROM:-0600
TZOFFSETTO:-0500
TZNAME:CDT
DTSTART:20260308T080000
END:DAYLIGHT
BEGIN:STANDARD
TZOFFSETFROM:-0500
TZOFFSETTO:-0600
TZNAME:CST
DTSTART:20261101T070000
END:STANDARD
BEGIN:DAYLIGHT
TZOFFSETFROM:-0600
TZOFFSETTO:-0500
TZNAME:CDT
DTSTART:20270314T080000
END:DAYLIGHT
BEGIN:STANDARD
TZOFFSETFROM:-0500
TZOFFSETTO:-0600
TZNAME:CST
DTSTART:20271107T070000
END:STANDARD
END:VTIMEZONE
BEGIN:VEVENT
DTSTART;TZID=America/Chicago:20260205T180000
DTEND;TZID=America/Chicago:20260205T190000
DTSTAMP:20260419T175329
CREATED:20260115T051928Z
LAST-MODIFIED:20260205T054930Z
UID:10001590-1770314400-1770318000@www.muw.edu
SUMMARY:An Evening of Piano Music\, with Dr. Julia Mortyakova and Dr. Valentin Bogdan
DESCRIPTION:Dr. Julia Mortyakova\, Professor and Department Chair for Music\, and Dr. Valentin Bogdan\, Professor of Music\, will be performing selections on the piano. This is the first Honors Forum Series of the Spring 2026 semester.
URL:https://www.muw.edu/llp/event/an-evening-of-piano-music-with-dr-julia-mortyakova-and-dr-valentin-bogdan/
LOCATION:Connie Sills Kossen Auditorium in Poindexter Hall
CATEGORIES:Arts,Campus Event,Community Events,Concert,Concerts,Cultural Calendar,Honors Forum,Music,Students
ATTACH;FMTTYPE=image/jpeg:https://www.muw.edu/llp/wp-content/uploads/sites/18/2026/01/Julia-Mortyakova-Valentin-Bogdan-Piano-Duo-D3yMsy.jpg
END:VEVENT
BEGIN:VEVENT
DTSTART;TZID=America/Chicago:20251025T093000
DTEND;TZID=America/Chicago:20251025T123000
DTSTAMP:20260419T175329
CREATED:20250505T150429Z
LAST-MODIFIED:20250616T164930Z
UID:10001454-1761384600-1761395400@www.muw.edu
SUMMARY:Eudora Welty Writers' Symposium\, Saturday AM
DESCRIPTION:Details TBA
URL:https://www.muw.edu/llp/event/eudora-welty-writers-symposium-saturday-am/
LOCATION:Connie Sills Kossen Auditorium in Poindexter Hall
CATEGORIES:Campus Event,Community Events,Cultural Calendar,Reading
END:VEVENT
BEGIN:VEVENT
DTSTART;TZID=America/Chicago:20251024T133000
DTEND;TZID=America/Chicago:20251024T160000
DTSTAMP:20260419T175329
CREATED:20250505T150429Z
LAST-MODIFIED:20250616T164930Z
UID:10001453-1761312600-1761321600@www.muw.edu
SUMMARY:Eudora Welty Writers' Symposium\, Friday PM
DESCRIPTION:Details TBA
URL:https://www.muw.edu/llp/event/eudora-welty-writers-symposium-friday-pm/
LOCATION:Connie Sills Kossen Auditorium in Poindexter Hall
CATEGORIES:Campus Event,Community Events,Cultural Calendar,Reading
END:VEVENT
BEGIN:VEVENT
DTSTART;TZID=America/Chicago:20251024T090000
DTEND;TZID=America/Chicago:20251024T120000
DTSTAMP:20260419T175329
CREATED:20250504T144927Z
LAST-MODIFIED:20250616T164930Z
UID:10001452-1761296400-1761307200@www.muw.edu
SUMMARY:Eudora Welty Writers' Symposium\, Friday AM
DESCRIPTION:Details TBA
URL:https://www.muw.edu/llp/event/eudora-welty-writers-symposium-friday-am/
LOCATION:Connie Sills Kossen Auditorium in Poindexter Hall
CATEGORIES:Campus Event,Community Events,Cultural Calendar,Reading
END:VEVENT
BEGIN:VEVENT
DTSTART;TZID=America/Chicago:20251023T193000
DTEND;TZID=America/Chicago:20251023T210000
DTSTAMP:20260419T175329
CREATED:20250504T144927Z
LAST-MODIFIED:20250616T164930Z
UID:10001451-1761247800-1761253200@www.muw.edu
SUMMARY:Eudora Welty Writers' Symposium Keynote
DESCRIPTION:Details TBA
URL:https://www.muw.edu/llp/event/eudora-welty-writers-symposium-keynote/
LOCATION:Connie Sills Kossen Auditorium in Poindexter Hall
CATEGORIES:Campus Event,Community Events,Cultural Calendar,Reading
END:VEVENT
END:VCALENDAR