BEGIN:VCALENDAR
VERSION:2.0
PRODID:-//Department of Languages, Literature, &amp; Philosophy - ECPv6.15.17.1//NONSGML v1.0//EN
CALSCALE:GREGORIAN
METHOD:PUBLISH
X-ORIGINAL-URL:https://www.muw.edu/llp
X-WR-CALDESC:Events for Department of Languages, Literature, &amp; Philosophy
REFRESH-INTERVAL;VALUE=DURATION:PT1H
X-Robots-Tag:noindex
X-PUBLISHED-TTL:PT1H
BEGIN:VTIMEZONE
TZID:America/Chicago
BEGIN:DAYLIGHT
TZOFFSETFROM:-0600
TZOFFSETTO:-0500
TZNAME:CDT
DTSTART:20240310T080000
END:DAYLIGHT
BEGIN:STANDARD
TZOFFSETFROM:-0500
TZOFFSETTO:-0600
TZNAME:CST
DTSTART:20241103T070000
END:STANDARD
BEGIN:DAYLIGHT
TZOFFSETFROM:-0600
TZOFFSETTO:-0500
TZNAME:CDT
DTSTART:20250309T080000
END:DAYLIGHT
BEGIN:STANDARD
TZOFFSETFROM:-0500
TZOFFSETTO:-0600
TZNAME:CST
DTSTART:20251102T070000
END:STANDARD
BEGIN:DAYLIGHT
TZOFFSETFROM:-0600
TZOFFSETTO:-0500
TZNAME:CDT
DTSTART:20260308T080000
END:DAYLIGHT
BEGIN:STANDARD
TZOFFSETFROM:-0500
TZOFFSETTO:-0600
TZNAME:CST
DTSTART:20261101T070000
END:STANDARD
BEGIN:DAYLIGHT
TZOFFSETFROM:-0600
TZOFFSETTO:-0500
TZNAME:CDT
DTSTART:20270314T080000
END:DAYLIGHT
BEGIN:STANDARD
TZOFFSETFROM:-0500
TZOFFSETTO:-0600
TZNAME:CST
DTSTART:20271107T070000
END:STANDARD
END:VTIMEZONE
BEGIN:VEVENT
DTSTART;TZID=America/Chicago:20260410T140000
DTEND;TZID=America/Chicago:20260410T150000
DTSTAMP:20260419T154553
CREATED:20260108T050430Z
LAST-MODIFIED:20260320T084928Z
UID:10001572-1775829600-1775833200@www.muw.edu
SUMMARY:Music in the Library
DESCRIPTION:Enjoy FREE live performances in the Fant Memorial Library lobby\, featuring MUW’s amazing Music Department!
URL:https://www.muw.edu/llp/event/music-in-the-library-17/
LOCATION:Northwest Lobby
ORGANIZER;CN="Anita Pintado":MAILTO:ampintado@muw.edu
END:VEVENT
BEGIN:VEVENT
DTSTART;TZID=America/Chicago:20260327T140000
DTEND;TZID=America/Chicago:20260327T150000
DTSTAMP:20260419T154553
CREATED:20260108T050430Z
LAST-MODIFIED:20260320T084928Z
UID:10001571-1774620000-1774623600@www.muw.edu
SUMMARY:Music in the Library
DESCRIPTION:Enjoy FREE live performances in the Fant Memorial Library lobby\, featuring MUW’s amazing Music Department!
URL:https://www.muw.edu/llp/event/music-in-the-library-16/
LOCATION:Northwest Lobby
ORGANIZER;CN="Anita Pintado":MAILTO:ampintado@muw.edu
END:VEVENT
BEGIN:VEVENT
DTSTART;TZID=America/Chicago:20260206T140000
DTEND;TZID=America/Chicago:20260206T150000
DTSTAMP:20260419T154553
CREATED:20260108T050430Z
LAST-MODIFIED:20260206T060427Z
UID:10001570-1770386400-1770390000@www.muw.edu
SUMMARY:Music in the Library
DESCRIPTION:Enjoy FREE live performances in the Fant Memorial Library lobby\, featuring MUW’s amazing Music Department!
URL:https://www.muw.edu/llp/event/music-in-the-library-15/
LOCATION:Northwest Lobby
ORGANIZER;CN="Anita Pintado":MAILTO:ampintado@muw.edu
END:VEVENT
BEGIN:VEVENT
DTSTART;TZID=America/Chicago:20251210T160000
DTEND;TZID=America/Chicago:20251210T170000
DTSTAMP:20260419T154553
CREATED:20251102T060529Z
LAST-MODIFIED:20251210T001936Z
UID:10001497-1765382400-1765386000@www.muw.edu
SUMMARY:Women's College colloquium
DESCRIPTION:
URL:https://www.muw.edu/llp/event/womens-college-colloquium-5/
LOCATION:Conference Room B
ORGANIZER;CN="Anita Pintado":MAILTO:ampintado@muw.edu
END:VEVENT
BEGIN:VEVENT
DTSTART;TZID=America/Chicago:20251203T160000
DTEND;TZID=America/Chicago:20251203T170000
DTSTAMP:20260419T154553
CREATED:20251102T060529Z
LAST-MODIFIED:20251203T001930Z
UID:10001495-1764777600-1764781200@www.muw.edu
SUMMARY:Women's College colloquium
DESCRIPTION:
URL:https://www.muw.edu/llp/event/womens-college-colloquium-4/
LOCATION:Conference Room B
ORGANIZER;CN="Anita Pintado":MAILTO:ampintado@muw.edu
END:VEVENT
BEGIN:VEVENT
DTSTART;TZID=America/Chicago:20251126T160000
DTEND;TZID=America/Chicago:20251126T170000
DTSTAMP:20260419T154553
CREATED:20251102T060528Z
LAST-MODIFIED:20251126T001940Z
UID:10001493-1764172800-1764176400@www.muw.edu
SUMMARY:Women's College colloquium
DESCRIPTION:
URL:https://www.muw.edu/llp/event/womens-college-colloquium-3/
LOCATION:Conference Room B
ORGANIZER;CN="Anita Pintado":MAILTO:ampintado@muw.edu
END:VEVENT
BEGIN:VEVENT
DTSTART;TZID=America/Chicago:20251120T180000
DTEND;TZID=America/Chicago:20251120T203000
DTSTAMP:20260419T154553
CREATED:20251120T001926Z
LAST-MODIFIED:20251121T001934Z
UID:10001544-1763661600-1763670600@www.muw.edu
SUMMARY:Honors Research Symposium
DESCRIPTION:The second session of the Honors College Research Symposium will feature students presenting the proposal stages of their year-long Honors research projects as well as their final projects.   The following students will be presenting the final phases of their research: Audrey Mitchell\, “Hyperbolic Space Filling Curves” Syniah L. Lester\, “Exploring the Relationship between FAFSA Form and College Students’ Understanding of Their Federal Financial Aid Rewards”   The following students will be presenting poster presentations on their work in progress: Richard G. Fuller\, “Why Athletes Lose Wealth and How to Build Lasting Financial Security” Emma Horton\, “Investigating the Role of ZNF493 in Colorectal Cancer” Kimi Norway\, “Comprehensive Genome Annotation of Bacteriophage Phrampa: Insights into Gene Organization and Function” Kat Lewis\, “Voice Therapy and Perceived Gender Identity” Izabella Stanphill\, “The New Woman and Impure Sexuality in Dracula”   Questions about this event can be sent via email to honors@muw.edu.
URL:https://www.muw.edu/llp/event/honors-research-symposium-3/
LOCATION:Nissan Auditorium – Parkinson Hall
ORGANIZER;CN="Anita Pintado":MAILTO:ampintado@muw.edu
END:VEVENT
BEGIN:VEVENT
DTSTART;TZID=America/Chicago:20251120T170000
DTEND;TZID=America/Chicago:20251120T203000
DTSTAMP:20260419T154553
CREATED:20250508T151926Z
LAST-MODIFIED:20251119T001940Z
UID:10001461-1763658000-1763670600@www.muw.edu
SUMMARY:Honors Research Symposium
DESCRIPTION:
URL:https://www.muw.edu/llp/event/honors-research-symposium-2/
LOCATION:Gail P. Gunter Multi-Purpose Room
ORGANIZER;CN="Anita Pintado":MAILTO:ampintado@muw.edu
END:VEVENT
BEGIN:VEVENT
DTSTART;TZID=America/Chicago:20251119T160000
DTEND;TZID=America/Chicago:20251119T170000
DTSTAMP:20260419T154553
CREATED:20251102T060528Z
LAST-MODIFIED:20251119T001940Z
UID:10001490-1763568000-1763571600@www.muw.edu
SUMMARY:Women's College colloquium
DESCRIPTION:
URL:https://www.muw.edu/llp/event/womens-college-colloquium-2/
LOCATION:Conference Room B
ORGANIZER;CN="Anita Pintado":MAILTO:ampintado@muw.edu
END:VEVENT
BEGIN:VEVENT
DTSTART;TZID=America/Chicago:20251113T170000
DTEND;TZID=America/Chicago:20251113T203000
DTSTAMP:20260419T154553
CREATED:20250508T151925Z
LAST-MODIFIED:20251110T174929Z
UID:10001460-1763053200-1763065800@www.muw.edu
SUMMARY:Honors Research Symposium
DESCRIPTION:
URL:https://www.muw.edu/llp/event/honors-research-symposium/
LOCATION:Gail P. Gunter Multi-Purpose Room
ORGANIZER;CN="Anita Pintado":MAILTO:ampintado@muw.edu
END:VEVENT
BEGIN:VEVENT
DTSTART;TZID=America/Chicago:20251105T160000
DTEND;TZID=America/Chicago:20251105T170000
DTSTAMP:20260419T154553
CREATED:20251102T060525Z
LAST-MODIFIED:20251105T075041Z
UID:10001477-1762358400-1762362000@www.muw.edu
SUMMARY:Women's College colloquium
DESCRIPTION:
URL:https://www.muw.edu/llp/event/womens-college-colloquium/
LOCATION:Conference Room B
ORGANIZER;CN="Anita Pintado":MAILTO:ampintado@muw.edu
END:VEVENT
BEGIN:VEVENT
DTSTART;TZID=America/Chicago:20251103T110000
DTEND;TZID=America/Chicago:20251103T120000
DTSTAMP:20260419T154553
CREATED:20251102T060523Z
LAST-MODIFIED:20251103T073427Z
UID:10001472-1762167600-1762171200@www.muw.edu
SUMMARY:Reproduction\, Ethics\, and the Law
DESCRIPTION:
URL:https://www.muw.edu/llp/event/reproduction-ethics-and-the-law/
LOCATION:Conference Room B
ORGANIZER;CN="Anita Pintado":MAILTO:ampintado@muw.edu
END:VEVENT
END:VCALENDAR