BEGIN:VCALENDAR
VERSION:2.0
PRODID:-//Department of Languages, Literature, &amp; Philosophy - ECPv6.15.17.1//NONSGML v1.0//EN
CALSCALE:GREGORIAN
METHOD:PUBLISH
X-WR-CALNAME:Department of Languages, Literature, &amp; Philosophy
X-ORIGINAL-URL:https://www.muw.edu/llp
X-WR-CALDESC:Events for Department of Languages, Literature, &amp; Philosophy
REFRESH-INTERVAL;VALUE=DURATION:PT1H
X-Robots-Tag:noindex
X-PUBLISHED-TTL:PT1H
BEGIN:VTIMEZONE
TZID:America/Chicago
BEGIN:DAYLIGHT
TZOFFSETFROM:-0600
TZOFFSETTO:-0500
TZNAME:CDT
DTSTART:20240310T080000
END:DAYLIGHT
BEGIN:STANDARD
TZOFFSETFROM:-0500
TZOFFSETTO:-0600
TZNAME:CST
DTSTART:20241103T070000
END:STANDARD
BEGIN:DAYLIGHT
TZOFFSETFROM:-0600
TZOFFSETTO:-0500
TZNAME:CDT
DTSTART:20250309T080000
END:DAYLIGHT
BEGIN:STANDARD
TZOFFSETFROM:-0500
TZOFFSETTO:-0600
TZNAME:CST
DTSTART:20251102T070000
END:STANDARD
BEGIN:DAYLIGHT
TZOFFSETFROM:-0600
TZOFFSETTO:-0500
TZNAME:CDT
DTSTART:20260308T080000
END:DAYLIGHT
BEGIN:STANDARD
TZOFFSETFROM:-0500
TZOFFSETTO:-0600
TZNAME:CST
DTSTART:20261101T070000
END:STANDARD
END:VTIMEZONE
BEGIN:VEVENT
DTSTART;TZID=America/Chicago:20250422T173000
DTEND;TZID=America/Chicago:20250422T203000
DTSTAMP:20260420T214200
CREATED:20250414T141926Z
LAST-MODIFIED:20250422T143428Z
UID:10001395-1745343000-1745353800@www.muw.edu
SUMMARY:Spike for St. Jude
DESCRIPTION:Join us in some rounds of volleyball to raise funds St. Jude. Hosted by: Campus Recreation\, Zeta Phi Beta Sorority\, Incorporated Additional Information can be found at: https://muw.campuslabs.com/engage/event/11181161
URL:https://www.muw.edu/llp/event/spike-for-st-jude/
LOCATION:Pohl Gym
CATEGORIES:Fundraising,Students
END:VEVENT
BEGIN:VEVENT
DTSTART;TZID=America/Chicago:20250422T150000
DTEND;TZID=America/Chicago:20250422T180000
DTSTAMP:20260420T214200
CREATED:20250414T141926Z
LAST-MODIFIED:20250422T143428Z
UID:10001394-1745334000-1745344800@www.muw.edu
SUMMARY:Mississippi University for Women  Baseball at Rhodes College
DESCRIPTION:Mississippi University for Women Baseball at Rhodes College
URL:https://www.muw.edu/llp/event/mississippi-university-for-women-baseball-at-rhodes-college-4/
LOCATION:Memphis\, TN
CATEGORIES:Owls Athletics
END:VEVENT
BEGIN:VEVENT
DTSTART;TZID=America/Chicago:20250422T110000
DTEND;TZID=America/Chicago:20250422T130000
DTSTAMP:20260420T214200
CREATED:20250414T141926Z
LAST-MODIFIED:20250422T143428Z
UID:10001393-1745319600-1745326800@www.muw.edu
SUMMARY:Power Pack
DESCRIPTION:Join YBLA for a quick boost of positivity and purpose! We’re teaming up with The Owl’s Food Pantry to pass out Power Packs — small grab-and-go snack bags filled with treats. Each pack comes with a handwritten motivational note and info on how you can access The Owl’s Food Pantry whenever you need a little extra support. Hosted by: Owl Food Pantry\, Young Black Leadership Association Additional Information can be found at: https://muw.campuslabs.com/engage/event/11246045
URL:https://www.muw.edu/llp/event/power-pack/
LOCATION:Hogarth Dining Hall
CATEGORIES:CommunityService,Students
END:VEVENT
BEGIN:VEVENT
DTSTART;TZID=America/Chicago:20250422T090000
DTEND;TZID=America/Chicago:20250422T113000
DTSTAMP:20260420T214200
CREATED:20250417T141930Z
LAST-MODIFIED:20250422T143428Z
UID:10001402-1745312400-1745321400@www.muw.edu
SUMMARY:Instruction Librarian Candidate Presentation
DESCRIPTION:
URL:https://www.muw.edu/llp/event/instruction-librarian-candidate-presentation-2/
LOCATION:Digital Classroom
CATEGORIES:Library Event
ORGANIZER;CN="Fant Memorial Library":MAILTO:library@muw.edu
END:VEVENT
BEGIN:VEVENT
DTSTART;TZID=America/Chicago:20250421T090000
DTEND;TZID=America/Chicago:20250421T113000
DTSTAMP:20260420T214200
CREATED:20250417T141930Z
LAST-MODIFIED:20250421T143428Z
UID:10001401-1745226000-1745235000@www.muw.edu
SUMMARY:Instruction Librarian Candidate Presentation
DESCRIPTION:
URL:https://www.muw.edu/llp/event/instruction-librarian-candidate-presentation/
LOCATION:Digital Classroom
CATEGORIES:Library Event
ORGANIZER;CN="Fant Memorial Library":MAILTO:library@muw.edu
END:VEVENT
END:VCALENDAR