BEGIN:VCALENDAR
VERSION:2.0
PRODID:-//Department of Languages, Literature, &amp; Philosophy - ECPv6.15.17.1//NONSGML v1.0//EN
CALSCALE:GREGORIAN
METHOD:PUBLISH
X-ORIGINAL-URL:https://www.muw.edu/llp
X-WR-CALDESC:Events for Department of Languages, Literature, &amp; Philosophy
REFRESH-INTERVAL;VALUE=DURATION:PT1H
X-Robots-Tag:noindex
X-PUBLISHED-TTL:PT1H
BEGIN:VTIMEZONE
TZID:America/Chicago
BEGIN:DAYLIGHT
TZOFFSETFROM:-0600
TZOFFSETTO:-0500
TZNAME:CDT
DTSTART:20240310T080000
END:DAYLIGHT
BEGIN:STANDARD
TZOFFSETFROM:-0500
TZOFFSETTO:-0600
TZNAME:CST
DTSTART:20241103T070000
END:STANDARD
BEGIN:DAYLIGHT
TZOFFSETFROM:-0600
TZOFFSETTO:-0500
TZNAME:CDT
DTSTART:20250309T080000
END:DAYLIGHT
BEGIN:STANDARD
TZOFFSETFROM:-0500
TZOFFSETTO:-0600
TZNAME:CST
DTSTART:20251102T070000
END:STANDARD
BEGIN:DAYLIGHT
TZOFFSETFROM:-0600
TZOFFSETTO:-0500
TZNAME:CDT
DTSTART:20260308T080000
END:DAYLIGHT
BEGIN:STANDARD
TZOFFSETFROM:-0500
TZOFFSETTO:-0600
TZNAME:CST
DTSTART:20261101T070000
END:STANDARD
BEGIN:DAYLIGHT
TZOFFSETFROM:-0600
TZOFFSETTO:-0500
TZNAME:CDT
DTSTART:20270314T080000
END:DAYLIGHT
BEGIN:STANDARD
TZOFFSETFROM:-0500
TZOFFSETTO:-0600
TZNAME:CST
DTSTART:20271107T070000
END:STANDARD
END:VTIMEZONE
BEGIN:VEVENT
DTSTART;VALUE=DATE:20260224
DTEND;VALUE=DATE:20260225
DTSTAMP:20260419T154508
CREATED:20260217T061928Z
LAST-MODIFIED:20260224T064934Z
UID:10001623-1771891200-1771977599@www.muw.edu
SUMMARY:Frederick Douglass: Advocate for Equality exhibit
DESCRIPTION:The Columbus-Lowndes Public Library System (CLPLS) is hosting the exhibit Frederick Douglass: Advocate for Equality from February 3-27\, 2026. This exhibition\, organized by the Gilder Lehrman Institute of American History\, features an exploration of the full trajectory of Douglass’s epic life from 1818 to 1895.  In this traveling exhibition\, viewers can learn about Douglass’s escape from slavery\, his work as an abolitionist\, and his tireless fight for equality for all individuals in the Jim Crow era.  This exhibition explores Douglass’s impact and his life through his own words and in photographs and documents from the Gilder Lehrman Collection. The exhibit is open to the public and available for viewing during regular operating hours Monday through Thursday 9am to 6pm\, Fridays 9am to 2pm\, and Saturdays 9am to 2pm.​ ​To learn more about the exhibit\, visit www.gilderlehrman.org/collection/panel-exhibitions/frederick-douglass.  \nFor more information\, call the CLPLS at 662-329-5300.
URL:https://www.muw.edu/llp/event/frederick-douglass-advocate-for-equality-exhibit-2/
LOCATION:Columbus-Lowndes Public Library\, 198 Moss Ln\, Madison\, MS\, United States
CATEGORIES:America 250,Community Events,Students,ThoughtfulLearning
ATTACH;FMTTYPE=image/png:https://www.muw.edu/llp/wp-content/uploads/sites/18/2026/02/Douglass-D4fRjP.png
GEO:32.474415;-90.224395
X-APPLE-STRUCTURED-LOCATION;VALUE=URI;X-ADDRESS=Columbus-Lowndes Public Library 198 Moss Ln Madison MS United States;X-APPLE-RADIUS=500;X-TITLE=198 Moss Ln:geo:-90.224395,32.474415
END:VEVENT
BEGIN:VEVENT
DTSTART;TZID=America/Chicago:20260223T110000
DTEND;TZID=America/Chicago:20260223T130000
DTSTAMP:20260419T154508
CREATED:20260221T064940Z
LAST-MODIFIED:20260223T064931Z
UID:10001635-1771844400-1771851600@www.muw.edu
SUMMARY:Project H.O.O.T Tabling
DESCRIPTION:Project H.O.O.T. (Helping Other’s Out Together) is a campus and community initiative adopted by SGA to promote community service learning. Project H.O.O.T. helps students learn how to be a part of a community. Students also see how working with your community to help others is a valuable experience that teaches empathy and teamwork. Hosted by: Student Government Association Portal Additional Information can be found at: https://muw.campuslabs.com/engage/event/12181439
URL:https://www.muw.edu/llp/event/project-h-o-o-t-tabling/
LOCATION:W Room – Hogarth Student Center
CATEGORIES:Students,ThoughtfulLearning
END:VEVENT
BEGIN:VEVENT
DTSTART;TZID=America/Chicago:20260219T120000
DTEND;TZID=America/Chicago:20260219T133000
DTSTAMP:20260419T154508
CREATED:20260217T061927Z
LAST-MODIFIED:20260219T063430Z
UID:10001622-1771502400-1771507800@www.muw.edu
SUMMARY:The Emmett Till Generation: Youth Activism\, Radical Protest\, and Social Change in Jim Crow Mississippi
DESCRIPTION:Dr. Daphne Chamberlain will present The Emmett Till Generation: Youth Activism\, Radical Protest\, and Social Change in Jim Crow South on February 19 at 12 noon at the downtown branch of the Columbus-Lowndes Public Library System. This presentation highlights the role of children\, between the ages of 7 and 18\, as leaders and participants in the Mississippi civil rights movement from 1946 to 1965. This presentation also offers a new perspective on the origins of the civil rights struggle and gives credence to how instrumental young people were to engaging in radical protest and grassroots activism in Mississippi. ​Dr. Daphne Chamberlain is a native of Columbus\, Mississippi. She attended historic Tougaloo College where she completed her undergraduate studies in History\, and she subsequently received her Master’s and Ph.D. in History from the University of Mississippi. Before returning to Tougaloo as a faculty member and administrator where she worked for ten years\, Dr. Chamberlain taught History and African American Studies at the University of Mississippi and was also the founding Director of the COFO Civil Rights Education Center at Jackson State University. She now serves as Chief Program Officer at the Emmett Till Interpretive Center. For more information\, call the CLPLS at 662-329-5300.
URL:https://www.muw.edu/llp/event/the-emmett-till-generation-youth-activism-radical-protest-and-social-change-in-jim-crow-mississippi/
LOCATION:Columbus-Lowndes Public Library\, 198 Moss Ln\, Madison\, MS\, United States
CATEGORIES:America 250,Black History Month,Lecture,Students,ThoughtfulLearning
ATTACH;FMTTYPE=image/png:https://www.muw.edu/llp/wp-content/uploads/sites/18/2026/02/Chamberlin-psx1Qe.png
GEO:32.474415;-90.224395
X-APPLE-STRUCTURED-LOCATION;VALUE=URI;X-ADDRESS=Columbus-Lowndes Public Library 198 Moss Ln Madison MS United States;X-APPLE-RADIUS=500;X-TITLE=198 Moss Ln:geo:-90.224395,32.474415
END:VEVENT
BEGIN:VEVENT
DTSTART;VALUE=DATE:20260217
DTEND;VALUE=DATE:20260218
DTSTAMP:20260419T154508
CREATED:20260217T061925Z
LAST-MODIFIED:20260217T061930Z
UID:10001621-1771286400-1771372799@www.muw.edu
SUMMARY:Frederick Douglass: Advocate for Equality exhibit
DESCRIPTION:The Columbus-Lowndes Public Library System (CLPLS) is hosting the exhibit Frederick Douglass: Advocate for Equality from February 3-27\, 2026. This exhibition\, organized by the Gilder Lehrman Institute of American History\, features an exploration of the full trajectory of Douglass’s epic life from 1818 to 1895.  In this traveling exhibition\, viewers can learn about Douglass’s escape from slavery\, his work as an abolitionist\, and his tireless fight for equality for all individuals in the Jim Crow era.  This exhibition explores Douglass’s impact and his life through his own words and in photographs and documents from the Gilder Lehrman Collection. The exhibit is open to the public and available for viewing during regular operating hours Monday through Thursday 9am to 6pm\, Fridays 9am to 2pm\, and Saturdays 9am to 2pm.​ ​To learn more about the exhibit\, visit www.gilderlehrman.org/collection/panel-exhibitions/frederick-douglass.  \nFor more information\, call the CLPLS at 662-329-5300.
URL:https://www.muw.edu/llp/event/frederick-douglass-advocate-for-equality-exhibit/
LOCATION:Columbus-Lowndes Public Library\, 198 Moss Ln\, Madison\, MS\, United States
CATEGORIES:America 250,Community Events,Students,ThoughtfulLearning
ATTACH;FMTTYPE=image/png:https://www.muw.edu/llp/wp-content/uploads/sites/18/2026/02/Douglass-D4fRjP.png
GEO:32.474415;-90.224395
X-APPLE-STRUCTURED-LOCATION;VALUE=URI;X-ADDRESS=Columbus-Lowndes Public Library 198 Moss Ln Madison MS United States;X-APPLE-RADIUS=500;X-TITLE=198 Moss Ln:geo:-90.224395,32.474415
END:VEVENT
BEGIN:VEVENT
DTSTART;TZID=America/Chicago:20260212T180000
DTEND;TZID=America/Chicago:20260212T190000
DTSTAMP:20260419T154508
CREATED:20260115T051930Z
LAST-MODIFIED:20260212T060428Z
UID:10001591-1770919200-1770922800@www.muw.edu
SUMMARY:"Levels to This\," with Dr. Shonna Tillman of the Southern Poverty Law Center
DESCRIPTION:Do you know what the attorney general’s office is responsible for? What about the mayor? Test your knowledge of local government in this interactive game developed by the Southern Poverty Law Center. This installment of the Spring 2026 Honors Forum series aims to get students and community members thinking about the government officials who impact everyday peoples’ lives. Dr. Shonna Tillman\, one of the contributors to “Levels to This” and a proponent of grassroots activism\, will lead the game.
URL:https://www.muw.edu/llp/event/levels-to-this-with-dr-shonna-tillman-of-the-southern-poverty-law-center/
LOCATION:Gail P. Gunter Room\, Fant Library
CATEGORIES:Campus Event,Community Events,CommunityService,Cultural Calendar,Honors Forum,Social,Students,ThoughtfulLearning
ATTACH;FMTTYPE=image/jpeg:https://www.muw.edu/llp/wp-content/uploads/sites/18/2026/01/Tillman_SPLC-resized-sXqda4.jpg
END:VEVENT
BEGIN:VEVENT
DTSTART;TZID=America/Chicago:20260205T153000
DTEND;TZID=America/Chicago:20260205T163000
DTSTAMP:20260419T154508
CREATED:20260129T054933Z
LAST-MODIFIED:20260205T054930Z
UID:10001611-1770305400-1770309000@www.muw.edu
SUMMARY:Love your journey Workshop
DESCRIPTION:The “Love your journey” workshop is a fun\, interactive event to focus on ways to truly love your academics\, time\, support\, and wallet. Hosted by: Student Success Center Additional Information can be found at: https://muw.campuslabs.com/engage/event/12096434
URL:https://www.muw.edu/llp/event/love-your-journey-workshop/
LOCATION:GPG Room- Fant Memorial Library
CATEGORIES:Students,ThoughtfulLearning
ATTACH;FMTTYPE=image/png:https://www.muw.edu/llp/wp-content/uploads/sites/18/2026/01/First-Year-Experience-XU52Ik.png
END:VEVENT
BEGIN:VEVENT
DTSTART;TZID=America/Chicago:20260202T120000
DTEND;TZID=America/Chicago:20260202T170000
DTSTAMP:20260419T154508
CREATED:20260122T053445Z
LAST-MODIFIED:20260202T054930Z
UID:10001605-1770033600-1770051600@www.muw.edu
SUMMARY:Lover and Friends
DESCRIPTION:Get a haircut for half the price while learning the best ways of financial literacy for this up coming Valentine’s Day! Hosted by: Phi Beta Sigma Fraternity Inc.\, Zeta Phi Beta Sorority\, Incorporated Additional Information can be found at: https://muw.campuslabs.com/engage/event/12067355
URL:https://www.muw.edu/llp/event/lover-and-friends/
LOCATION:Cochran Ballroom
CATEGORIES:Students,ThoughtfulLearning
END:VEVENT
BEGIN:VEVENT
DTSTART;TZID=America/Chicago:20260128T143000
DTEND;TZID=America/Chicago:20260128T153000
DTSTAMP:20260419T154508
CREATED:20260122T053444Z
LAST-MODIFIED:20260128T054932Z
UID:10001600-1769610600-1769614200@www.muw.edu
SUMMARY:Reset\, Reroute\, & Refocus Workshop
DESCRIPTION:This is an interactive workshop for students that need a Semester reset. Need to recover from a rough semester? Need to reroute old study habits? This is your first year/semester in college? Need help utilizing campus resources without feeling awkward? This INTERACTIVE workshop is for YOU! Hosted by: Student Success Center Additional Information can be found at: https://muw.campuslabs.com/engage/event/12051064
URL:https://www.muw.edu/llp/event/reset-reroute-refocus-workshop/
LOCATION:Fant Memorial Library- Tiered Classroom
CATEGORIES:Students,ThoughtfulLearning
END:VEVENT
BEGIN:VEVENT
DTSTART;TZID=America/Chicago:20260127T120000
DTEND;TZID=America/Chicago:20260127T130000
DTSTAMP:20260419T154508
CREATED:20251104T073430Z
LAST-MODIFIED:20260127T054929Z
UID:10001502-1769515200-1769518800@www.muw.edu
SUMMARY:Ida B. Wells: The Mother of the American Human Rights Movement
DESCRIPTION:The Columbus-Lowndes Public Library welcomes Dr. C. Sade Turnipseed for a presentation on the life and legacy of Ida B. Wells at noon on Tuesday\, January 27. Dr. Turnipseed is an Assistant Professor of History at Jackson State University and has spent much of her career highlighting Black history in the Delta\, from her work with the Cultural Arts program and the B.B. King Museum to research uncovering the contributions of the Gullah Geechee people and collaborations to memorialize the history of cotton pickers and sharecroppers. As a member of the Mississippi Humanities Council Speakers Bureau\, Dr. Turnipseed frequently speaks about the legacy of Ida B. Wells-Barnett to audiences across the state. Mississippi’s fearless daughter and civil rights icon\, Ida Wells Barnett was born in Holly Springs\, Mississippi and single-handedly launched an international campaign to stop lynching. A woman who helped found both the NAACP and the National Association of Colored Women\, she campaigned for suffrage and race and gender equality throughout her life. Dr. Turnipseed’s presentation coincides with the library’s “Freedom:  A History of US” exhibit\, which is on display through Friday\, January 30. The library is open from 9:00 a.m. to 6:00 p.m. Monday – Thursday and from  9:00 a.m. to 2:00 p.m. Friday and Saturday. Both part of the America 250 series of special events co-sponsored by Mississippi University for Women\, the Mississippi School for Math and Science\, and the Columbus-Lowndes Public Library. The series provides opportunities to reflect on the American experiment as we mark the 250th anniversary of the Declaration of Independence.
URL:https://www.muw.edu/llp/event/ida-b-wells-the-mother-of-the-american-human-rights-movement/
LOCATION:Columbus-Lowndes Public Library\, 198 Moss Ln\, Madison\, MS\, United States
CATEGORIES:America 250,Community Events,Students,ThoughtfulLearning
ATTACH;FMTTYPE=image/png:https://www.muw.edu/llp/wp-content/uploads/sites/18/2025/11/America-250-2-pElxv5.png
GEO:32.474415;-90.224395
X-APPLE-STRUCTURED-LOCATION;VALUE=URI;X-ADDRESS=Columbus-Lowndes Public Library 198 Moss Ln Madison MS United States;X-APPLE-RADIUS=500;X-TITLE=198 Moss Ln:geo:-90.224395,32.474415
END:VEVENT
BEGIN:VEVENT
DTSTART;TZID=America/Chicago:20260106T173000
DTEND;TZID=America/Chicago:20260106T183000
DTSTAMP:20260419T154508
CREATED:20251104T073429Z
LAST-MODIFIED:20260106T050436Z
UID:10001501-1767720600-1767724200@www.muw.edu
SUMMARY:Abraham Lincoln and America 250
DESCRIPTION:The Columbus-Lowndes Public Library welcomes Dr. Susannah Ural for a presentation on the life and legacy of President Abraham Lincoln at 5:30 p.m. on Tuesday\, January 6. Dr. Ural is the Frank and Virginia Williams Chair for Abraham Lincoln and Civil War Studies at Mississippi State University and Director of the Civil War and Reconstruction Governors of Mississippi Project . She has published four books on the Civil War and serves on The Lincoln Forum Advisory Board. Dr. Ural’s presentation coincides with the library’s “Freedom:  A History of US” exhibit\, which is on display through the end of the month. The library is open from 9:00 a.m. to 6:00 p.m. Monday – Thursday and from  9:00 a.m. to 2:00 p.m. Friday and Saturday. Both part of the America 250 series of special events co-sponsored by Mississippi University for Women\, the Mississippi School for Math and Science\, and the Columbus-Lowndes Public Library. The series provides opportunities to reflect on the American experiment as we mark the 250th anniversary of the Declaration of Independence.
URL:https://www.muw.edu/llp/event/abraham-lincoln-and-america-250/
LOCATION:Columbus-Lowndes Public Library\, 198 Moss Ln\, Madison\, MS\, United States
CATEGORIES:America 250,Community Events,Students,ThoughtfulLearning
ATTACH;FMTTYPE=image/png:https://www.muw.edu/llp/wp-content/uploads/sites/18/2025/11/America-250-1-1srrcD.png
GEO:32.474415;-90.224395
X-APPLE-STRUCTURED-LOCATION;VALUE=URI;X-ADDRESS=Columbus-Lowndes Public Library 198 Moss Ln Madison MS United States;X-APPLE-RADIUS=500;X-TITLE=198 Moss Ln:geo:-90.224395,32.474415
END:VEVENT
BEGIN:VEVENT
DTSTART;TZID=America/Chicago:20260105T090000
DTEND;TZID=America/Chicago:20260105T180000
DTSTAMP:20260419T154508
CREATED:20251102T060529Z
LAST-MODIFIED:20260105T050437Z
UID:10001498-1767603600-1767636000@www.muw.edu
SUMMARY:Opening of the Gilder Lehrman Institute Exhibit: What is Freedom?
DESCRIPTION:From January 5 – 30\, stop by the Columbus-Lowndes Public Library to explore the “Freedom:  A History of US” exhibit from the Gilder Lehrmen Institute. The library is open from 9:00 a.m. to 6:00 p.m. Monday – Thursday and from  9:00 a.m. to 2:00 p.m. Friday and Saturday. Since 1776\, when the United States declared independence from Great Britain\, the idea of freedom and our understanding of its implications have changed dramatically. Drawing on materials from the Gilder Lehrman Collection\, this exhibition traces the evolving concept of freedom from the founding era to the election of Barack Obama. Among the highlights are a rare 1776 printing of the Declaration of Independence\, a printed draft and the official copy of the US Constitution\, Lincoln’s handwritten notes for speeches\, and letters by leading figures such as Frederick Douglass\, Susan B. Anthony\, Martin Luther King Jr.\, and more. This exhibit is part of the America 250 series of special events co-sponsored by Mississippi University for Women\, the Mississippi School for Math and Science\, and the Columbus-Lowndes Public Library. The series provides opportunities to reflect on the American experiment as we mark the 250th anniversary of the Declaration of Independence.
URL:https://www.muw.edu/llp/event/opening-of-the-gilder-lehrman-institute-exhibit-what-is-freedom/
LOCATION:Columbus-Lowndes Public Library\, 198 Moss Ln\, Madison\, MS\, United States
CATEGORIES:America 250,Community Events,Students,ThoughtfulLearning
ATTACH;FMTTYPE=image/png:https://www.muw.edu/llp/wp-content/uploads/sites/18/2025/11/America-250-3-nftGHU.png
GEO:32.474415;-90.224395
X-APPLE-STRUCTURED-LOCATION;VALUE=URI;X-ADDRESS=Columbus-Lowndes Public Library 198 Moss Ln Madison MS United States;X-APPLE-RADIUS=500;X-TITLE=198 Moss Ln:geo:-90.224395,32.474415
END:VEVENT
BEGIN:VEVENT
DTSTART;TZID=America/Chicago:20251119T160000
DTEND;TZID=America/Chicago:20251119T170000
DTSTAMP:20260419T154508
CREATED:20251102T060528Z
LAST-MODIFIED:20251119T001940Z
UID:10001491-1763568000-1763571600@www.muw.edu
SUMMARY:Feminist Book Club Session #3
DESCRIPTION:At the club’s last fall session\, members will discuss Bad Feminist by Roxane Gay. Lessa Harvey\, an 1884 Fellow in the Women’s College\, created this feminist book club after working at Friendly City Books as a Nancy Yates Community Engagement Fellow in the summer of 2025.
URL:https://www.muw.edu/llp/event/feminist-book-club-session-3/
LOCATION:Friendly City Books\, 1500 N 5th St\, Columbus\, MS\, United States
CATEGORIES:Community Events,Cultural Calendar,Reading,Students,ThoughtfulLearning,Women's Mission
ATTACH;FMTTYPE=image/jpeg:https://www.muw.edu/llp/wp-content/uploads/sites/18/2025/11/Bad-Feminist-JCihzL.jpg
GEO:33.512099;-88.42757
X-APPLE-STRUCTURED-LOCATION;VALUE=URI;X-ADDRESS=Friendly City Books 1500 N 5th St Columbus MS United States;X-APPLE-RADIUS=500;X-TITLE=1500 N 5th St:geo:-88.42757,33.512099
END:VEVENT
BEGIN:VEVENT
DTSTART;TZID=America/Chicago:20251105T160000
DTEND;TZID=America/Chicago:20251105T170000
DTSTAMP:20260419T154508
CREATED:20251102T060525Z
LAST-MODIFIED:20251105T075041Z
UID:10001478-1762358400-1762362000@www.muw.edu
SUMMARY:Women's Health & Entrepreneurship with Amy Bogue
DESCRIPTION:Amy Bogue is president and founder of Allegro Family Clinics\, which recently expanded its services to include obstetrics and gynecology. Named one of the top 50 CEOs in MS\, Bogue has also launched a hub of resources at Allegro to help combat human trafficking. Part of the Women’s College Colloquium Speaker Series. All are welcome.
URL:https://www.muw.edu/llp/event/womens-health-entrepreneurship-with-amy-bogue/
LOCATION:GPG Multi-Purpose Room – MUW Library
CATEGORIES:Campus Event,Cultural Calendar,Lecture,Students,ThoughtfulLearning,Women's Mission
ATTACH;FMTTYPE=image/jpeg:https://www.muw.edu/llp/wp-content/uploads/sites/18/2025/11/amy-bogue-0sh5Kq.jpg
ORGANIZER;CN="Women's College":MAILTO:womenscollege@muw.edu
END:VEVENT
BEGIN:VEVENT
DTSTART;TZID=America/Chicago:20251104T180000
DTEND;TZID=America/Chicago:20251104T200000
DTSTAMP:20260419T154508
CREATED:20251102T060524Z
LAST-MODIFIED:20251104T073428Z
UID:10001475-1762279200-1762286400@www.muw.edu
SUMMARY:The American Revolution:  Short Showing & Panel Discussion
DESCRIPTION:Join us at the Columbus-Lowndes Public Library for a preview and panel discussion of The American Revolution\, a new six-part\, 12-hour documentary series that explores the country’s founding struggle and its eight-year War for Independence. Drs. Jon Hooks (Mississippi University for Women) and Judith Ridner (Mississippi State University) will draw on their expertise to set the stage\, and Mississippi Public Broadcasting will screen a summary version of the film. The full film series will premiere on Sunday\, November 16 and air for six consecutive nights through Friday\, November 21st. The much anticipated series\, which has been in production for eight years\, was directed and produced by Ken Burns\, Sarah Botstein and David Schmidt and written by long-time collaborator Geoffrey C. Ward. The filmmakers and PBS scheduled the broadcast for 2025\, the 250th anniversary of the start of the war\, which began in the spring of 1775\, more than a year before the Declaration of Independence.
URL:https://www.muw.edu/llp/event/the-american-revolution-short-showing-panel-discussion/
LOCATION:Columbus-Lowndes Public Library\, 198 Moss Ln\, Madison\, MS\, United States
CATEGORIES:America 250,Community Events,Film,Lecture,Students,ThoughtfulLearning
ATTACH;FMTTYPE=image/jpeg:https://www.muw.edu/llp/wp-content/uploads/sites/18/2025/11/The-American-Revolution-PBS-Film-Poster-scaled-NGeOJl.jpg
GEO:32.474415;-90.224395
X-APPLE-STRUCTURED-LOCATION;VALUE=URI;X-ADDRESS=Columbus-Lowndes Public Library 198 Moss Ln Madison MS United States;X-APPLE-RADIUS=500;X-TITLE=198 Moss Ln:geo:-90.224395,32.474415
END:VEVENT
BEGIN:VEVENT
DTSTART;TZID=America/Chicago:20251104T170000
DTEND;TZID=America/Chicago:20251104T180000
DTSTAMP:20260419T154508
CREATED:20251102T060524Z
LAST-MODIFIED:20251104T073428Z
UID:10001474-1762275600-1762279200@www.muw.edu
SUMMARY:Invest Like a (Girl)Boss: A Financial Literacy Workshop
DESCRIPTION:Want to learn how to make your money go further? The first step is to ensure that you’re not spending everything you earn and that you’re earning as much as you should. In these back-to-back workshops\, a representative from Regions Bank will first review personal budgeting before The W’s own Ali Glasgow covers salary negotiation. This event is the first in a two-part series on financial literacy co-sponsored by the Women’s College and the Career Services and Professional Development Center.
URL:https://www.muw.edu/llp/event/invest-like-a-girlboss-a-financial-literacy-workshop/
LOCATION:Gail P. Gunter Room\, Fant Memorial Library
CATEGORIES:Campus Event,Students,ThoughtfulLearning,Women's Mission
ATTACH;FMTTYPE=image/jpeg:https://www.muw.edu/llp/wp-content/uploads/sites/18/2025/11/Invest-Like-a-Girl-HM3XCV.jpg
ORGANIZER;CN="Women's College":MAILTO:womenscollege@muw.edu
END:VEVENT
END:VCALENDAR