BEGIN:VCALENDAR
VERSION:2.0
PRODID:-//Department of Languages, Literature, &amp; Philosophy - ECPv6.15.17.1//NONSGML v1.0//EN
CALSCALE:GREGORIAN
METHOD:PUBLISH
X-WR-CALNAME:Department of Languages, Literature, &amp; Philosophy
X-ORIGINAL-URL:https://www.muw.edu/llp
X-WR-CALDESC:Events for Department of Languages, Literature, &amp; Philosophy
REFRESH-INTERVAL;VALUE=DURATION:PT1H
X-Robots-Tag:noindex
X-PUBLISHED-TTL:PT1H
BEGIN:VTIMEZONE
TZID:America/Chicago
BEGIN:DAYLIGHT
TZOFFSETFROM:-0600
TZOFFSETTO:-0500
TZNAME:CDT
DTSTART:20240310T080000
END:DAYLIGHT
BEGIN:STANDARD
TZOFFSETFROM:-0500
TZOFFSETTO:-0600
TZNAME:CST
DTSTART:20241103T070000
END:STANDARD
BEGIN:DAYLIGHT
TZOFFSETFROM:-0600
TZOFFSETTO:-0500
TZNAME:CDT
DTSTART:20250309T080000
END:DAYLIGHT
BEGIN:STANDARD
TZOFFSETFROM:-0500
TZOFFSETTO:-0600
TZNAME:CST
DTSTART:20251102T070000
END:STANDARD
BEGIN:DAYLIGHT
TZOFFSETFROM:-0600
TZOFFSETTO:-0500
TZNAME:CDT
DTSTART:20260308T080000
END:DAYLIGHT
BEGIN:STANDARD
TZOFFSETFROM:-0500
TZOFFSETTO:-0600
TZNAME:CST
DTSTART:20261101T070000
END:STANDARD
END:VTIMEZONE
BEGIN:VEVENT
DTSTART;VALUE=DATE:20250505
DTEND;VALUE=DATE:20250510
DTSTAMP:20260420T180915
CREATED:20250424T144931Z
LAST-MODIFIED:20250428T144940Z
UID:10001420-1746403200-1746835199@www.muw.edu
SUMMARY:Mississippi University for Women  Baseball at St. Louis Intercollegiate Athletic Conference Tournament
DESCRIPTION:Mississippi University for Women Baseball at St. Louis Intercollegiate Athletic Conference Tournament
URL:https://www.muw.edu/llp/event/mississippi-university-for-women-baseball-at-st-louis-intercollegiate-athletic-conference-tournament/
LOCATION:tba
CATEGORIES:Owls Athletics
END:VEVENT
BEGIN:VEVENT
DTSTART;VALUE=DATE:20250508
DTEND;VALUE=DATE:20250510
DTSTAMP:20260420T180915
CREATED:20250430T144931Z
LAST-MODIFIED:20250505T150429Z
UID:10001445-1746662400-1746835199@www.muw.edu
SUMMARY:Mississippi University for Women  Baseball vs SLIAC CHAMPIONSHIPS - FINAL FOUR
DESCRIPTION:Mississippi University for Women Baseball vs SLIAC CHAMPIONSHIPS – FINAL FOUR
URL:https://www.muw.edu/llp/event/mississippi-university-for-women-baseball-vs-sliac-championships-final-four/
LOCATION:Louisville\, KY
CATEGORIES:Owls Athletics
END:VEVENT
BEGIN:VEVENT
DTSTART;VALUE=DATE:20250508
DTEND;VALUE=DATE:20250511
DTSTAMP:20260420T180915
CREATED:20250425T144953Z
LAST-MODIFIED:20250507T150435Z
UID:10001423-1746662400-1746921599@www.muw.edu
SUMMARY:Mississippi University for Women  Softball at SLIAC CHAMPIONSHIPS - FINAL FOUR
DESCRIPTION:Mississippi University for Women Softball at TBA – FINAL FOUR
URL:https://www.muw.edu/llp/event/mississippi-university-for-women-softball-at-tba-final-four/
LOCATION:tba
CATEGORIES:Owls Athletics
END:VEVENT
BEGIN:VEVENT
DTSTART;TZID=America/Chicago:20250508T173000
DTEND;TZID=America/Chicago:20250508T193000
DTSTAMP:20260420T180915
CREATED:20250508T151925Z
LAST-MODIFIED:20250508T151925Z
UID:10001459-1746725400-1746732600@www.muw.edu
SUMMARY:Mississippi University for Women  Softball vs Greenville University - SEMIFINALS  (double elim.)
DESCRIPTION:Mississippi University for Women Softball at TBA – FINAL FOUR
URL:https://www.muw.edu/llp/event/mississippi-university-for-women-softball-vs-greenville-university-semifinals-double-elim/
LOCATION:tba
CATEGORIES:Owls Athletics
END:VEVENT
BEGIN:VEVENT
DTSTART;TZID=America/Chicago:20250508T173000
DTEND;TZID=America/Chicago:20250508T203000
DTSTAMP:20260420T180915
CREATED:20250506T150428Z
LAST-MODIFIED:20250508T151925Z
UID:10001458-1746725400-1746736200@www.muw.edu
SUMMARY:Mississippi University for Women  Baseball vs Spalding University (Ky.) - FINAL FOUR
DESCRIPTION:Mississippi University for Women Baseball vs SLIAC CHAMPIONSHIPS – FINAL FOUR
URL:https://www.muw.edu/llp/event/mississippi-university-for-women-baseball-vs-tba-final-four/
LOCATION:Louisville\, KY
CATEGORIES:Owls Athletics
END:VEVENT
END:VCALENDAR