BEGIN:VCALENDAR
VERSION:2.0
PRODID:-//Department of Languages, Literature, &amp; Philosophy - ECPv6.15.17.1//NONSGML v1.0//EN
CALSCALE:GREGORIAN
METHOD:PUBLISH
X-ORIGINAL-URL:https://www.muw.edu/llp
X-WR-CALDESC:Events for Department of Languages, Literature, &amp; Philosophy
REFRESH-INTERVAL;VALUE=DURATION:PT1H
X-Robots-Tag:noindex
X-PUBLISHED-TTL:PT1H
BEGIN:VTIMEZONE
TZID:America/Chicago
BEGIN:DAYLIGHT
TZOFFSETFROM:-0600
TZOFFSETTO:-0500
TZNAME:CDT
DTSTART:20250309T080000
END:DAYLIGHT
BEGIN:STANDARD
TZOFFSETFROM:-0500
TZOFFSETTO:-0600
TZNAME:CST
DTSTART:20251102T070000
END:STANDARD
BEGIN:DAYLIGHT
TZOFFSETFROM:-0600
TZOFFSETTO:-0500
TZNAME:CDT
DTSTART:20260308T080000
END:DAYLIGHT
BEGIN:STANDARD
TZOFFSETFROM:-0500
TZOFFSETTO:-0600
TZNAME:CST
DTSTART:20261101T070000
END:STANDARD
BEGIN:DAYLIGHT
TZOFFSETFROM:-0600
TZOFFSETTO:-0500
TZNAME:CDT
DTSTART:20270314T080000
END:DAYLIGHT
BEGIN:STANDARD
TZOFFSETFROM:-0500
TZOFFSETTO:-0600
TZNAME:CST
DTSTART:20271107T070000
END:STANDARD
END:VTIMEZONE
BEGIN:VEVENT
DTSTART;TZID=America/Chicago:20260224T193000
DTEND;TZID=America/Chicago:20260224T203000
DTSTAMP:20260419T211021
CREATED:20260111T050429Z
LAST-MODIFIED:20260224T064934Z
UID:10001579-1771961400-1771965000@www.muw.edu
SUMMARY:New Music at the W Concert
DESCRIPTION:The W Department of Music presents New Music at the W\, a recital of modern and contemporary concert music in a mesmerizing fusion of genres. This event is free and open to the public.
URL:https://www.muw.edu/llp/event/new-music-at-the-w-concert-2/
LOCATION:Kossen Auditorium (Inside Poindexter Hall)
CATEGORIES:Community Events,Concert,Concerts,Cultural Calendar,Music
ATTACH;FMTTYPE=image/jpeg:https://www.muw.edu/llp/wp-content/uploads/sites/18/2023/11/Poindexter-Night-scaled-SIiPzW.tmp_-slWUvL.tmp_-zQW260.tmp_.jpg
END:VEVENT
END:VCALENDAR