BEGIN:VCALENDAR
VERSION:2.0
PRODID:-//Department of Languages, Literature, &amp; Philosophy - ECPv6.15.17.1//NONSGML v1.0//EN
CALSCALE:GREGORIAN
METHOD:PUBLISH
X-WR-CALNAME:Department of Languages, Literature, &amp; Philosophy
X-ORIGINAL-URL:https://www.muw.edu/llp
X-WR-CALDESC:Events for Department of Languages, Literature, &amp; Philosophy
REFRESH-INTERVAL;VALUE=DURATION:PT1H
X-Robots-Tag:noindex
X-PUBLISHED-TTL:PT1H
BEGIN:VTIMEZONE
TZID:America/Chicago
BEGIN:DAYLIGHT
TZOFFSETFROM:-0600
TZOFFSETTO:-0500
TZNAME:CDT
DTSTART:20250309T080000
END:DAYLIGHT
BEGIN:STANDARD
TZOFFSETFROM:-0500
TZOFFSETTO:-0600
TZNAME:CST
DTSTART:20251102T070000
END:STANDARD
BEGIN:DAYLIGHT
TZOFFSETFROM:-0600
TZOFFSETTO:-0500
TZNAME:CDT
DTSTART:20260308T080000
END:DAYLIGHT
BEGIN:STANDARD
TZOFFSETFROM:-0500
TZOFFSETTO:-0600
TZNAME:CST
DTSTART:20261101T070000
END:STANDARD
BEGIN:DAYLIGHT
TZOFFSETFROM:-0600
TZOFFSETTO:-0500
TZNAME:CDT
DTSTART:20270314T080000
END:DAYLIGHT
BEGIN:STANDARD
TZOFFSETFROM:-0500
TZOFFSETTO:-0600
TZNAME:CST
DTSTART:20271107T070000
END:STANDARD
END:VTIMEZONE
BEGIN:VEVENT
DTSTART;TZID=America/Chicago:20260304T160000
DTEND;TZID=America/Chicago:20260304T170000
DTSTAMP:20260419T191542
CREATED:20260113T051939Z
LAST-MODIFIED:20260304T064930Z
UID:10001588-1772640000-1772643600@www.muw.edu
SUMMARY:Special Performance by Julia Mortyakova
DESCRIPTION:Professor and Chair of the Department of Music at The W\, Julia Mortyakova will discuss how she founded the International Music by Women Festival. She will also perform songs by a female composer. This event is part of the Women’s College Colloquium Speaker Series. The theme for the Spring 2026 colloquium series is “Women and the Arts\,” which honors the Women’s College’s inaugural study away trip to New York City with The W’s Art Department.
URL:https://www.muw.edu/llp/event/special-performance-by-julia-mortyakova/
LOCATION:Fant Memorial Library\, 1100 College St\, Columbus\, MS\, United States
CATEGORIES:Arts,Campus Event,Community Events,Concert,Concerts,Cultural Calendar,Library,Library Event,Music,Special Events,Students,Women's History Month,Women's Mission
ATTACH;FMTTYPE=image/jpeg:https://www.muw.edu/llp/wp-content/uploads/sites/18/2024/12/Dr.-Julia-Mortyakova-piano-shot-Z8DW4f.tmp_-eHeh3v.tmp_.jpg
ORGANIZER;CN="Women's College":MAILTO:womenscollege@muw.edu
GEO:33.49526;-88.418189
X-APPLE-STRUCTURED-LOCATION;VALUE=URI;X-ADDRESS=Fant Memorial Library 1100 College St Columbus MS United States;X-APPLE-RADIUS=500;X-TITLE=1100 College St:geo:-88.418189,33.49526
END:VEVENT
BEGIN:VEVENT
DTSTART;VALUE=DATE:20260305
DTEND;VALUE=DATE:20260308
DTSTAMP:20260419T191542
CREATED:20260111T050429Z
LAST-MODIFIED:20260307T070428Z
UID:10001580-1772668800-1772927999@www.muw.edu
SUMMARY:Music by Women Festival Concerts
DESCRIPTION:Happy Women’s History Month! You can celebrate with the Department of Music as we host the 10th Annual International Music by Women Festival\, March 5-7\, 2026 in Poindexter Hall. We are celebrating 10 years this year! We are the largest international festival of its kind\, and we feature over 200 incredible musicians who come from around the world to the W share music by women composers. All events are free and open to W faculty\, staff\, and students.All festival concerts (each day at 10am\, noon\, 3pm\, 5pm and 8pm) are free and open to the public. If you are not able to join us in person\, you can watch livestreams of our 15 concerts on the Music by Women Festival YouTube Channel. To learn more\, check out our official press release on MUW News Page\, and to see the full schedule\, please visit the Music by Women Festival homepage.
URL:https://www.muw.edu/llp/event/music-by-women-festival-concerts/
LOCATION:Kossen Auditorium (Inside Poindexter Hall)
CATEGORIES:Community Events,Concert,Concerts,Cultural Calendar,Music
ATTACH;FMTTYPE=image/jpeg:https://www.muw.edu/llp/wp-content/uploads/sites/18/2026/01/MbW-Festival-Hi-Res-Logo-g5GPqn-otY1Y8.jpg
END:VEVENT
BEGIN:VEVENT
DTSTART;TZID=America/Chicago:20260320T193000
DTEND;TZID=America/Chicago:20260320T203000
DTSTAMP:20260419T191542
CREATED:20260111T050429Z
LAST-MODIFIED:20260320T084928Z
UID:10001581-1774035000-1774038600@www.muw.edu
SUMMARY:Guest Artist Recital - Ellen Elder\, piano
DESCRIPTION:Please join us for an evening of lovely piano music with our special guest artist\, Dr. Ellen Elder! Livestream for this concert can be found here on our Virtual Concert Series page. This event is free and open to the public.
URL:https://www.muw.edu/llp/event/guest-artist-recital-ellen-elder-piano/
LOCATION:Kossen Auditorium (Inside Poindexter Hall)
CATEGORIES:Community Events,Concert,Concerts,Cultural Calendar,Music
ATTACH;FMTTYPE=image/jpeg:https://www.muw.edu/llp/wp-content/uploads/sites/18/2026/01/Poindexter-Stage-Spotlight-SXmXXs-s733iX.jpg
END:VEVENT
BEGIN:VEVENT
DTSTART;TZID=America/Chicago:20260321T140000
DTEND;TZID=America/Chicago:20260321T150000
DTSTAMP:20260419T191542
CREATED:20260111T050429Z
LAST-MODIFIED:20260320T084928Z
UID:10001582-1774101600-1774105200@www.muw.edu
SUMMARY:NACUSA Concert
DESCRIPTION:The W Department of Music and the Mid-South Chapter of NACUSA (National Association of Composers/USA) hosts a concert featuring new compositions. Please join us for a fun afternoon of music! This event is free and open to the public.
URL:https://www.muw.edu/llp/event/nacusa-concert-4/
LOCATION:Kossen Auditorium (Inside Poindexter Hall)
CATEGORIES:Community Events,Concert,Concerts,Cultural Calendar,Music
ATTACH;FMTTYPE=image/jpeg:https://www.muw.edu/llp/wp-content/uploads/sites/18/2025/03/Poindexter_HDR2-vNJpJX.tmp_-W78IuZ.tmp_.jpg
END:VEVENT
BEGIN:VEVENT
DTSTART;TZID=America/Chicago:20260324T193000
DTEND;TZID=America/Chicago:20260324T203000
DTSTAMP:20260419T191542
CREATED:20260111T050429Z
LAST-MODIFIED:20260320T084928Z
UID:10001583-1774380600-1774384200@www.muw.edu
SUMMARY:Spring 2026 Recital
DESCRIPTION:The W Department of Music is proud to showcase our students’ hard work – please join us for a wonderful evening of music featuring an array of different genres. Livestream for this concert can be found here on our Virtual Concert Series page. This event is free and open to the public.
URL:https://www.muw.edu/llp/event/spring-2026-recital/
LOCATION:Kossen Auditorium (Inside Poindexter Hall)
CATEGORIES:Community Events,Concert,Concerts,Cultural Calendar,Music
ATTACH;FMTTYPE=image/jpeg:https://www.muw.edu/llp/wp-content/uploads/sites/18/2025/01/Poindexter-Night-scaled-RbVk8w.tmp_-PH6JfB.tmp_.jpg
END:VEVENT
BEGIN:VEVENT
DTSTART;TZID=America/Chicago:20260326T193000
DTEND;TZID=America/Chicago:20260326T203000
DTSTAMP:20260419T191542
CREATED:20260111T050430Z
LAST-MODIFIED:20260320T084928Z
UID:10001584-1774553400-1774557000@www.muw.edu
SUMMARY:Senior Composition Recital - Charles Weathersby
DESCRIPTION:Join the W Department of Music as we celebrate senior composition major\, Charles Weathersby and his academic journey! This event is free and open to the public.
URL:https://www.muw.edu/llp/event/senior-composition-recital-charles-weathersby/
LOCATION:Kossen Auditorium (Inside Poindexter Hall)
CATEGORIES:Community Events,Concert,Concerts,Cultural Calendar,Music
END:VEVENT
BEGIN:VEVENT
DTSTART;TZID=America/Chicago:20260327T140000
DTEND;TZID=America/Chicago:20260327T150000
DTSTAMP:20260419T191542
CREATED:20260111T050430Z
LAST-MODIFIED:20260320T084928Z
UID:10001585-1774620000-1774623600@www.muw.edu
SUMMARY:Music in the Library
DESCRIPTION:Join the W Department of Music for a musical afternoon as our talented music faculty and majors perform in Fant Memorial Library. You can take a study break\, grab a book and a coffee at the library’s cafe\, and enjoy some wonderful tunes with us!
URL:https://www.muw.edu/llp/event/music-in-the-library-19/
LOCATION:Fant Memorial Library\, 1100 College St\, Columbus\, MS\, United States
CATEGORIES:Community Events,Concert,Concerts,Cultural Calendar,Music
ATTACH;FMTTYPE=image/jpeg:https://www.muw.edu/llp/wp-content/uploads/sites/18/2023/10/Shakia-MitL-Wxt9kA.tmp_-0t3Gqv.tmp_.jpg
GEO:33.49526;-88.418189
X-APPLE-STRUCTURED-LOCATION;VALUE=URI;X-ADDRESS=Fant Memorial Library 1100 College St Columbus MS United States;X-APPLE-RADIUS=500;X-TITLE=1100 College St:geo:-88.418189,33.49526
END:VEVENT
BEGIN:VEVENT
DTSTART;TZID=America/Chicago:20260328T173000
DTEND;TZID=America/Chicago:20260328T183000
DTSTAMP:20260419T191542
CREATED:20260302T064927Z
LAST-MODIFIED:20260320T084928Z
UID:10001676-1774719000-1774722600@www.muw.edu
SUMMARY:Senior Voice Recital - Zachariah Harden\, tenor
DESCRIPTION:Join the W Department of Music as we celebrate senior voice major\, Zachariah Harden and his academic journey! This event takes place inside Poindexter Hall\, is free and open to the public.
URL:https://www.muw.edu/llp/event/senior-voice-recital-zachariah-harden-tenor/
LOCATION:Kossen Auditorium (Inside Poindexter Hall)
CATEGORIES:Concert,Concerts,Music
ATTACH;FMTTYPE=image/jpeg:https://www.muw.edu/llp/wp-content/uploads/sites/18/2026/03/Zach-Senior-Recital-Photo-scaled-KqtM4s-xH1O73.jpg
END:VEVENT
END:VCALENDAR