BEGIN:VCALENDAR
VERSION:2.0
PRODID:-//Department of Languages, Literature, &amp; Philosophy - ECPv6.15.17.1//NONSGML v1.0//EN
CALSCALE:GREGORIAN
METHOD:PUBLISH
X-ORIGINAL-URL:https://www.muw.edu/llp
X-WR-CALDESC:Events for Department of Languages, Literature, &amp; Philosophy
REFRESH-INTERVAL;VALUE=DURATION:PT1H
X-Robots-Tag:noindex
X-PUBLISHED-TTL:PT1H
BEGIN:VTIMEZONE
TZID:America/Chicago
BEGIN:DAYLIGHT
TZOFFSETFROM:-0600
TZOFFSETTO:-0500
TZNAME:CDT
DTSTART:20240310T080000
END:DAYLIGHT
BEGIN:STANDARD
TZOFFSETFROM:-0500
TZOFFSETTO:-0600
TZNAME:CST
DTSTART:20241103T070000
END:STANDARD
BEGIN:DAYLIGHT
TZOFFSETFROM:-0600
TZOFFSETTO:-0500
TZNAME:CDT
DTSTART:20250309T080000
END:DAYLIGHT
BEGIN:STANDARD
TZOFFSETFROM:-0500
TZOFFSETTO:-0600
TZNAME:CST
DTSTART:20251102T070000
END:STANDARD
BEGIN:DAYLIGHT
TZOFFSETFROM:-0600
TZOFFSETTO:-0500
TZNAME:CDT
DTSTART:20260308T080000
END:DAYLIGHT
BEGIN:STANDARD
TZOFFSETFROM:-0500
TZOFFSETTO:-0600
TZNAME:CST
DTSTART:20261101T070000
END:STANDARD
BEGIN:DAYLIGHT
TZOFFSETFROM:-0600
TZOFFSETTO:-0500
TZNAME:CDT
DTSTART:20270314T080000
END:DAYLIGHT
BEGIN:STANDARD
TZOFFSETFROM:-0500
TZOFFSETTO:-0600
TZNAME:CST
DTSTART:20271107T070000
END:STANDARD
END:VTIMEZONE
BEGIN:VEVENT
DTSTART;TZID=America/Chicago:20260409T180000
DTEND;TZID=America/Chicago:20260409T190000
DTSTAMP:20260419T192534
CREATED:20260306T070441Z
LAST-MODIFIED:20260320T084928Z
UID:10001680-1775757600-1775761200@www.muw.edu
SUMMARY:Nell Peel Wolfe Lecture: Dr. Doris Taylor
DESCRIPTION:Dr. Doris A. Taylor is a pioneer in regenerative medicine credited with scientific breakthroughs related to cell and gene therapy\, stem cell biology\, and tissue engineering. Her stem cell research was recognized as one of the “Top 10 Research Advances” by the American Heart Association\, and TIME Magazine nominated her as one of the “100 most influential people in the world.” She serves as the Founder and CEO of RegenMedix Consulting. She holds a bachelor’s degree from MUW and a Ph.D. from UT Southwestern Medical Center. This event is part of the Spring 2026 Homecoming festivities and the Gordy Honors Forum Series.
URL:https://www.muw.edu/llp/event/nell-peel-wolfe-lecture-dr-doris-taylor/
LOCATION:Nissan Auditorium\, Parkinson Hall
CATEGORIES:Alumni,Campus Event,Community Events,Honors Forum,Students,ThoughtfulLearning
ATTACH;FMTTYPE=image/jpeg:https://www.muw.edu/llp/wp-content/uploads/sites/18/2026/03/Doris-Taylor-qBxAA8.jpg
END:VEVENT
BEGIN:VEVENT
DTSTART;TZID=America/Chicago:20251206T193000
DTEND;TZID=America/Chicago:20251206T210000
DTSTAMP:20260419T192534
CREATED:20251102T060529Z
LAST-MODIFIED:20251207T001937Z
UID:10001496-1765049400-1765054800@www.muw.edu
SUMMARY:MUW Threadgill Series Orchestra ft. Musicians from Across the Nation
DESCRIPTION:Join us for the MUW Threadgill Series Orchestra Featuring Musicians From Across the Nation on Saturday\, December 6\, at 7:30 p.m. in Kossen Auditorium. The Orchestra is comprised of W faculty and students\, The Mississippi School for Mathematics and Science faculty\, and musicians from across the country\, all joining together to perform a host of holiday favorites to usher in the festive season. There will be a few surprises in the setlist as well. This event is sponsored by The Leslie Farrell Threadgill Lecture and Artist Series. Tickets are limited and free of charge. Tickets must be reserved\, and they may be picked up in the Office of Development and Alumni in Welty Hall Suite 200 or held at will call in the lobby of Poindexter Hall prior to the concert. To reserve tickets\, please call 662-329-7148 or email developmentandalumni@muw.edu. To learn more about the event visit muw.edu/news/threadgill-series-returns-to-the-w/
URL:https://www.muw.edu/llp/event/muw-threadgill-series-orchestra-ft-musicians-from-across-the-nation/
LOCATION:Kossen Auditorium (Inside Poindexter Hall)
CATEGORIES:Alumni,Community Events,Concert,Concerts,Cultural Calendar,Music
ATTACH;FMTTYPE=image/jpeg:https://www.muw.edu/llp/wp-content/uploads/sites/18/2025/01/Poindexter-Night-scaled-RbVk8w.tmp_-PH6JfB.tmp_.jpg
END:VEVENT
END:VCALENDAR