BEGIN:VCALENDAR
VERSION:2.0
PRODID:-//Department of Languages, Literature, &amp; Philosophy - ECPv6.15.17.1//NONSGML v1.0//EN
CALSCALE:GREGORIAN
METHOD:PUBLISH
X-WR-CALNAME:Department of Languages, Literature, &amp; Philosophy
X-ORIGINAL-URL:https://www.muw.edu/llp
X-WR-CALDESC:Events for Department of Languages, Literature, &amp; Philosophy
REFRESH-INTERVAL;VALUE=DURATION:PT1H
X-Robots-Tag:noindex
X-PUBLISHED-TTL:PT1H
BEGIN:VTIMEZONE
TZID:America/Chicago
BEGIN:DAYLIGHT
TZOFFSETFROM:-0600
TZOFFSETTO:-0500
TZNAME:CDT
DTSTART:20250309T080000
END:DAYLIGHT
BEGIN:STANDARD
TZOFFSETFROM:-0500
TZOFFSETTO:-0600
TZNAME:CST
DTSTART:20251102T070000
END:STANDARD
BEGIN:DAYLIGHT
TZOFFSETFROM:-0600
TZOFFSETTO:-0500
TZNAME:CDT
DTSTART:20260308T080000
END:DAYLIGHT
BEGIN:STANDARD
TZOFFSETFROM:-0500
TZOFFSETTO:-0600
TZNAME:CST
DTSTART:20261101T070000
END:STANDARD
BEGIN:DAYLIGHT
TZOFFSETFROM:-0600
TZOFFSETTO:-0500
TZNAME:CDT
DTSTART:20270314T080000
END:DAYLIGHT
BEGIN:STANDARD
TZOFFSETFROM:-0500
TZOFFSETTO:-0600
TZNAME:CST
DTSTART:20271107T070000
END:STANDARD
END:VTIMEZONE
BEGIN:VEVENT
DTSTART;TZID=America/Chicago:20260222T100000
DTEND;TZID=America/Chicago:20260222T130000
DTSTAMP:20260419T153325
CREATED:20260221T064939Z
LAST-MODIFIED:20260222T064930Z
UID:10001631-1771754400-1771765200@www.muw.edu
SUMMARY:Mississippi University for Women  Men's Tennis at Maryville College
DESCRIPTION:Mississippi University for Women Men’s Tennis at Maryville College
URL:https://www.muw.edu/llp/event/mississippi-university-for-women-mens-tennis-at-maryville-college/
LOCATION:Maryville\, TN
CATEGORIES:Owls Athletics
END:VEVENT
BEGIN:VEVENT
DTSTART;TZID=America/Chicago:20260222T100000
DTEND;TZID=America/Chicago:20260222T130000
DTSTAMP:20260419T153325
CREATED:20260221T064939Z
LAST-MODIFIED:20260222T064930Z
UID:10001632-1771754400-1771765200@www.muw.edu
SUMMARY:Mississippi University for Women  Women's Tennis at Maryville College
DESCRIPTION:Mississippi University for Women Women’s Tennis at Maryville College
URL:https://www.muw.edu/llp/event/mississippi-university-for-women-womens-tennis-at-maryville-college/
LOCATION:Maryville\, TN
CATEGORIES:Owls Athletics
END:VEVENT
BEGIN:VEVENT
DTSTART;TZID=America/Chicago:20260222T143000
DTEND;TZID=America/Chicago:20260222T173000
DTSTAMP:20260419T153325
CREATED:20260221T064939Z
LAST-MODIFIED:20260222T064930Z
UID:10001633-1771770600-1771781400@www.muw.edu
SUMMARY:Mississippi University for Women  Baseball at LaGrange College
DESCRIPTION:Mississippi University for Women Baseball at LaGrange CollegeStreaming Video: https://www.awre.tv/signup?next=/game/70e9274994bad1ad457435486fd0eb8bf3aa132b
URL:https://www.muw.edu/llp/event/mississippi-university-for-women-baseball-at-lagrange-college/
LOCATION:LaGrange\, GA
CATEGORIES:Owls Athletics
END:VEVENT
BEGIN:VEVENT
DTSTART;TZID=America/Chicago:20260222T150000
DTEND;TZID=America/Chicago:20260222T170000
DTSTAMP:20260419T153325
CREATED:20260221T064940Z
LAST-MODIFIED:20260222T064930Z
UID:10001634-1771772400-1771779600@www.muw.edu
SUMMARY:Mississippi University for Women  Softball at Huntingdon College
DESCRIPTION:Mississippi University for Women Softball at Huntingdon College
URL:https://www.muw.edu/llp/event/mississippi-university-for-women-softball-at-huntingdon-college/
LOCATION:Montgomery\, AL
CATEGORIES:Owls Athletics
END:VEVENT
END:VCALENDAR