BEGIN:VCALENDAR
VERSION:2.0
PRODID:-//Department of Languages, Literature, &amp; Philosophy - ECPv6.15.17.1//NONSGML v1.0//EN
CALSCALE:GREGORIAN
METHOD:PUBLISH
X-WR-CALNAME:Department of Languages, Literature, &amp; Philosophy
X-ORIGINAL-URL:https://www.muw.edu/llp
X-WR-CALDESC:Events for Department of Languages, Literature, &amp; Philosophy
REFRESH-INTERVAL;VALUE=DURATION:PT1H
X-Robots-Tag:noindex
X-PUBLISHED-TTL:PT1H
BEGIN:VTIMEZONE
TZID:America/Chicago
BEGIN:DAYLIGHT
TZOFFSETFROM:-0600
TZOFFSETTO:-0500
TZNAME:CDT
DTSTART:20250309T080000
END:DAYLIGHT
BEGIN:STANDARD
TZOFFSETFROM:-0500
TZOFFSETTO:-0600
TZNAME:CST
DTSTART:20251102T070000
END:STANDARD
BEGIN:DAYLIGHT
TZOFFSETFROM:-0600
TZOFFSETTO:-0500
TZNAME:CDT
DTSTART:20260308T080000
END:DAYLIGHT
BEGIN:STANDARD
TZOFFSETFROM:-0500
TZOFFSETTO:-0600
TZNAME:CST
DTSTART:20261101T070000
END:STANDARD
BEGIN:DAYLIGHT
TZOFFSETFROM:-0600
TZOFFSETTO:-0500
TZNAME:CDT
DTSTART:20270314T080000
END:DAYLIGHT
BEGIN:STANDARD
TZOFFSETFROM:-0500
TZOFFSETTO:-0600
TZNAME:CST
DTSTART:20271107T070000
END:STANDARD
END:VTIMEZONE
BEGIN:VEVENT
DTSTART;TZID=America/Chicago:20260216T173000
DTEND;TZID=America/Chicago:20260216T193000
DTSTAMP:20260419T153323
CREATED:20260123T053427Z
LAST-MODIFIED:20260216T061929Z
UID:10001607-1771263000-1771270200@www.muw.edu
SUMMARY:Mississippi University for Women  Women's Basketball at Westminster College (MO) - (rescheduled from 1/24/26)
DESCRIPTION:Mississippi University for Women Women’s Basketball at Westminster College (MO)
URL:https://www.muw.edu/llp/event/mississippi-university-for-women-womens-basketball-at-westminster-college-mo-rescheduled-from-1-24-26/
LOCATION:Fulton\, MO
CATEGORIES:Owls Athletics
END:VEVENT
BEGIN:VEVENT
DTSTART;TZID=America/Chicago:20260216T193000
DTEND;TZID=America/Chicago:20260216T213000
DTSTAMP:20260419T153323
CREATED:20260123T053427Z
LAST-MODIFIED:20260216T061929Z
UID:10001608-1771270200-1771277400@www.muw.edu
SUMMARY:Mississippi University for Women  Men's Basketball at Westminster College (MO) - (rescheduled from 1/24/26)
DESCRIPTION:Mississippi University for Women Men’s Basketball at Westminster College (MO)
URL:https://www.muw.edu/llp/event/mississippi-university-for-women-mens-basketball-at-westminster-college-mo-rescheduled-from-1-24-26/
LOCATION:Fulton\, MO
CATEGORIES:Owls Athletics
END:VEVENT
END:VCALENDAR