BEGIN:VCALENDAR
VERSION:2.0
PRODID:-//Department of Languages, Literature, &amp; Philosophy - ECPv6.15.17.1//NONSGML v1.0//EN
CALSCALE:GREGORIAN
METHOD:PUBLISH
X-WR-CALNAME:Department of Languages, Literature, &amp; Philosophy
X-ORIGINAL-URL:https://www.muw.edu/llp
X-WR-CALDESC:Events for Department of Languages, Literature, &amp; Philosophy
REFRESH-INTERVAL;VALUE=DURATION:PT1H
X-Robots-Tag:noindex
X-PUBLISHED-TTL:PT1H
BEGIN:VTIMEZONE
TZID:America/Chicago
BEGIN:DAYLIGHT
TZOFFSETFROM:-0600
TZOFFSETTO:-0500
TZNAME:CDT
DTSTART:20250309T080000
END:DAYLIGHT
BEGIN:STANDARD
TZOFFSETFROM:-0500
TZOFFSETTO:-0600
TZNAME:CST
DTSTART:20251102T070000
END:STANDARD
BEGIN:DAYLIGHT
TZOFFSETFROM:-0600
TZOFFSETTO:-0500
TZNAME:CDT
DTSTART:20260308T080000
END:DAYLIGHT
BEGIN:STANDARD
TZOFFSETFROM:-0500
TZOFFSETTO:-0600
TZNAME:CST
DTSTART:20261101T070000
END:STANDARD
BEGIN:DAYLIGHT
TZOFFSETFROM:-0600
TZOFFSETTO:-0500
TZNAME:CDT
DTSTART:20270314T080000
END:DAYLIGHT
BEGIN:STANDARD
TZOFFSETFROM:-0500
TZOFFSETTO:-0600
TZNAME:CST
DTSTART:20271107T070000
END:STANDARD
END:VTIMEZONE
BEGIN:VEVENT
DTSTART;TZID=America/Chicago:20260129T160000
DTEND;TZID=America/Chicago:20260129T160000
DTSTAMP:20260419T174443
CREATED:20260129T054932Z
LAST-MODIFIED:20260129T054936Z
UID:10001610-1769702400-1769702400@www.muw.edu
SUMMARY:Vision Board for annual financial goals
DESCRIPTION:Responsibly plan out your year with your finances in mind.
URL:https://www.muw.edu/llp/event/vision-board-for-annual-financial-goals/
LOCATION:Gail P. Gunter Multi-Purpose Room
ATTACH;FMTTYPE=image/png:https://www.muw.edu/llp/wp-content/uploads/sites/18/2026/01/Financial-Vision-Workshop-P3Ye4d.png
END:VEVENT
BEGIN:VEVENT
DTSTART;TZID=America/Chicago:20260129T173000
DTEND;TZID=America/Chicago:20260129T193000
DTSTAMP:20260419T174443
CREATED:20260122T053444Z
LAST-MODIFIED:20260129T054936Z
UID:10001601-1769707800-1769715000@www.muw.edu
SUMMARY:Mississippi University for Women  Women's Basketball at Greenville University
DESCRIPTION:Mississippi University for Women Women’s Basketball at Greenville University
URL:https://www.muw.edu/llp/event/mississippi-university-for-women-womens-basketball-at-greenville-university-3/
LOCATION:Greenville\, IL
CATEGORIES:Owls Athletics
END:VEVENT
BEGIN:VEVENT
DTSTART;TZID=America/Chicago:20260129T193000
DTEND;TZID=America/Chicago:20260129T213000
DTSTAMP:20260419T174443
CREATED:20260122T053445Z
LAST-MODIFIED:20260129T054936Z
UID:10001602-1769715000-1769722200@www.muw.edu
SUMMARY:Mississippi University for Women  Men's Basketball at Greenville University
DESCRIPTION:Mississippi University for Women Men’s Basketball at Greenville University
URL:https://www.muw.edu/llp/event/mississippi-university-for-women-mens-basketball-at-greenville-university-3/
LOCATION:Louisville\, KY
CATEGORIES:Owls Athletics
END:VEVENT
END:VCALENDAR