BEGIN:VCALENDAR
VERSION:2.0
PRODID:-//Department of Languages, Literature, &amp; Philosophy - ECPv6.15.17.1//NONSGML v1.0//EN
CALSCALE:GREGORIAN
METHOD:PUBLISH
X-ORIGINAL-URL:https://www.muw.edu/llp
X-WR-CALDESC:Events for Department of Languages, Literature, &amp; Philosophy
REFRESH-INTERVAL;VALUE=DURATION:PT1H
X-Robots-Tag:noindex
X-PUBLISHED-TTL:PT1H
BEGIN:VTIMEZONE
TZID:America/Chicago
BEGIN:DAYLIGHT
TZOFFSETFROM:-0600
TZOFFSETTO:-0500
TZNAME:CDT
DTSTART:20240310T080000
END:DAYLIGHT
BEGIN:STANDARD
TZOFFSETFROM:-0500
TZOFFSETTO:-0600
TZNAME:CST
DTSTART:20241103T070000
END:STANDARD
BEGIN:DAYLIGHT
TZOFFSETFROM:-0600
TZOFFSETTO:-0500
TZNAME:CDT
DTSTART:20250309T080000
END:DAYLIGHT
BEGIN:STANDARD
TZOFFSETFROM:-0500
TZOFFSETTO:-0600
TZNAME:CST
DTSTART:20251102T070000
END:STANDARD
BEGIN:DAYLIGHT
TZOFFSETFROM:-0600
TZOFFSETTO:-0500
TZNAME:CDT
DTSTART:20260308T080000
END:DAYLIGHT
BEGIN:STANDARD
TZOFFSETFROM:-0500
TZOFFSETTO:-0600
TZNAME:CST
DTSTART:20261101T070000
END:STANDARD
END:VTIMEZONE
BEGIN:VEVENT
DTSTART;TZID=America/Chicago:20251020T090000
DTEND;TZID=America/Chicago:20251115T130000
DTSTAMP:20260419T210445
CREATED:20251103T073426Z
LAST-MODIFIED:20251110T174929Z
UID:10001499-1760950800-1763211600@www.muw.edu
SUMMARY:For the Kids
DESCRIPTION:Help us in our efforts to raise and collect donations to give to the kids!Items:Clear BackpacksPacks of papersPencilsErasersUniform pantsUniform shirts Hosted by: Zeta Phi Beta Sorority\, Incorporated Additional Information can be found at: https://muw.campuslabs.com/engage/event/11782330
URL:https://www.muw.edu/llp/event/for-the-kids-2/
LOCATION:Cochran\, Summer Hall\, W Room\, Parkinson\, Stark Recreation\, Fant Library
CATEGORIES:Fundraising,Students
END:VEVENT
BEGIN:VEVENT
DTSTART;TZID=America/Chicago:20251020T100000
DTEND;TZID=America/Chicago:20251115T140000
DTSTAMP:20260419T210445
CREATED:20251102T060523Z
LAST-MODIFIED:20251102T063427Z
UID:10001471-1760954400-1763215200@www.muw.edu
SUMMARY:For the Kids
DESCRIPTION:Help us in our efforts to raise and collect donations to give to the kids!Items:Clear BackpacksPacks of papersPencilsErasersUniform pantsUniform shirts Hosted by: Zeta Phi Beta Sorority\, Incorporated Additional Information can be found at: https://muw.campuslabs.com/engage/event/11782330
URL:https://www.muw.edu/llp/event/for-the-kids/
LOCATION:Cochran\, Summer Hall\, W Room\, Parkinson\, Stark Recreation\, Fant Library
CATEGORIES:Fundraising,Students
END:VEVENT
BEGIN:VEVENT
DTSTART;TZID=America/Chicago:20251103T080000
DTEND;TZID=America/Chicago:20251117T170000
DTSTAMP:20260419T210446
CREATED:20251108T173030Z
LAST-MODIFIED:20251110T174929Z
UID:10001508-1762156800-1763398800@www.muw.edu
SUMMARY:Thanksgiving Drive
DESCRIPTION:WCFR would like to invite you to help us sponsor a Thanksgiving basket that will be delivered to someone in need this holiday season. If you would like to help\, please bring your donation to Parkinson Hall\, Room 201E. We need all items to be dropped off by no later than Monday\, November 17th\, to ensure we have enough time to fill the basket with any missing items.WCFR and Active Minds will also collect items for United Way’s Help Fill in the G.A.P.S. drive. These items should also be brought to Parkinson Hall\, Room 201E by November 20th.If you have questions\, please feel free to contact Miracle O’Neal at moneal1@myapps.muw.edu.For a list of items\, please visit: https://docs.google.com/document/d/1gt9cXV3Fh45vi0gz10JfIcgHcalNWBR9B2uNgzoEkgA/edit?usp=sharing Hosted by: Active Minds\, Phi Upsilon Omicron\, Alpha Beta Chapter\, Psychology Club\, The W’s Council on Family Relations Additional Information can be found at: https://muw.campuslabs.com/engage/event/11855251
URL:https://www.muw.edu/llp/event/thanksgiving-drive/
LOCATION:Parkinson Hall\, 1701 4th Ave\, Columbus\, MS\, United States
CATEGORIES:CommunityService,Students
GEO:33.5009;-88.413319
X-APPLE-STRUCTURED-LOCATION;VALUE=URI;X-ADDRESS=Parkinson Hall 1701 4th Ave Columbus MS United States;X-APPLE-RADIUS=500;X-TITLE=1701 4th Ave:geo:-88.413319,33.5009
END:VEVENT
BEGIN:VEVENT
DTSTART;VALUE=DATE:20251115
DTEND;VALUE=DATE:20251116
DTSTAMP:20260419T210446
CREATED:20251108T173033Z
LAST-MODIFIED:20251110T174929Z
UID:10001521-1763164800-1763251199@www.muw.edu
SUMMARY:Mississippi University for Women  Men's Cross Country vs NCAA III South Regional Championships (8K)
DESCRIPTION:Mississippi University for Women Men’s Cross Country vs NCAA III South Regional Championships (8K)
URL:https://www.muw.edu/llp/event/mississippi-university-for-women-mens-cross-country-vs-ncaa-iii-south-regional-championships-8k-2/
LOCATION:tba
CATEGORIES:Owls Athletics
END:VEVENT
BEGIN:VEVENT
DTSTART;VALUE=DATE:20251115
DTEND;VALUE=DATE:20251116
DTSTAMP:20260419T210446
CREATED:20251108T173033Z
LAST-MODIFIED:20251110T174929Z
UID:10001522-1763164800-1763251199@www.muw.edu
SUMMARY:Mississippi University for Women  Women's Cross Country vs NCAA III South Regional Championships (6K)
DESCRIPTION:Mississippi University for Women Women’s Cross Country vs NCAA III South Regional Championships (6K)
URL:https://www.muw.edu/llp/event/mississippi-university-for-women-womens-cross-country-vs-ncaa-iii-south-regional-championships-6k-3/
LOCATION:tba
CATEGORIES:Owls Athletics
END:VEVENT
BEGIN:VEVENT
DTSTART;TZID=America/Chicago:20251115T100000
DTEND;TZID=America/Chicago:20251115T150000
DTSTAMP:20260419T210446
CREATED:20251102T060527Z
LAST-MODIFIED:20251110T174929Z
UID:10001487-1763200800-1763218800@www.muw.edu
SUMMARY:Under the Oaks Arts Festival
DESCRIPTION:Set for Saturday\, Nov. 15 from 10 a.m.-3 p.m.\, campus\, especially Welty Drive\, will be buzzing with excitement as local artisans set up booths showcasing their work. The road is also lined with Oak trees\, hence the name\, Under the Oaks. The event is free and open to the public. Additionally\, there will be live music and food. For more information\, please contact Columbus Arts Council at (662) 328-2787 or info@columbusartscouncil.com
URL:https://www.muw.edu/llp/event/under-the-oaks-arts-festival/
LOCATION:The W Campus\, 1100 College St\, Columbus\, MS\, United States
CATEGORIES:Arts,Campus Event,Community Events,Cultural Calendar,Students
ATTACH;FMTTYPE=image/jpeg:https://www.muw.edu/llp/wp-content/uploads/sites/18/2025/11/Undert-the-Oaks_4x5-wvTlS4.jpg
GEO:33.49526;-88.418189
X-APPLE-STRUCTURED-LOCATION;VALUE=URI;X-ADDRESS=The W Campus 1100 College St Columbus MS United States;X-APPLE-RADIUS=500;X-TITLE=1100 College St:geo:-88.418189,33.49526
END:VEVENT
BEGIN:VEVENT
DTSTART;TZID=America/Chicago:20251115T140000
DTEND;TZID=America/Chicago:20251115T160000
DTSTAMP:20260419T210446
CREATED:20251109T173444Z
LAST-MODIFIED:20251110T174929Z
UID:10001527-1763215200-1763222400@www.muw.edu
SUMMARY:Mississippi University for Women  Women's Basketball vs Pensacola Christian College
DESCRIPTION:Mississippi University for Women Women’s Basketball vs Pensacola Christian CollegeStreaming Video: https://fan.hudl.com/usa/ms/columbus/organization/173761/muw/video
URL:https://www.muw.edu/llp/event/mississippi-university-for-women-womens-basketball-vs-pensacola-christian-college-2/
LOCATION:Columbus\, Pohl Gymnasium
CATEGORIES:Owls Athletics
END:VEVENT
BEGIN:VEVENT
DTSTART;TZID=America/Chicago:20251115T160000
DTEND;TZID=America/Chicago:20251115T180000
DTSTAMP:20260419T210446
CREATED:20251108T173033Z
LAST-MODIFIED:20251110T174929Z
UID:10001523-1763222400-1763229600@www.muw.edu
SUMMARY:Mississippi University for Women  Men's Basketball at McMurry University
DESCRIPTION:Mississippi University for Women Men’s Basketball at McMurry University
URL:https://www.muw.edu/llp/event/mississippi-university-for-women-mens-basketball-at-mcmurry-university/
LOCATION:Abilene\, TX
CATEGORIES:Owls Athletics
END:VEVENT
BEGIN:VEVENT
DTSTART;TZID=America/Chicago:20251115T180000
DTEND;TZID=America/Chicago:20251115T200000
DTSTAMP:20260419T210446
CREATED:20251108T173033Z
LAST-MODIFIED:20251108T173035Z
UID:10001524-1763229600-1763236800@www.muw.edu
SUMMARY:Mississippi University for Women  Women's Basketball vs Pensacola Christian College
DESCRIPTION:Mississippi University for Women Women’s Basketball vs Pensacola Christian CollegeStreaming Video: https://fan.hudl.com/usa/ms/columbus/organization/173761/muw/video
URL:https://www.muw.edu/llp/event/mississippi-university-for-women-womens-basketball-vs-pensacola-christian-college/
LOCATION:Columbus\, Pohl Gymnasium
CATEGORIES:Owls Athletics
END:VEVENT
END:VCALENDAR