BEGIN:VCALENDAR
VERSION:2.0
PRODID:-//Department of Languages, Literature, &amp; Philosophy - ECPv6.15.17.1//NONSGML v1.0//EN
CALSCALE:GREGORIAN
METHOD:PUBLISH
X-WR-CALNAME:Department of Languages, Literature, &amp; Philosophy
X-ORIGINAL-URL:https://www.muw.edu/llp
X-WR-CALDESC:Events for Department of Languages, Literature, &amp; Philosophy
REFRESH-INTERVAL;VALUE=DURATION:PT1H
X-Robots-Tag:noindex
X-PUBLISHED-TTL:PT1H
BEGIN:VTIMEZONE
TZID:America/Chicago
BEGIN:DAYLIGHT
TZOFFSETFROM:-0600
TZOFFSETTO:-0500
TZNAME:CDT
DTSTART:20240310T080000
END:DAYLIGHT
BEGIN:STANDARD
TZOFFSETFROM:-0500
TZOFFSETTO:-0600
TZNAME:CST
DTSTART:20241103T070000
END:STANDARD
BEGIN:DAYLIGHT
TZOFFSETFROM:-0600
TZOFFSETTO:-0500
TZNAME:CDT
DTSTART:20250309T080000
END:DAYLIGHT
BEGIN:STANDARD
TZOFFSETFROM:-0500
TZOFFSETTO:-0600
TZNAME:CST
DTSTART:20251102T070000
END:STANDARD
BEGIN:DAYLIGHT
TZOFFSETFROM:-0600
TZOFFSETTO:-0500
TZNAME:CDT
DTSTART:20260308T080000
END:DAYLIGHT
BEGIN:STANDARD
TZOFFSETFROM:-0500
TZOFFSETTO:-0600
TZNAME:CST
DTSTART:20261101T070000
END:STANDARD
END:VTIMEZONE
BEGIN:VEVENT
DTSTART;TZID=America/Chicago:20251020T090000
DTEND;TZID=America/Chicago:20251115T130000
DTSTAMP:20260419T211132
CREATED:20251103T073426Z
LAST-MODIFIED:20251110T174929Z
UID:10001499-1760950800-1763211600@www.muw.edu
SUMMARY:For the Kids
DESCRIPTION:Help us in our efforts to raise and collect donations to give to the kids!Items:Clear BackpacksPacks of papersPencilsErasersUniform pantsUniform shirts Hosted by: Zeta Phi Beta Sorority\, Incorporated Additional Information can be found at: https://muw.campuslabs.com/engage/event/11782330
URL:https://www.muw.edu/llp/event/for-the-kids-2/
LOCATION:Cochran\, Summer Hall\, W Room\, Parkinson\, Stark Recreation\, Fant Library
CATEGORIES:Fundraising,Students
END:VEVENT
BEGIN:VEVENT
DTSTART;TZID=America/Chicago:20251020T100000
DTEND;TZID=America/Chicago:20251115T140000
DTSTAMP:20260419T211132
CREATED:20251102T060523Z
LAST-MODIFIED:20251102T063427Z
UID:10001471-1760954400-1763215200@www.muw.edu
SUMMARY:For the Kids
DESCRIPTION:Help us in our efforts to raise and collect donations to give to the kids!Items:Clear BackpacksPacks of papersPencilsErasersUniform pantsUniform shirts Hosted by: Zeta Phi Beta Sorority\, Incorporated Additional Information can be found at: https://muw.campuslabs.com/engage/event/11782330
URL:https://www.muw.edu/llp/event/for-the-kids/
LOCATION:Cochran\, Summer Hall\, W Room\, Parkinson\, Stark Recreation\, Fant Library
CATEGORIES:Fundraising,Students
END:VEVENT
BEGIN:VEVENT
DTSTART;TZID=America/Chicago:20251103T080000
DTEND;TZID=America/Chicago:20251117T170000
DTSTAMP:20260419T211132
CREATED:20251108T173030Z
LAST-MODIFIED:20251110T174929Z
UID:10001508-1762156800-1763398800@www.muw.edu
SUMMARY:Thanksgiving Drive
DESCRIPTION:WCFR would like to invite you to help us sponsor a Thanksgiving basket that will be delivered to someone in need this holiday season. If you would like to help\, please bring your donation to Parkinson Hall\, Room 201E. We need all items to be dropped off by no later than Monday\, November 17th\, to ensure we have enough time to fill the basket with any missing items.WCFR and Active Minds will also collect items for United Way’s Help Fill in the G.A.P.S. drive. These items should also be brought to Parkinson Hall\, Room 201E by November 20th.If you have questions\, please feel free to contact Miracle O’Neal at moneal1@myapps.muw.edu.For a list of items\, please visit: https://docs.google.com/document/d/1gt9cXV3Fh45vi0gz10JfIcgHcalNWBR9B2uNgzoEkgA/edit?usp=sharing Hosted by: Active Minds\, Phi Upsilon Omicron\, Alpha Beta Chapter\, Psychology Club\, The W’s Council on Family Relations Additional Information can be found at: https://muw.campuslabs.com/engage/event/11855251
URL:https://www.muw.edu/llp/event/thanksgiving-drive/
LOCATION:Parkinson Hall\, 1701 4th Ave\, Columbus\, MS\, United States
CATEGORIES:CommunityService,Students
GEO:33.5009;-88.413319
X-APPLE-STRUCTURED-LOCATION;VALUE=URI;X-ADDRESS=Parkinson Hall 1701 4th Ave Columbus MS United States;X-APPLE-RADIUS=500;X-TITLE=1701 4th Ave:geo:-88.413319,33.5009
END:VEVENT
BEGIN:VEVENT
DTSTART;VALUE=DATE:20251108
DTEND;VALUE=DATE:20251109
DTSTAMP:20260419T211132
CREATED:20251108T173031Z
LAST-MODIFIED:20251108T173034Z
UID:10001509-1762560000-1762646399@www.muw.edu
SUMMARY:Mississippi University for Women  Women's Soccer vs SLIAC CHAMPIONSHIPS
DESCRIPTION:Mississippi University for Women Women’s Soccer vs SLIAC CHAMPIONSHIPS
URL:https://www.muw.edu/llp/event/mississippi-university-for-women-womens-soccer-vs-sliac-championships/
LOCATION:tba
CATEGORIES:Owls Athletics
END:VEVENT
BEGIN:VEVENT
DTSTART;TZID=America/Chicago:20251108T130000
DTEND;TZID=America/Chicago:20251108T150000
DTSTAMP:20260419T211132
CREATED:20251108T173031Z
LAST-MODIFIED:20251108T173034Z
UID:10001510-1762606800-1762614000@www.muw.edu
SUMMARY:Mississippi University for Women  Women's Volleyball vs Maryville College
DESCRIPTION:Mississippi University for Women Women’s Volleyball vs Maryville CollegeStreaming Video: https://team1sports.com/scotssports/
URL:https://www.muw.edu/llp/event/mississippi-university-for-women-womens-volleyball-vs-maryville-college/
LOCATION:Lookout Mountain\, GA
CATEGORIES:Owls Athletics
END:VEVENT
BEGIN:VEVENT
DTSTART;TZID=America/Chicago:20251108T150000
DTEND;TZID=America/Chicago:20251108T170000
DTSTAMP:20260419T211132
CREATED:20251108T173031Z
LAST-MODIFIED:20251108T173034Z
UID:10001511-1762614000-1762621200@www.muw.edu
SUMMARY:Mississippi University for Women  Women's Basketball at Millsaps College
DESCRIPTION:Mississippi University for Women Women’s Basketball at Millsaps CollegeStreaming Video: https://gomajors.com/sports/2023/7/25/millsaps-video.aspx
URL:https://www.muw.edu/llp/event/mississippi-university-for-women-womens-basketball-at-millsaps-college-3/
LOCATION:Jackson\, MS
CATEGORIES:Owls Athletics
END:VEVENT
BEGIN:VEVENT
DTSTART;TZID=America/Chicago:20251108T160000
DTEND;TZID=America/Chicago:20251108T180000
DTSTAMP:20260419T211132
CREATED:20251108T173031Z
LAST-MODIFIED:20251108T173034Z
UID:10001512-1762617600-1762624800@www.muw.edu
SUMMARY:Mississippi University for Women  Women's Volleyball at Covenant College (Ga.)
DESCRIPTION:Mississippi University for Women Women’s Volleyball at Covenant College (Ga.)Streaming Video: https://team1sports.com/scotssports/
URL:https://www.muw.edu/llp/event/mississippi-university-for-women-womens-volleyball-at-covenant-college-ga/
LOCATION:Lookout Mountain\, GA
CATEGORIES:Owls Athletics
END:VEVENT
BEGIN:VEVENT
DTSTART;TZID=America/Chicago:20251108T200000
DTEND;TZID=America/Chicago:20251108T220000
DTSTAMP:20260419T211132
CREATED:20251108T173031Z
LAST-MODIFIED:20251108T173034Z
UID:10001513-1762632000-1762639200@www.muw.edu
SUMMARY:Mississippi University for Women  Men's Soccer at SLIAC - Championship
DESCRIPTION:Mississippi University for Women Men’s Soccer at SLIAC – Championship
URL:https://www.muw.edu/llp/event/mississippi-university-for-women-mens-soccer-at-sliac-championship/
LOCATION:tba
CATEGORIES:Owls Athletics
END:VEVENT
END:VCALENDAR