BEGIN:VCALENDAR
VERSION:2.0
PRODID:-//Department of Languages, Literature, &amp; Philosophy - ECPv6.15.17.1//NONSGML v1.0//EN
CALSCALE:GREGORIAN
METHOD:PUBLISH
X-ORIGINAL-URL:https://www.muw.edu/llp
X-WR-CALDESC:Events for Department of Languages, Literature, &amp; Philosophy
REFRESH-INTERVAL;VALUE=DURATION:PT1H
X-Robots-Tag:noindex
X-PUBLISHED-TTL:PT1H
BEGIN:VTIMEZONE
TZID:America/Chicago
BEGIN:DAYLIGHT
TZOFFSETFROM:-0600
TZOFFSETTO:-0500
TZNAME:CDT
DTSTART:20230312T080000
END:DAYLIGHT
BEGIN:STANDARD
TZOFFSETFROM:-0500
TZOFFSETTO:-0600
TZNAME:CST
DTSTART:20231105T070000
END:STANDARD
BEGIN:DAYLIGHT
TZOFFSETFROM:-0600
TZOFFSETTO:-0500
TZNAME:CDT
DTSTART:20240310T080000
END:DAYLIGHT
BEGIN:STANDARD
TZOFFSETFROM:-0500
TZOFFSETTO:-0600
TZNAME:CST
DTSTART:20241103T070000
END:STANDARD
BEGIN:DAYLIGHT
TZOFFSETFROM:-0600
TZOFFSETTO:-0500
TZNAME:CDT
DTSTART:20250309T080000
END:DAYLIGHT
BEGIN:STANDARD
TZOFFSETFROM:-0500
TZOFFSETTO:-0600
TZNAME:CST
DTSTART:20251102T070000
END:STANDARD
BEGIN:DAYLIGHT
TZOFFSETFROM:-0600
TZOFFSETTO:-0500
TZNAME:CDT
DTSTART:20260308T080000
END:DAYLIGHT
BEGIN:STANDARD
TZOFFSETFROM:-0500
TZOFFSETTO:-0600
TZNAME:CST
DTSTART:20261101T070000
END:STANDARD
END:VTIMEZONE
BEGIN:VEVENT
DTSTART;TZID=America/Chicago:20241014T110000
DTEND;TZID=America/Chicago:20250530T120000
DTSTAMP:20260420T180328
CREATED:20241105T072535Z
LAST-MODIFIED:20241106T073502Z
UID:10000972-1728903600-1748606400@www.muw.edu
SUMMARY:Beautiful Life Adult Day Care
DESCRIPTION:Conveniently located in Columbus\, Mississippi\, Beautiful Life Adult Day Center serves the entire Golden Triangle. We offer a wide range of therapeutic activities and social services to help participants maintain their independence and avoid or delay institutional placement in a nursing home or assisted living home. Beautiful Life specializes in serving both caregivers and those they love. Both seniors and young adults with special needs are able to maintain a sense of independence while interacting with others. Hosted by: Community Service Additional Information can be found at: https://muw.campuslabs.com/engage/event/10610240
URL:https://www.muw.edu/llp/event/beautiful-life-adult-day-care/
LOCATION:Beautiful Life Adult Day Center
CATEGORIES:CommunityService,Students
END:VEVENT
BEGIN:VEVENT
DTSTART;TZID=America/Chicago:20241014T110000
DTEND;TZID=America/Chicago:20250530T160000
DTSTAMP:20260420T180328
CREATED:20241105T072539Z
LAST-MODIFIED:20241106T073502Z
UID:10000974-1728903600-1748620800@www.muw.edu
SUMMARY:Red Cross of North Mississippi
DESCRIPTION:MUW Student Volunteer OpportunitiesBesides receiving a quality education\, college is a great time to develop the habit of volunteering. Serving your local community\, expanding credentials on your resume\, and developing additional skills through specific trainings are all benefits of volunteering with the Red Cross. Check out these and many more volunteer options on our website.Michael Bowers | Volunteer Recruitment SpecialistAmerican Red Cross | North Mississippi ChapterCell 662-871-7470 Hosted by: Community Service Additional Information can be found at: https://muw.campuslabs.com/engage/event/10609965
URL:https://www.muw.edu/llp/event/red-cross-of-north-mississippi/
LOCATION:American Red Cross
CATEGORIES:CommunityService,Students
END:VEVENT
BEGIN:VEVENT
DTSTART;VALUE=DATE:20250425
DTEND;VALUE=DATE:20250426
DTSTAMP:20260420T180328
CREATED:20250331T141941Z
LAST-MODIFIED:20250425T144953Z
UID:10001339-1745539200-1745625599@www.muw.edu
SUMMARY:Mississippi University for Women  Men's Track and Field vs St. Louis Intercollegiate Athletic Conference Championships
DESCRIPTION:Mississippi University for Women  Men’s Track and Field vs St. Louis Intercollegiate Athletic Conference Championships
URL:https://www.muw.edu/llp/event/mississippi-university-for-women-mens-track-and-field-vs-st-louis-intercollegiate-athletic-conference-championships/
LOCATION:Greenville\, IL (at Greenville)
CATEGORIES:Owls Athletics
END:VEVENT
BEGIN:VEVENT
DTSTART;VALUE=DATE:20250425
DTEND;VALUE=DATE:20250426
DTSTAMP:20260420T180328
CREATED:20250331T141941Z
LAST-MODIFIED:20250425T144953Z
UID:10001340-1745539200-1745625599@www.muw.edu
SUMMARY:Mississippi University for Women  Women's Track and Field vs St. Louis Intercollegiate Athletic Conference Championships
DESCRIPTION:Mississippi University for Women  Women’s Track and Field vs St. Louis Intercollegiate Athletic Conference Championships
URL:https://www.muw.edu/llp/event/mississippi-university-for-women-womens-track-and-field-vs-st-louis-intercollegiate-athletic-conference-championships/
LOCATION:Greenville\, IL (at Greenville)
CATEGORIES:Owls Athletics
END:VEVENT
BEGIN:VEVENT
DTSTART;VALUE=DATE:20250425
DTEND;VALUE=DATE:20250426
DTSTAMP:20260420T180328
CREATED:20250401T141932Z
LAST-MODIFIED:20250425T144953Z
UID:10001341-1745539200-1745625599@www.muw.edu
SUMMARY:Mississippi University for Women  Women's Track and Field vs St. Louis Intercollegiate Athletic Conference Championships
DESCRIPTION:Mississippi University for Women  Women’s Track and Field vs St. Louis Intercollegiate Athletic Conference Championships
URL:https://www.muw.edu/llp/event/mississippi-university-for-women-womens-track-and-field-vs-st-louis-intercollegiate-athletic-conference-championships-2/
LOCATION:Greenville\, IL (at Greenville)
CATEGORIES:Owls Athletics
END:VEVENT
BEGIN:VEVENT
DTSTART;VALUE=DATE:20250425
DTEND;VALUE=DATE:20250427
DTSTAMP:20260420T180328
CREATED:20250401T141932Z
LAST-MODIFIED:20250426T144931Z
UID:10001342-1745539200-1745711999@www.muw.edu
SUMMARY:Opera Scenes
DESCRIPTION:The W Department of Music invites you to a fantastical performance\, full of drama and engaging scenes from classic musicals and operas. Scenes are presented fully staged and costumed with piano accompaniment. Performances take place in Kossen Auditorium in Poindexter Hall at the W campus on April 25 and 26 at 7:30. Livestream for this concert can be found here on our Virtual Concert Series page. Performances are free and open to the public.
URL:https://www.muw.edu/llp/event/opera-scenes-3/
LOCATION:Kossen Auditorium (Inside Poindexter Hall)
CATEGORIES:Concert,Concerts,Music
ATTACH;FMTTYPE=image/jpeg:https://www.muw.edu/llp/wp-content/uploads/sites/18/2024/04/Candide-Group-Shot-Opera-Scenes-Spring-23-ogaVfy.tmp_-EnbTFK.tmp_.jpg
END:VEVENT
BEGIN:VEVENT
DTSTART;TZID=America/Chicago:20250425T090000
DTEND;TZID=America/Chicago:20250426T090000
DTSTAMP:20260420T180328
CREATED:20250417T141930Z
LAST-MODIFIED:20250425T144953Z
UID:10001403-1745571600-1745658000@www.muw.edu
SUMMARY:Mississippi University for Women  Women's Tennis vs Upper Midwest Athletic Conference
DESCRIPTION:Mississippi University for Women Women’s Tennis vs Upper Midwest Athletic Conference
URL:https://www.muw.edu/llp/event/mississippi-university-for-women-womens-tennis-vs-upper-midwest-athletic-conference/
LOCATION:St. Louis\, Mo.
CATEGORIES:Owls Athletics
END:VEVENT
BEGIN:VEVENT
DTSTART;TZID=America/Chicago:20250425T090000
DTEND;TZID=America/Chicago:20250426T090000
DTSTAMP:20260420T180328
CREATED:20250417T141931Z
LAST-MODIFIED:20250425T144953Z
UID:10001404-1745571600-1745658000@www.muw.edu
SUMMARY:Mississippi University for Women  Men's Tennis vs Upper Midwest Athletic Conference South Tournament
DESCRIPTION:Mississippi University for Women Men’s Tennis vs Upper Midwest Athletic Conference South Tournament
URL:https://www.muw.edu/llp/event/mississippi-university-for-women-mens-tennis-vs-upper-midwest-athletic-conference-south-tournament-3/
LOCATION:St. Louis\, Mo.
CATEGORIES:Owls Athletics
END:VEVENT
BEGIN:VEVENT
DTSTART;TZID=America/Chicago:20250425T120000
DTEND;TZID=America/Chicago:20250425T123000
DTSTAMP:20260420T180328
CREATED:20250425T144952Z
LAST-MODIFIED:20250425T144953Z
UID:10001422-1745582400-1745584200@www.muw.edu
SUMMARY:FinancialFit Demo
DESCRIPTION:FinancialFit offers short\, easy-to-understand personal finance lessons\, videos and interactive tools that empower all members of your community — no matter their current financial situation — to make informed financial decisions and achieve their financial goals.
URL:https://www.muw.edu/llp/event/financialfit-demo/
ORGANIZER;CN="Rachael Damms":MAILTO:redamms@muw.edu
END:VEVENT
BEGIN:VEVENT
DTSTART;TZID=America/Chicago:20250425T140000
DTEND;TZID=America/Chicago:20250425T150000
DTSTAMP:20260420T180328
CREATED:20250401T141932Z
LAST-MODIFIED:20250425T144953Z
UID:10001343-1745589600-1745593200@www.muw.edu
SUMMARY:MUSIC IN THE LIBRARY
DESCRIPTION:
URL:https://www.muw.edu/llp/event/music-in-the-library-11/
LOCATION:Northwest Lobby\, Columbus
CATEGORIES:Library Event
ORGANIZER;CN="Aretha Chandler":MAILTO:achandler1@muw.edu
END:VEVENT
BEGIN:VEVENT
DTSTART;TZID=America/Chicago:20250425T140000
DTEND;TZID=America/Chicago:20250425T150000
DTSTAMP:20260420T180328
CREATED:20250402T142012Z
LAST-MODIFIED:20250425T144953Z
UID:10001344-1745589600-1745593200@www.muw.edu
SUMMARY:Music in the Library
DESCRIPTION:Join the W Department of Music for a musical afternoon as our talented music faculty and majors perform in Fant Memorial Library. You can take a study break\, grab a book and a coffee at the library’s cafe\, and enjoy some wonderful tunes with us!
URL:https://www.muw.edu/llp/event/music-in-the-library-12/
LOCATION:Fant Memorial Library\, 1100 College St\, Columbus\, MS\, United States
CATEGORIES:Community Events,Concert,Concerts,Music
ATTACH;FMTTYPE=image/jpeg:https://www.muw.edu/llp/wp-content/uploads/sites/18/2023/09/Jerry-MitL-YjYFw5.tmp_-P4DGJ5.tmp_.jpg
GEO:33.49526;-88.418189
X-APPLE-STRUCTURED-LOCATION;VALUE=URI;X-ADDRESS=Fant Memorial Library 1100 College St Columbus MS United States;X-APPLE-RADIUS=500;X-TITLE=1100 College St:geo:-88.418189,33.49526
END:VEVENT
END:VCALENDAR