BEGIN:VCALENDAR
VERSION:2.0
PRODID:-//Department of History, Political Science, &amp; Geography - ECPv6.15.17.1//NONSGML v1.0//EN
CALSCALE:GREGORIAN
METHOD:PUBLISH
X-ORIGINAL-URL:https://www.muw.edu/hpg
X-WR-CALDESC:Events for Department of History, Political Science, &amp; Geography
REFRESH-INTERVAL;VALUE=DURATION:PT1H
X-Robots-Tag:noindex
X-PUBLISHED-TTL:PT1H
BEGIN:VTIMEZONE
TZID:America/Chicago
BEGIN:DAYLIGHT
TZOFFSETFROM:-0600
TZOFFSETTO:-0500
TZNAME:CDT
DTSTART:20250309T080000
END:DAYLIGHT
BEGIN:STANDARD
TZOFFSETFROM:-0500
TZOFFSETTO:-0600
TZNAME:CST
DTSTART:20251102T070000
END:STANDARD
BEGIN:DAYLIGHT
TZOFFSETFROM:-0600
TZOFFSETTO:-0500
TZNAME:CDT
DTSTART:20260308T080000
END:DAYLIGHT
BEGIN:STANDARD
TZOFFSETFROM:-0500
TZOFFSETTO:-0600
TZNAME:CST
DTSTART:20261101T070000
END:STANDARD
BEGIN:DAYLIGHT
TZOFFSETFROM:-0600
TZOFFSETTO:-0500
TZNAME:CDT
DTSTART:20270314T080000
END:DAYLIGHT
BEGIN:STANDARD
TZOFFSETFROM:-0500
TZOFFSETTO:-0600
TZNAME:CST
DTSTART:20271107T070000
END:STANDARD
END:VTIMEZONE
BEGIN:VEVENT
DTSTART;TZID=America/Chicago:20260319T180000
DTEND;TZID=America/Chicago:20260319T191500
DTSTAMP:20260419T104828
CREATED:20260302T221134Z
LAST-MODIFIED:20260302T221134Z
UID:10000073-1773943200-1773947700@www.muw.edu
SUMMARY:Reclaiming Women's Power in the American Revolution
DESCRIPTION:Join the Women’s Center for Research & Public Policy and the Ina E. Gordy Honors College for the 2026 Martha Swain Lecture.  Dr. Jacqueline Beatty\, Associate Professor of History at York College of Pennsylvania\, will present “Reclaiming Women’s Power in the American Revolution\,” based on research for her book\, In Dependence\, which explores women’s petitions for reprieve\, economic support\, divorce\, and manumission over 70 years stretching before and after the Revolution. In cases from Boston\, Charleston\, and Philadelphia\, she argues that women increasingly asserted rights claims\, though they did so largely within the framework of an apolitical and dependent femininity. The Martha Swain Speaker Series brings a distinguished person to campus each March to address issues important to women’s interests\, lives\, and experiences. This year’s lecture is also part of the America 250 calendar of events celebrating the 250th anniversary of the Declaration of Independence. The series is funded with a gift made in honor of Dr. Martha Swain\, a scholar of Southern women’s history.
URL:https://www.muw.edu/hpg/event/reclaiming-womens-power-in-the-american-revolution/
LOCATION:Nissan Auditorium – Parkinson Hall
CATEGORIES:America 250,Campus Event,Community Events,Honors Forum,Lecture,Women's History Month,Women's Mission
ATTACH;FMTTYPE=image/jpeg:https://www.muw.edu/hpg/wp-content/uploads/sites/22/2026/03/Jacqueline-Beatty001-ymAmVL.jpg
END:VEVENT
BEGIN:VEVENT
DTSTART;TZID=America/Chicago:20260323T180000
DTEND;TZID=America/Chicago:20260323T200000
DTSTAMP:20260419T104828
CREATED:20260205T232145Z
LAST-MODIFIED:20260205T234646Z
UID:10000068-1774288800-1774296000@www.muw.edu
SUMMARY:Film Screening:  "An Asylum for Mankind"
DESCRIPTION:Mississippi University for Women presents “An Asylum for Mankind\,” the second episode from the new Ken Burns documentary\, The American Revolution. \nThis episode covers the period from May 1775 to July 1776. New Englanders rush to surround the British Army in Boston\, but as war begins Americans find themselves sharply divided. After the Battle of Bunker’s Hill\, George Washington of Virginia arrives to command the newly created Continental Army. In July 1776\, the Continental Congress issues the Declaration of Independence\, insisting on the people’s right to resist tyranny and govern themselves. Learn more about the episode\, the key players\, and critical documents at PBS. \n​The entire documentary is 6 episodes total with each episode running approximately 2 hours in length. \n​Admission is free and open to the public.​ \n​For more information\, call the MUW Department of History\, Political Science\, and Geography at (662) 329-7390.
URL:https://www.muw.edu/hpg/event/film-screening-an-asylum-for-mankind/
LOCATION:Nissan Auditorium\, MUW\, 1100 College Street\, Columbus\, 39701\, United States
CATEGORIES:America 250,Community Events,Film,Students,ThoughtfulLearning
ATTACH;FMTTYPE=image/jpeg:https://www.muw.edu/hpg/wp-content/uploads/sites/22/2025/10/The-American-Revolution-PBS-Film-Poster-scaled-sFFNYf.jpg
END:VEVENT
BEGIN:VEVENT
DTSTART;TZID=America/Chicago:20260323T180000
DTEND;TZID=America/Chicago:20260323T200000
DTSTAMP:20260419T104828
CREATED:20260302T221135Z
LAST-MODIFIED:20260302T221135Z
UID:10000074-1774288800-1774296000@www.muw.edu
SUMMARY:Film Screening:  "An Asylum for Mankind"
DESCRIPTION:Mississippi University for Women presents “An Asylum for Mankind\,” the second episode from the new Ken Burns documentary\, The American Revolution. This episode covers the period from May 1775 to July 1776. New Englanders rush to surround the British Army in Boston\, but as war begins Americans find themselves sharply divided. After the Battle of Bunker’s Hill\, George Washington of Virginia arrives to command the newly created Continental Army. In July 1776\, the Continental Congress issues the Declaration of Independence\, insisting on the people’s right to resist tyranny and govern themselves. Learn more about the episode\, the key players\, and critical documents at PBS. ​The entire documentary is 6 episodes total with each episode running approximately 2 hours in length. The W will show all episodes throughout 2026. ​Admission is free and open to the public.​ ​For more information\, call the MUW Department of History\, Political Science\, and Geography at (662) 329-7390.
URL:https://www.muw.edu/hpg/event/film-screening-an-asylum-for-mankind-2/
LOCATION:Nissan Auditorium (Inside Parkinson Hall)
CATEGORIES:Academic Calendar,America 250,Campus Event,Community Events,Film,Students,ThoughtfulLearning
ATTACH;FMTTYPE=image/jpeg:https://www.muw.edu/hpg/wp-content/uploads/sites/22/2025/10/The-American-Revolution-PBS-Film-Poster-scaled-sFFNYf.jpg
END:VEVENT
BEGIN:VEVENT
DTSTART;TZID=America/Chicago:20260330T090000
DTEND;TZID=America/Chicago:20260330T140000
DTSTAMP:20260419T104828
CREATED:20260302T221135Z
LAST-MODIFIED:20260302T221135Z
UID:10000075-1774861200-1774879200@www.muw.edu
SUMMARY:Becoming the US: Colonial America to Reconstruction Exhibit Opening
DESCRIPTION:The Columbus-Lowndes Public Library System is hosting the traveling exhibit Becoming the US: Colonial America to Reconstruction\, organized by the Gilder Lehrman Institute of American History\, from March 30-May 1\, 2026. Becoming the US is designed to introduce viewers to the beginnings of American history and the skills involved in primary source analysis. Using items from the Gilder Lehrman Collection\, it explores individuals\, groups\, and documents that have contributed to who we are as a country and encourages patrons to think critically about the first-hand accounts of this era.  ​The exhibit is open to the public and available for viewing during regular operating hours Monday through Thursday 9am to 6pm\, Fridays 9am to 2pm\, and Saturdays 9am to 2pm.​ ​To learn more about the exhibit\, visit www.gilderlehrman.org/programs-and-events/traveling-exhibitions/becoming-united-states-colonial-america-reconstruction.  ​For more information on the Gilder Lehrman Institute of American History\, visit www.gilderlehrman.org. ​For more information\, call the CLPLS at 662-329-5300.
URL:https://www.muw.edu/hpg/event/becoming-the-us-colonial-america-to-reconstruction-exhibit-opening/
LOCATION:Columbus-Lowndes Public Library\, 198 Moss Ln\, Madison\, MS\, United States
CATEGORIES:America 250,Community Events,ThoughtfulLearning
GEO:32.474415;-90.224395
X-APPLE-STRUCTURED-LOCATION;VALUE=URI;X-ADDRESS=Columbus-Lowndes Public Library 198 Moss Ln Madison MS United States;X-APPLE-RADIUS=500;X-TITLE=198 Moss Ln:geo:-90.224395,32.474415
END:VEVENT
BEGIN:VEVENT
DTSTART;TZID=America/Chicago:20260331T173000
DTEND;TZID=America/Chicago:20260331T183000
DTSTAMP:20260419T104828
CREATED:20260302T221135Z
LAST-MODIFIED:20260302T221135Z
UID:10000076-1774978200-1774981800@www.muw.edu
SUMMARY:Fashioning a Revolution: How Americans Bought\, Fought\, and Taught Their New Nation into Being
DESCRIPTION:Dr. Peter Messer will open the traveling exhibit Becoming the US: Colonial America to Reconstruction with his talk Fashioning a Revolution: How Americans Bought\, Fought\, and Taught Their New Nation into Being on Tuesday\, March 31 at 5:30pm at the downtown branch of the Columbus-Lowndes Public Library System.​ ​Dr. Messer is a historian of Early American politics and culture at Mississippi State University. His interest lies in the theory and practice of politics in eighteenth-century America\, particularly the intersection of natural historical thought and nation building in the era of the Early American Republic. In 2005\, he published Stories of Independence: Identity\, Ideology\, and History in Eighteenth-Century America.​ ​He is currently working on a book manuscript: Adultery\, Church Pews\, Oysters\, and Tea: The Very Local Origins of the American Revolution in Wellfleet\, Massachusetts. ​This program is sponsored by a Mississippi Humanities Council America250 Grant. For more information\, call the CLPLS at 662-329-5300.
URL:https://www.muw.edu/hpg/event/fashioning-a-revolution-how-americans-bought-fought-and-taught-their-new-nation-into-being/
LOCATION:Columbus-Lowndes Public Library\, 198 Moss Ln\, Madison\, MS\, United States
CATEGORIES:America 250,Community Events,ThoughtfulLearning
GEO:32.474415;-90.224395
X-APPLE-STRUCTURED-LOCATION;VALUE=URI;X-ADDRESS=Columbus-Lowndes Public Library 198 Moss Ln Madison MS United States;X-APPLE-RADIUS=500;X-TITLE=198 Moss Ln:geo:-90.224395,32.474415
END:VEVENT
END:VCALENDAR