BEGIN:VCALENDAR
VERSION:2.0
PRODID:-//Housing &amp; Residence Life - ECPv6.15.17.1//NONSGML v1.0//EN
CALSCALE:GREGORIAN
METHOD:PUBLISH
X-ORIGINAL-URL:https://www.muw.edu/housing
X-WR-CALDESC:Events for Housing &amp; Residence Life
REFRESH-INTERVAL;VALUE=DURATION:PT1H
X-Robots-Tag:noindex
X-PUBLISHED-TTL:PT1H
BEGIN:VTIMEZONE
TZID:America/Chicago
BEGIN:DAYLIGHT
TZOFFSETFROM:-0600
TZOFFSETTO:-0500
TZNAME:CDT
DTSTART:20240310T080000
END:DAYLIGHT
BEGIN:STANDARD
TZOFFSETFROM:-0500
TZOFFSETTO:-0600
TZNAME:CST
DTSTART:20241103T070000
END:STANDARD
BEGIN:DAYLIGHT
TZOFFSETFROM:-0600
TZOFFSETTO:-0500
TZNAME:CDT
DTSTART:20250309T080000
END:DAYLIGHT
BEGIN:STANDARD
TZOFFSETFROM:-0500
TZOFFSETTO:-0600
TZNAME:CST
DTSTART:20251102T070000
END:STANDARD
BEGIN:DAYLIGHT
TZOFFSETFROM:-0600
TZOFFSETTO:-0500
TZNAME:CDT
DTSTART:20260308T080000
END:DAYLIGHT
BEGIN:STANDARD
TZOFFSETFROM:-0500
TZOFFSETTO:-0600
TZNAME:CST
DTSTART:20261101T070000
END:STANDARD
END:VTIMEZONE
BEGIN:VEVENT
DTSTART;TZID=America/Chicago:20250930T180800
DTEND;TZID=America/Chicago:20250930T190000
DTSTAMP:20260420T102707
CREATED:20250919T035035Z
LAST-MODIFIED:20250930T052016Z
UID:10001282-1759255680-1759258800@www.muw.edu
SUMMARY:Pretty Kredit
DESCRIPTION:The Pi Zeta Chapter invites you to an informative program on financial literacy and credit building. This event will provide valuable knowledge and practical strategies to help individuals better understand credit\, manage finances wisely\, and build a strong financial foundation for the future.\nHosted by: Alpha Kappa Alpha Sorority\, Incorporated\nAdditional Information can be found at: https://muw.campuslabs.com/engage/event/11607624
URL:https://www.muw.edu/housing/event/pretty-kredit/
LOCATION:Tiered Classroom
CATEGORIES:Students,ThoughtfulLearning
END:VEVENT
BEGIN:VEVENT
DTSTART;TZID=America/Chicago:20250922T160000
DTEND;TZID=America/Chicago:20250922T200000
DTSTAMP:20260420T102707
CREATED:20250906T032032Z
LAST-MODIFIED:20250922T043511Z
UID:10001254-1758556800-1758571200@www.muw.edu
SUMMARY:An NPHC Professional Development Day
DESCRIPTION:Join us for the NPHC Professional Development Day! Get ready to elevate your career with a day packed with opportunities. We’re kicking things off with professional headshots at 4 PM—come camera-ready! Immediately following\, we’ll dive into an engaging resume workshop designed to help you craft a standout resume. Don’t miss this chance to network\, learn\, and take your professional game to the next level.\nHosted by: National Pan-Hellenic Council\nAdditional Information can be found at: https://muw.campuslabs.com/engage/event/11561693
URL:https://www.muw.edu/housing/event/an-nphc-professional-development-day/
LOCATION:Tiered Classroom
CATEGORIES:Social,Students
END:VEVENT
END:VCALENDAR