BEGIN:VCALENDAR
VERSION:2.0
PRODID:-//Housing &amp; Residence Life - ECPv6.15.17.1//NONSGML v1.0//EN
CALSCALE:GREGORIAN
METHOD:PUBLISH
X-WR-CALNAME:Housing &amp; Residence Life
X-ORIGINAL-URL:https://www.muw.edu/housing
X-WR-CALDESC:Events for Housing &amp; Residence Life
REFRESH-INTERVAL;VALUE=DURATION:PT1H
X-Robots-Tag:noindex
X-PUBLISHED-TTL:PT1H
BEGIN:VTIMEZONE
TZID:America/Chicago
BEGIN:DAYLIGHT
TZOFFSETFROM:-0600
TZOFFSETTO:-0500
TZNAME:CDT
DTSTART:20250309T080000
END:DAYLIGHT
BEGIN:STANDARD
TZOFFSETFROM:-0500
TZOFFSETTO:-0600
TZNAME:CST
DTSTART:20251102T070000
END:STANDARD
BEGIN:DAYLIGHT
TZOFFSETFROM:-0600
TZOFFSETTO:-0500
TZNAME:CDT
DTSTART:20260308T080000
END:DAYLIGHT
BEGIN:STANDARD
TZOFFSETFROM:-0500
TZOFFSETTO:-0600
TZNAME:CST
DTSTART:20261101T070000
END:STANDARD
BEGIN:DAYLIGHT
TZOFFSETFROM:-0600
TZOFFSETTO:-0500
TZNAME:CDT
DTSTART:20270314T080000
END:DAYLIGHT
BEGIN:STANDARD
TZOFFSETFROM:-0500
TZOFFSETTO:-0600
TZNAME:CST
DTSTART:20271107T070000
END:STANDARD
END:VTIMEZONE
BEGIN:VEVENT
DTSTART;TZID=America/Chicago:20260502T110000
DTEND;TZID=America/Chicago:20260502T130000
DTSTAMP:20260419T221133
CREATED:20260413T023516Z
LAST-MODIFIED:20260420T023518Z
UID:10001501-1777719600-1777726800@www.muw.edu
SUMMARY:Mississippi University for Women  Softball vs Spalding University (Ky.)
DESCRIPTION:Mississippi University for Women  Softball vs Spalding University (Ky.)Streaming Video: https://fan.hudl.com/muw
URL:https://www.muw.edu/housing/event/mississippi-university-for-women-softball-vs-spalding-university-ky-2/
LOCATION:Columbus\, MS\, Don Usher Softball Field
CATEGORIES:Owls Athletics
END:VEVENT
BEGIN:VEVENT
DTSTART;TZID=America/Chicago:20260502T130000
DTEND;TZID=America/Chicago:20260502T150000
DTSTAMP:20260419T221133
CREATED:20260418T023514Z
LAST-MODIFIED:20260420T023518Z
UID:10001502-1777726800-1777734000@www.muw.edu
SUMMARY:Mississippi University for Women  Softball vs Spalding University (Ky.)
DESCRIPTION:Mississippi University for Women Softball vs Spalding University (Ky.)\nStreaming Video: https://fan.hudl.com/muw
URL:https://www.muw.edu/housing/event/mississippi-university-for-women-softball-vs-spalding-university-ky-3/
LOCATION:Columbus\, MS\, Don Usher Softball Field
CATEGORIES:Owls Athletics
END:VEVENT
BEGIN:VEVENT
DTSTART;TZID=America/Chicago:20260504T080000
DTEND;TZID=America/Chicago:20260507T170000
DTSTAMP:20260419T221133
CREATED:20260418T085011Z
LAST-MODIFIED:20260419T085014Z
UID:10001521-1777881600-1778173200@www.muw.edu
SUMMARY:Magnolia Chain Creation/Building 2026
DESCRIPTION:Help create the Magnolia Chain\, Monday\, May 4th- Thursday\, May 7t\,h Cochran Basement. Stop by Student Life for instructions. earn service hours for your participation.\nHosted by: Community Service\, Student Programming Board\nAdditional Information can be found at: https://muw.campuslabs.com/engage/event/12357845
URL:https://www.muw.edu/housing/event/magnolia-chain-creation-building-2026/
LOCATION:Cochran Basement
CATEGORIES:CommunityService,Students
END:VEVENT
BEGIN:VEVENT
DTSTART;VALUE=DATE:20260505
DTEND;VALUE=DATE:20260506
DTSTAMP:20260419T221133
CREATED:20260418T023514Z
LAST-MODIFIED:20260420T023518Z
UID:10001503-1777939200-1778025599@www.muw.edu
SUMMARY:Mississippi University for Women  Softball vs SLIAC QUARTERFINALS
DESCRIPTION:Mississippi University for Women Softball vs SLIAC QUARTERFINALS
URL:https://www.muw.edu/housing/event/mississippi-university-for-women-softball-vs-sliac-quarterfinals-2/
LOCATION:tba
CATEGORIES:Owls Athletics
END:VEVENT
BEGIN:VEVENT
DTSTART;VALUE=DATE:20260505
DTEND;VALUE=DATE:20260506
DTSTAMP:20260419T221133
CREATED:20260418T023514Z
LAST-MODIFIED:20260420T023518Z
UID:10001504-1777939200-1778025599@www.muw.edu
SUMMARY:Mississippi University for Women  Baseball vs SLIAC QUARTERFINALS
DESCRIPTION:Mississippi University for Women Baseball vs SLIAC QUARTERFINALS
URL:https://www.muw.edu/housing/event/mississippi-university-for-women-baseball-vs-sliac-quarterfinals-2/
LOCATION:tba
CATEGORIES:Owls Athletics
END:VEVENT
BEGIN:VEVENT
DTSTART;VALUE=DATE:20260507
DTEND;VALUE=DATE:20260510
DTSTAMP:20260419T221133
CREATED:20260418T023514Z
LAST-MODIFIED:20260420T023518Z
UID:10001505-1778112000-1778371199@www.muw.edu
SUMMARY:Mississippi University for Women  Baseball vs SLIAC CHAMPIONSHIPS
DESCRIPTION:Mississippi University for Women Baseball vs SLIAC CHAMPIONSHIPS
URL:https://www.muw.edu/housing/event/mississippi-university-for-women-baseball-vs-sliac-championships/
LOCATION:tba
CATEGORIES:Owls Athletics
END:VEVENT
BEGIN:VEVENT
DTSTART;VALUE=DATE:20260507
DTEND;VALUE=DATE:20260510
DTSTAMP:20260419T221133
CREATED:20260418T023514Z
LAST-MODIFIED:20260420T023518Z
UID:10001506-1778112000-1778371199@www.muw.edu
SUMMARY:Mississippi University for Women  Softball vs SLIAC CHAMPIONSHIPS
DESCRIPTION:Mississippi University for Women Softball vs SLIAC CHAMPIONSHIPS
URL:https://www.muw.edu/housing/event/mississippi-university-for-women-softball-vs-sliac-championships/
LOCATION:tba
CATEGORIES:Owls Athletics
END:VEVENT
BEGIN:VEVENT
DTSTART;VALUE=DATE:20260521
DTEND;VALUE=DATE:20260523
DTSTAMP:20260419T221133
CREATED:20260419T023514Z
LAST-MODIFIED:20260420T023518Z
UID:10001523-1779321600-1779494399@www.muw.edu
SUMMARY:Mississippi University for Women  Men's Track and Field vs NCAA III Outdoor Championships
DESCRIPTION:Mississippi University for Women Men’s Track and Field vs NCAA III Outdoor Championships
URL:https://www.muw.edu/housing/event/mississippi-university-for-women-mens-track-and-field-vs-ncaa-iii-outdoor-championships/
LOCATION:Geneva\, OH
CATEGORIES:Owls Athletics
END:VEVENT
BEGIN:VEVENT
DTSTART;VALUE=DATE:20260521
DTEND;VALUE=DATE:20260523
DTSTAMP:20260419T221133
CREATED:20260419T023514Z
LAST-MODIFIED:20260420T023518Z
UID:10001522-1779321600-1779494399@www.muw.edu
SUMMARY:Mississippi University for Women  Women's Track and Field vs NCAA III Outdoor Championships
DESCRIPTION:Mississippi University for Women Women’s Track and Field vs NCAA III Outdoor Championships
URL:https://www.muw.edu/housing/event/mississippi-university-for-women-womens-track-and-field-vs-ncaa-iii-outdoor-championships/
LOCATION:Geneva\, OH
CATEGORIES:Owls Athletics
END:VEVENT
END:VCALENDAR