BEGIN:VCALENDAR
VERSION:2.0
PRODID:-//Housing &amp; Residence Life - ECPv6.15.17.1//NONSGML v1.0//EN
CALSCALE:GREGORIAN
METHOD:PUBLISH
X-ORIGINAL-URL:https://www.muw.edu/housing
X-WR-CALDESC:Events for Housing &amp; Residence Life
REFRESH-INTERVAL;VALUE=DURATION:PT1H
X-Robots-Tag:noindex
X-PUBLISHED-TTL:PT1H
BEGIN:VTIMEZONE
TZID:America/Chicago
BEGIN:DAYLIGHT
TZOFFSETFROM:-0600
TZOFFSETTO:-0500
TZNAME:CDT
DTSTART:20250309T080000
END:DAYLIGHT
BEGIN:STANDARD
TZOFFSETFROM:-0500
TZOFFSETTO:-0600
TZNAME:CST
DTSTART:20251102T070000
END:STANDARD
BEGIN:DAYLIGHT
TZOFFSETFROM:-0600
TZOFFSETTO:-0500
TZNAME:CDT
DTSTART:20260308T080000
END:DAYLIGHT
BEGIN:STANDARD
TZOFFSETFROM:-0500
TZOFFSETTO:-0600
TZNAME:CST
DTSTART:20261101T070000
END:STANDARD
BEGIN:DAYLIGHT
TZOFFSETFROM:-0600
TZOFFSETTO:-0500
TZNAME:CDT
DTSTART:20270314T080000
END:DAYLIGHT
BEGIN:STANDARD
TZOFFSETFROM:-0500
TZOFFSETTO:-0600
TZNAME:CST
DTSTART:20271107T070000
END:STANDARD
END:VTIMEZONE
BEGIN:VEVENT
DTSTART;TZID=America/Chicago:20260421T170000
DTEND;TZID=America/Chicago:20260421T200000
DTSTAMP:20260420T013758
CREATED:20260418T085010Z
LAST-MODIFIED:20260419T085014Z
UID:10001509-1776790800-1776801600@www.muw.edu
SUMMARY:Battle of the Nuggets\, Who’s got the Sauce?
DESCRIPTION:Join us for a fun night of games!\nHosted by: Zeta Phi Beta Sorority\, Incorporated\nAdditional Information can be found at: https://muw.campuslabs.com/engage/event/12420056
URL:https://www.muw.edu/housing/event/battle-of-the-nuggets-whos-got-the-sauce/
LOCATION:W Room
CATEGORIES:Social,Students
END:VEVENT
BEGIN:VEVENT
DTSTART;TZID=America/Chicago:20260421T190000
DTEND;TZID=America/Chicago:20260421T210000
DTSTAMP:20260420T013758
CREATED:20260418T085010Z
LAST-MODIFIED:20260419T085014Z
UID:10001510-1776798000-1776805200@www.muw.edu
SUMMARY:R&B Karaoke Night
DESCRIPTION:R&B Karaoke Night is a mix of nostalgia\, talent\, and pure fun—a space where everyone can vibe\, express themselves\, and enjoy the timeless sound of R&B music together to relax before finals.\nHosted by: The Silhouette Social Club\nAdditional Information can be found at: https://muw.campuslabs.com/engage/event/12430830
URL:https://www.muw.edu/housing/event/rb-karaoke-night/
LOCATION:Fant Memorial Library (Patio)
CATEGORIES:Social,Students
END:VEVENT
BEGIN:VEVENT
DTSTART;TZID=America/Chicago:20260422T110000
DTEND;TZID=America/Chicago:20260422T130000
DTSTAMP:20260420T013758
CREATED:20260418T085010Z
LAST-MODIFIED:20260419T085014Z
UID:10001511-1776855600-1776862800@www.muw.edu
SUMMARY:Dare A Dove
DESCRIPTION:Pick a dare for your favorite dove!\nHosted by: Zeta Phi Beta Sorority\, Incorporated\nAdditional Information can be found at: https://muw.campuslabs.com/engage/event/12409373
URL:https://www.muw.edu/housing/event/dare-a-dove-2/
LOCATION:Cafeteria
CATEGORIES:Fundraising,Students
END:VEVENT
BEGIN:VEVENT
DTSTART;TZID=America/Chicago:20260422T160000
DTEND;TZID=America/Chicago:20260422T170000
DTSTAMP:20260420T013758
CREATED:20260113T062024Z
LAST-MODIFIED:20260419T085014Z
UID:10001394-1776873600-1776877200@www.muw.edu
SUMMARY:1884 Fellow Lessa Harvey's Feminist Book Club: Session 3
DESCRIPTION:The feminist book club’s final book pick of the spring is an introduction to contemporary feminism for the Instagram age. Florence Given’s Women Don’t Owe You Pretty points out the narratives that keep women from embracing their own power.\n1884 Fellow Lessa Harvey started this book club as part of her Nancy Yates Community Engagement internship.
URL:https://www.muw.edu/housing/event/1884-fellow-lessa-harveys-feminist-book-club-session-3/
LOCATION:Friendly City Books\, 501 5th St N\, Columbus\, MS\, United States
CATEGORIES:Campus Event,Community Events,Cultural Calendar,Reading,Students,ThoughtfulLearning,Women's Mission
ATTACH;FMTTYPE=image/jpeg:https://www.muw.edu/housing/wp-content/uploads/sites/7/2026/01/women-dont-owe-resized-dend84.jpg
ORGANIZER;CN="Women's College":MAILTO:womenscollege@muw.edu
GEO:33.500879;-88.429569
X-APPLE-STRUCTURED-LOCATION;VALUE=URI;X-ADDRESS=Friendly City Books 501 5th St N Columbus MS United States;X-APPLE-RADIUS=500;X-TITLE=501 5th St N:geo:-88.429569,33.500879
END:VEVENT
BEGIN:VEVENT
DTSTART;TZID=America/Chicago:20260422T160000
DTEND;TZID=America/Chicago:20260422T170000
DTSTAMP:20260420T013758
CREATED:20260113T062025Z
LAST-MODIFIED:20260113T062025Z
UID:10001396-1776873600-1776877200@www.muw.edu
SUMMARY:1884 Fellow Lessa Harvey's Feminist Book Club: Session 3
DESCRIPTION:The feminist book club’s final book pick of the spring is an introduction to contemporary feminism for the Instagram age. Florence Given’s Women Don’t Owe You Pretty points out the narratives that keep women from embracing their own power.\n1884 Fellow Lessa Harvey started this book club as part of her Nancy Yates Community Engagement internship.
URL:https://www.muw.edu/housing/event/1884-fellow-lessa-harveys-feminist-book-club-session-3-2/
LOCATION:Friendly City Books\, 501 5th St N\, Columbus\, MS\, United States
CATEGORIES:Campus Event,Community Events,Cultural Calendar,Reading,Students,ThoughtfulLearning,Women's Mission
ATTACH;FMTTYPE=image/jpeg:https://www.muw.edu/housing/wp-content/uploads/sites/7/2026/01/women-dont-owe-resized-dend84.jpg
ORGANIZER;CN="Women's College":MAILTO:womenscollege@muw.edu
GEO:33.500879;-88.429569
X-APPLE-STRUCTURED-LOCATION;VALUE=URI;X-ADDRESS=Friendly City Books 501 5th St N Columbus MS United States;X-APPLE-RADIUS=500;X-TITLE=501 5th St N:geo:-88.429569,33.500879
END:VEVENT
BEGIN:VEVENT
DTSTART;TZID=America/Chicago:20260422T164500
DTEND;TZID=America/Chicago:20260422T200000
DTSTAMP:20260420T013758
CREATED:20260418T085010Z
LAST-MODIFIED:20260419T085014Z
UID:10001512-1776876300-1776888000@www.muw.edu
SUMMARY:Spike for St. Jude
DESCRIPTION:Just us in a game of volleyball as we raise donations for St. Jude!\nHosted by: Zeta Phi Beta Sorority\, Incorporated\nAdditional Information can be found at: https://muw.campuslabs.com/engage/event/12409431
URL:https://www.muw.edu/housing/event/spike-for-st-jude-2/
LOCATION:Pohl Gym – Stark Recreation
CATEGORIES:Fundraising,Students
END:VEVENT
BEGIN:VEVENT
DTSTART;TZID=America/Chicago:20260422T170000
DTEND;TZID=America/Chicago:20260422T183000
DTSTAMP:20260420T013758
CREATED:20260328T080513Z
LAST-MODIFIED:20260419T085014Z
UID:10001467-1776877200-1776882600@www.muw.edu
SUMMARY:Spring Picnic
DESCRIPTION:Join us for a fun picnic out at the Gazebo!\nHosted by: Residence Hall Association\nAdditional Information can be found at: https://muw.campuslabs.com/engage/event/12030409
URL:https://www.muw.edu/housing/event/spring-picnic/
LOCATION:Gazebo
CATEGORIES:Social,Students
END:VEVENT
BEGIN:VEVENT
DTSTART;TZID=America/Chicago:20260422T170000
DTEND;TZID=America/Chicago:20260422T190000
DTSTAMP:20260420T013758
CREATED:20260418T085011Z
LAST-MODIFIED:20260419T085014Z
UID:10001513-1776877200-1776884400@www.muw.edu
SUMMARY:International Night
DESCRIPTION:Showcasing and celebrating international cultures through performances\, music\, and food!\nHosted by: Student Government Association Portal\nAdditional Information can be found at: https://muw.campuslabs.com/engage/event/12409224
URL:https://www.muw.edu/housing/event/international-night/
LOCATION:Cochran Ballroom/Limbert Assembly Room
CATEGORIES:Cultural Calendar,Students
END:VEVENT
BEGIN:VEVENT
DTSTART;TZID=America/Chicago:20260423T110000
DTEND;TZID=America/Chicago:20260423T130000
DTSTAMP:20260420T013758
CREATED:20260418T085011Z
LAST-MODIFIED:20260419T085014Z
UID:10001514-1776942000-1776949200@www.muw.edu
SUMMARY:Dare A Dove
DESCRIPTION:Pick a dare for your favorite dove!\nHosted by: Zeta Phi Beta Sorority\, Incorporated\nAdditional Information can be found at: https://muw.campuslabs.com/engage/event/12409374
URL:https://www.muw.edu/housing/event/dare-a-dove-3/
LOCATION:Cafeteria
CATEGORIES:Fundraising,Students
END:VEVENT
BEGIN:VEVENT
DTSTART;TZID=America/Chicago:20260423T180000
DTEND;TZID=America/Chicago:20260423T200000
DTSTAMP:20260420T013758
CREATED:20260403T080514Z
LAST-MODIFIED:20260419T085014Z
UID:10001482-1776967200-1776974400@www.muw.edu
SUMMARY:Honors Research Symposium I
DESCRIPTION:Undergraduates in the Ina E. Gordy Honors College will be presenting their senior independent research projects.
URL:https://www.muw.edu/housing/event/honors-research-symposium-i/
LOCATION:Nissan Auditorium – Parkinson Hall
CATEGORIES:Campus Event,Community Events,Cultural Calendar,Honors Forum,Students,ThoughtfulLearning
END:VEVENT
BEGIN:VEVENT
DTSTART;VALUE=DATE:20260424
DTEND;VALUE=DATE:20260425
DTSTAMP:20260420T013758
CREATED:20260409T022033Z
LAST-MODIFIED:20260420T023517Z
UID:10001490-1776988800-1777075199@www.muw.edu
SUMMARY:Mississippi University for Women  Men's Tennis vs Upper Midwest Athletic Conference South Tournament
DESCRIPTION:Mississippi University for Women  Men’s Tennis vs Upper Midwest Athletic Conference South Tournament
URL:https://www.muw.edu/housing/event/mississippi-university-for-women-mens-tennis-vs-upper-midwest-athletic-conference-south-tournament-4/
LOCATION:St. Louis\, MO (Davis Tennis Center)
CATEGORIES:Owls Athletics
END:VEVENT
BEGIN:VEVENT
DTSTART;VALUE=DATE:20260424
DTEND;VALUE=DATE:20260425
DTSTAMP:20260420T013758
CREATED:20260409T022033Z
LAST-MODIFIED:20260420T023518Z
UID:10001491-1776988800-1777075199@www.muw.edu
SUMMARY:Mississippi University for Women  Women's Tennis vs Upper Midwest Athletic Conference South Tournament
DESCRIPTION:Mississippi University for Women  Women’s Tennis vs Upper Midwest Athletic Conference South Tournament
URL:https://www.muw.edu/housing/event/mississippi-university-for-women-womens-tennis-vs-upper-midwest-athletic-conference-south-tournament-3/
LOCATION:St. Louis\, MO (Davis Tennis Center)
CATEGORIES:Owls Athletics
END:VEVENT
BEGIN:VEVENT
DTSTART;TZID=America/Chicago:20260424T130000
DTEND;TZID=America/Chicago:20260424T160000
DTSTAMP:20260420T013758
CREATED:20260411T023512Z
LAST-MODIFIED:20260420T023518Z
UID:10001497-1777035600-1777046400@www.muw.edu
SUMMARY:Mississippi University for Women  Baseball vs Greenville University
DESCRIPTION:Mississippi University for Women  Baseball vs Greenville University
URL:https://www.muw.edu/housing/event/mississippi-university-for-women-baseball-vs-greenville-university-10/
LOCATION:Columbus\, MS\, CCA Field
CATEGORIES:Owls Athletics
END:VEVENT
BEGIN:VEVENT
DTSTART;TZID=America/Chicago:20260424T130000
DTEND;TZID=America/Chicago:20260424T160000
DTSTAMP:20260420T013758
CREATED:20260411T023512Z
LAST-MODIFIED:20260411T023512Z
UID:10001496-1777035600-1777046400@www.muw.edu
SUMMARY:Mississippi University for Women  Baseball vs Greenville University
DESCRIPTION:Mississippi University for Women  Baseball vs Greenville University
URL:https://www.muw.edu/housing/event/mississippi-university-for-women-baseball-vs-greenville-university-11/
LOCATION:Columbus\, MS\, CCA Field
CATEGORIES:Owls Athletics
END:VEVENT
BEGIN:VEVENT
DTSTART;TZID=America/Chicago:20260424T140000
DTEND;TZID=America/Chicago:20260424T150000
DTSTAMP:20260420T013758
CREATED:20260418T085011Z
LAST-MODIFIED:20260419T085014Z
UID:10001515-1777039200-1777042800@www.muw.edu
SUMMARY:Balance Bowl Salad
DESCRIPTION:Join us in yoga class in honor of Autism Awareness Month.\nHosted by: Zeta Phi Beta Sorority\, Incorporated\nAdditional Information can be found at: https://muw.campuslabs.com/engage/event/12428645
URL:https://www.muw.edu/housing/event/balance-bowl-salad/
LOCATION:Stark Aerobics Studio
CATEGORIES:Spirituality,Students
END:VEVENT
BEGIN:VEVENT
DTSTART;TZID=America/Chicago:20260424T150000
DTEND;TZID=America/Chicago:20260424T180000
DTSTAMP:20260420T013758
CREATED:20260412T023513Z
LAST-MODIFIED:20260420T023518Z
UID:10001498-1777042800-1777053600@www.muw.edu
SUMMARY:Mississippi University for Women  Baseball vs Greenville University
DESCRIPTION:Mississippi University for Women  Baseball vs Greenville University
URL:https://www.muw.edu/housing/event/mississippi-university-for-women-baseball-vs-greenville-university-12/
LOCATION:Columbus\, MS\, CCA Field
CATEGORIES:Owls Athletics
END:VEVENT
BEGIN:VEVENT
DTSTART;TZID=America/Chicago:20260425T120000
DTEND;TZID=America/Chicago:20260425T150000
DTSTAMP:20260420T013758
CREATED:20260413T023514Z
LAST-MODIFIED:20260420T023518Z
UID:10001499-1777118400-1777129200@www.muw.edu
SUMMARY:Mississippi University for Women  Baseball vs Greenville University
DESCRIPTION:Mississippi University for Women  Baseball vs Greenville University
URL:https://www.muw.edu/housing/event/mississippi-university-for-women-baseball-vs-greenville-university-13/
LOCATION:Columbus\, MS\, CCA Field
CATEGORIES:Owls Athletics
END:VEVENT
BEGIN:VEVENT
DTSTART;TZID=America/Chicago:20260425T150000
DTEND;TZID=America/Chicago:20260425T170000
DTSTAMP:20260420T013758
CREATED:20260328T080513Z
LAST-MODIFIED:20260419T085014Z
UID:10001468-1777129200-1777136400@www.muw.edu
SUMMARY:Zeta Little Cinderella & Prince Pageant
DESCRIPTION:Join us for our little miss cinderella and prince pageant as we aim to raise money for March of Dimes.\nHosted by: Zeta Phi Beta Sorority\, Incorporated\nAdditional Information can be found at: https://muw.campuslabs.com/engage/event/12281776
URL:https://www.muw.edu/housing/event/zeta-little-cinderella-prince-pageant/
LOCATION:Nissian
CATEGORIES:Fundraising,Students
END:VEVENT
BEGIN:VEVENT
DTSTART;VALUE=DATE:20260427
DTEND;VALUE=DATE:20260429
DTSTAMP:20260420T013758
CREATED:20260413T023515Z
LAST-MODIFIED:20260420T023518Z
UID:10001500-1777248000-1777420799@www.muw.edu
SUMMARY:Mississippi University for Women  Men's Golf vs St. Louis Intercollegiate Athletic Conference Championships
DESCRIPTION:Mississippi University for Women  Men’s Golf vs St. Louis Intercollegiate Athletic Conference Championships
URL:https://www.muw.edu/housing/event/mississippi-university-for-women-mens-golf-vs-st-louis-intercollegiate-athletic-conference-championships-4/
LOCATION:Caseyville\, IL (Far Oaks GC)
CATEGORIES:Owls Athletics
END:VEVENT
BEGIN:VEVENT
DTSTART;TZID=America/Chicago:20260427T180000
DTEND;TZID=America/Chicago:20260427T200000
DTSTAMP:20260420T013758
CREATED:20260217T065014Z
LAST-MODIFIED:20260419T085014Z
UID:10001416-1777312800-1777320000@www.muw.edu
SUMMARY:Film Screening:  "The Times that Try Men's Souls"
DESCRIPTION:Mississippi University for Women presents “The Times that Try Men’s Souls\,” the third episode from the new Ken Burns documentary\, The American Revolution.\nThis episode covers the period from July 1776 to January 1777. The Revolution\, now a war for American independence\, faces its toughest challenge yet as General Washington tries to defend New York City from invasion by sea. The resulting Battle of Long Island is a huge defeat for the Americans\, who narrowly escape and spend the next several months on the run. In late December\, Washington’s army regroups and prepares to attack an outpost in Trenton\, New Jersey. Learn more about the episode\, the key players\, and critical documents at PBS.\n​The entire documentary is 6 episodes total with each episode running approximately 2 hours in length. The W will show all episodes throughout 2026.\n​Admission is free and open to the public.​\n​For more information\, call the MUW Department of History\, Political Science\, and Geography at (662) 329-7390.
URL:https://www.muw.edu/housing/event/film-screening-the-times-that-try-mens-souls/
LOCATION:Nissan Auditorium (Inside Parkinson Hall)
CATEGORIES:Academic Calendar,America 250,Campus Event,Community Events,Film,Students,ThoughtfulLearning
ATTACH;FMTTYPE=image/jpeg:https://www.muw.edu/housing/wp-content/uploads/sites/7/2025/10/The-American-Revolution-PBS-Film-Poster-scaled-BKSgH9.jpg
END:VEVENT
BEGIN:VEVENT
DTSTART;TZID=America/Chicago:20260427T190000
DTEND;TZID=America/Chicago:20260427T210000
DTSTAMP:20260420T013758
CREATED:20260418T085011Z
LAST-MODIFIED:20260419T085014Z
UID:10001516-1777316400-1777323600@www.muw.edu
SUMMARY:Sigma Study Lounge
DESCRIPTION:Members of Sigma Gamma Rho Sorority Inc. will host a study lounge for students for upcoming exams.\nHosted by: Sigma Gamma Rho Sorority\, Inc.\nAdditional Information can be found at: https://muw.campuslabs.com/engage/event/12211023
URL:https://www.muw.edu/housing/event/sigma-study-lounge/
LOCATION:Gail P. Gunther Room
CATEGORIES:Social,Students
END:VEVENT
BEGIN:VEVENT
DTSTART;TZID=America/Chicago:20260427T190000
DTEND;TZID=America/Chicago:20260427T230000
DTSTAMP:20260420T013758
CREATED:20260418T085011Z
LAST-MODIFIED:20260419T085014Z
UID:10001517-1777316400-1777330800@www.muw.edu
SUMMARY:PJ'S & Pancakes
DESCRIPTION:We will be winding down for finals and eating pancakes and playing music\nHosted by: National Pan-Hellenic Council\nAdditional Information can be found at: https://muw.campuslabs.com/engage/event/12390996
URL:https://www.muw.edu/housing/event/pjs-pancakes/
LOCATION:Nest
CATEGORIES:Social,Students
END:VEVENT
BEGIN:VEVENT
DTSTART;TZID=America/Chicago:20260428T110000
DTEND;TZID=America/Chicago:20260428T130000
DTSTAMP:20260420T013758
CREATED:20260418T085011Z
LAST-MODIFIED:20260419T085014Z
UID:10001518-1777374000-1777381200@www.muw.edu
SUMMARY:Dare A Dove
DESCRIPTION:Pick a dare for your favorite dove!\nHosted by: Zeta Phi Beta Sorority\, Incorporated\nAdditional Information can be found at: https://muw.campuslabs.com/engage/event/12409375
URL:https://www.muw.edu/housing/event/dare-a-dove-4/
LOCATION:Cafeteria
CATEGORIES:Fundraising,Students
END:VEVENT
BEGIN:VEVENT
DTSTART;TZID=America/Chicago:20260429T110000
DTEND;TZID=America/Chicago:20260429T130000
DTSTAMP:20260420T013758
CREATED:20260418T085011Z
LAST-MODIFIED:20260419T085014Z
UID:10001519-1777460400-1777467600@www.muw.edu
SUMMARY:Dare A Dove
DESCRIPTION:Pick a dare for your favorite dove!\nHosted by: Zeta Phi Beta Sorority\, Incorporated\nAdditional Information can be found at: https://muw.campuslabs.com/engage/event/12409376
URL:https://www.muw.edu/housing/event/dare-a-dove-5/
LOCATION:Cafeteria
CATEGORIES:Fundraising,Students
END:VEVENT
BEGIN:VEVENT
DTSTART;TZID=America/Chicago:20260429T173000
DTEND;TZID=America/Chicago:20260429T223000
DTSTAMP:20260420T013758
CREATED:20260418T085011Z
LAST-MODIFIED:20260419T085014Z
UID:10001520-1777483800-1777501800@www.muw.edu
SUMMARY:2nd Aunnal Cookout
DESCRIPTION:food music games and a good time. Rain Location Pohl Gym\nHosted by: National Pan-Hellenic Council\nAdditional Information can be found at: https://muw.campuslabs.com/engage/event/12399932
URL:https://www.muw.edu/housing/event/2nd-aunnal-cookout/
LOCATION:Kincannon Backyard
CATEGORIES:Social,Students
END:VEVENT
BEGIN:VEVENT
DTSTART;TZID=America/Chicago:20260430T180000
DTEND;TZID=America/Chicago:20260430T200000
DTSTAMP:20260420T013758
CREATED:20260403T080515Z
LAST-MODIFIED:20260419T085014Z
UID:10001483-1777572000-1777579200@www.muw.edu
SUMMARY:Honors Research Symposium II
DESCRIPTION:Undergraduates in the Ina E. Gordy Honors College will be presenting their senior independent research projects.
URL:https://www.muw.edu/housing/event/honors-research-symposium-ii/
LOCATION:Nissan Auditorium – Parkinson Hall
CATEGORIES:Campus Event,Community Events,Cultural Calendar,Honors Forum,Students,ThoughtfulLearning
END:VEVENT
BEGIN:VEVENT
DTSTART;TZID=America/Chicago:20260502T110000
DTEND;TZID=America/Chicago:20260502T130000
DTSTAMP:20260420T013758
CREATED:20260413T023516Z
LAST-MODIFIED:20260420T023518Z
UID:10001501-1777719600-1777726800@www.muw.edu
SUMMARY:Mississippi University for Women  Softball vs Spalding University (Ky.)
DESCRIPTION:Mississippi University for Women  Softball vs Spalding University (Ky.)Streaming Video: https://fan.hudl.com/muw
URL:https://www.muw.edu/housing/event/mississippi-university-for-women-softball-vs-spalding-university-ky-2/
LOCATION:Columbus\, MS\, Don Usher Softball Field
CATEGORIES:Owls Athletics
END:VEVENT
BEGIN:VEVENT
DTSTART;TZID=America/Chicago:20260502T130000
DTEND;TZID=America/Chicago:20260502T150000
DTSTAMP:20260420T013758
CREATED:20260418T023514Z
LAST-MODIFIED:20260420T023518Z
UID:10001502-1777726800-1777734000@www.muw.edu
SUMMARY:Mississippi University for Women  Softball vs Spalding University (Ky.)
DESCRIPTION:Mississippi University for Women Softball vs Spalding University (Ky.)\nStreaming Video: https://fan.hudl.com/muw
URL:https://www.muw.edu/housing/event/mississippi-university-for-women-softball-vs-spalding-university-ky-3/
LOCATION:Columbus\, MS\, Don Usher Softball Field
CATEGORIES:Owls Athletics
END:VEVENT
BEGIN:VEVENT
DTSTART;TZID=America/Chicago:20260504T080000
DTEND;TZID=America/Chicago:20260507T170000
DTSTAMP:20260420T013758
CREATED:20260418T085011Z
LAST-MODIFIED:20260419T085014Z
UID:10001521-1777881600-1778173200@www.muw.edu
SUMMARY:Magnolia Chain Creation/Building 2026
DESCRIPTION:Help create the Magnolia Chain\, Monday\, May 4th- Thursday\, May 7t\,h Cochran Basement. Stop by Student Life for instructions. earn service hours for your participation.\nHosted by: Community Service\, Student Programming Board\nAdditional Information can be found at: https://muw.campuslabs.com/engage/event/12357845
URL:https://www.muw.edu/housing/event/magnolia-chain-creation-building-2026/
LOCATION:Cochran Basement
CATEGORIES:CommunityService,Students
END:VEVENT
BEGIN:VEVENT
DTSTART;VALUE=DATE:20260505
DTEND;VALUE=DATE:20260506
DTSTAMP:20260420T013758
CREATED:20260418T023514Z
LAST-MODIFIED:20260420T023518Z
UID:10001504-1777939200-1778025599@www.muw.edu
SUMMARY:Mississippi University for Women  Baseball vs SLIAC QUARTERFINALS
DESCRIPTION:Mississippi University for Women Baseball vs SLIAC QUARTERFINALS
URL:https://www.muw.edu/housing/event/mississippi-university-for-women-baseball-vs-sliac-quarterfinals-2/
LOCATION:tba
CATEGORIES:Owls Athletics
END:VEVENT
END:VCALENDAR