BEGIN:VCALENDAR
VERSION:2.0
PRODID:-//Housing &amp; Residence Life - ECPv6.15.17.1//NONSGML v1.0//EN
CALSCALE:GREGORIAN
METHOD:PUBLISH
X-WR-CALNAME:Housing &amp; Residence Life
X-ORIGINAL-URL:https://www.muw.edu/housing
X-WR-CALDESC:Events for Housing &amp; Residence Life
REFRESH-INTERVAL;VALUE=DURATION:PT1H
X-Robots-Tag:noindex
X-PUBLISHED-TTL:PT1H
BEGIN:VTIMEZONE
TZID:America/Chicago
BEGIN:DAYLIGHT
TZOFFSETFROM:-0600
TZOFFSETTO:-0500
TZNAME:CDT
DTSTART:20240310T080000
END:DAYLIGHT
BEGIN:STANDARD
TZOFFSETFROM:-0500
TZOFFSETTO:-0600
TZNAME:CST
DTSTART:20241103T070000
END:STANDARD
BEGIN:DAYLIGHT
TZOFFSETFROM:-0600
TZOFFSETTO:-0500
TZNAME:CDT
DTSTART:20250309T080000
END:DAYLIGHT
BEGIN:STANDARD
TZOFFSETFROM:-0500
TZOFFSETTO:-0600
TZNAME:CST
DTSTART:20251102T070000
END:STANDARD
BEGIN:DAYLIGHT
TZOFFSETFROM:-0600
TZOFFSETTO:-0500
TZNAME:CDT
DTSTART:20260308T080000
END:DAYLIGHT
BEGIN:STANDARD
TZOFFSETFROM:-0500
TZOFFSETTO:-0600
TZNAME:CST
DTSTART:20261101T070000
END:STANDARD
END:VTIMEZONE
BEGIN:VEVENT
DTSTART;TZID=America/Chicago:20251014T120000
DTEND;TZID=America/Chicago:20251014T130000
DTSTAMP:20260420T180445
CREATED:20251002T052012Z
LAST-MODIFIED:20251014T063515Z
UID:10001308-1760443200-1760446800@www.muw.edu
SUMMARY:Tabling for Fundraiser
DESCRIPTION:Organization members will be in the cafe advertising the heated blanket raffle.\nHosted by: Sigma Gamma Rho Sorority\, Inc.\nAdditional Information can be found at: https://muw.campuslabs.com/engage/event/11652409
URL:https://www.muw.edu/housing/event/tabling-for-fundraiser/
LOCATION:Hogarth Dining Hall
CATEGORIES:Fundraising,Students
END:VEVENT
BEGIN:VEVENT
DTSTART;TZID=America/Chicago:20251014T110000
DTEND;TZID=America/Chicago:20251014T130000
DTSTAMP:20260420T180445
CREATED:20251002T052012Z
LAST-MODIFIED:20251014T063515Z
UID:10001307-1760439600-1760446800@www.muw.edu
SUMMARY:Hoops For Hope
DESCRIPTION:Shoot for a cause at Hoops for Hope! Join us for a basketball-themed fundraiser supporting breast cancer awareness and research. Have fun\, show your team spirit\, and help make a difference in the fight against breast cancer.\nHosted by: The Mam’selle Social Club\nAdditional Information can be found at: https://muw.campuslabs.com/engage/event/11690796
URL:https://www.muw.edu/housing/event/hoops-for-hope/
LOCATION:Hogarth Dining Hall
CATEGORIES:Fundraising,Students
END:VEVENT
BEGIN:VEVENT
DTSTART;TZID=America/Chicago:20251008T200000
DTEND;TZID=America/Chicago:20251008T220000
DTSTAMP:20260420T180445
CREATED:20250924T043510Z
LAST-MODIFIED:20251008T060531Z
UID:10001294-1759953600-1759960800@www.muw.edu
SUMMARY:Two-Step Throwdown
DESCRIPTION:Put on your boots and get ready to dance the night away! Join us for a night of country and blues tunes\, line dancing\, and good vibes. Light snacks and drinks provided. Whether you’re a pro dancer or just want to vibe—this is the night for you!\nHosted by: Residence Hall Association\nAdditional Information can be found at: https://muw.campuslabs.com/engage/event/11294895
URL:https://www.muw.edu/housing/event/two-step-throwdown/
LOCATION:Stark Backyard
CATEGORIES:Social,Students
END:VEVENT
BEGIN:VEVENT
DTSTART;TZID=America/Chicago:20251008T170000
DTEND;TZID=America/Chicago:20251008T200000
DTSTAMP:20260420T180445
CREATED:20251002T052012Z
LAST-MODIFIED:20251008T060531Z
UID:10001306-1759942800-1759953600@www.muw.edu
SUMMARY:Pumpkin Painting with SPB
DESCRIPTION:Come out and paint a pumpkin and eat some snacks with SPB!\nHosted by: Student Programming Board\nAdditional Information can be found at: https://muw.campuslabs.com/engage/event/11711110
URL:https://www.muw.edu/housing/event/pumpkin-painting-with-spb/
LOCATION:The W Room
CATEGORIES:Social,Students
END:VEVENT
BEGIN:VEVENT
DTSTART;TZID=America/Chicago:20251006T180000
DTEND;TZID=America/Chicago:20251006T204500
DTSTAMP:20260420T180445
CREATED:20251002T052011Z
LAST-MODIFIED:20251006T055020Z
UID:10001305-1759773600-1759783500@www.muw.edu
SUMMARY:R&B Night
DESCRIPTION:Join us for an unforgettable R&B Night hosted by ! Enjoy smooth tunes\, great vibes\, and a night filled with music\, dancing\, and community. This event is the perfect way to relax\, connect\, and celebrate the rhythm of R&B.”\nHosted by: The Mam’selle Social Club\nAdditional Information can be found at: https://muw.campuslabs.com/engage/event/11690753
URL:https://www.muw.edu/housing/event/rb-night/
LOCATION:The Nest
CATEGORIES:Social,Students
END:VEVENT
BEGIN:VEVENT
DTSTART;TZID=America/Chicago:20251003T170000
DTEND;TZID=America/Chicago:20251003T183000
DTSTAMP:20260420T180445
CREATED:20251002T052011Z
LAST-MODIFIED:20251003T053509Z
UID:10001304-1759510800-1759516200@www.muw.edu
SUMMARY:Pink Out Day
DESCRIPTION:Join I.D.E.A.L. Woman and the women of Delta Sigma Theta Sorority\, Inc. for Pink Out Day at Mississippi University for Women! This collaborative event is dedicated to raising awareness about breast cancer during the month of October.\nWear pink and show your support as we come together to educate\, empower\, and uplift our campus community. A Family Nurse Practitioner (FNP) from MUW’s Nursing Program will be on hand to distribute informational pamphlets and share valuable insights about breast cancer prevention\, early detection\, and available resources.\nLet’s unite to spread awareness\, encourage proactive health practices\, and honor the strength of those affected by breast cancer.\nHosted by: I.D.E.A.L. Woman\nAdditional Information can be found at: https://muw.campuslabs.com/engage/event/11690622
URL:https://www.muw.edu/housing/event/pink-out-day/
LOCATION:The Nest
CATEGORIES:Students,ThoughtfulLearning
END:VEVENT
BEGIN:VEVENT
DTSTART;TZID=America/Chicago:20251001T183000
DTEND;TZID=America/Chicago:20251001T203000
DTSTAMP:20260420T180445
CREATED:20250910T032054Z
LAST-MODIFIED:20251001T052014Z
UID:10001267-1759343400-1759350600@www.muw.edu
SUMMARY:MUW Got Talent
DESCRIPTION:The stage is set for an unforgettable night of student talent! From singers to poets\, dancers to comedians—MUW’s got talent! Hosted by Zack Harden with a special intermission performance by United Harmony. Auditions and rehearsals will be held prior to the show. Come out and support your fellow Owls!\nHosted by: Residence Hall Association\, Student Programming Board\, Young Black Leadership Association\nAdditional Information can be found at: https://muw.campuslabs.com/engage/event/11294885
URL:https://www.muw.edu/housing/event/muw-got-talent/
LOCATION:Nissan Auditorium
CATEGORIES:Social,Students
END:VEVENT
BEGIN:VEVENT
DTSTART;TZID=America/Chicago:20251001T160000
DTEND;TZID=America/Chicago:20251001T170000
DTSTAMP:20260420T180445
CREATED:20250918T035017Z
LAST-MODIFIED:20251001T052014Z
UID:10001272-1759334400-1759338000@www.muw.edu
SUMMARY:Reclaiming Pleasure with Catherine Simone Gray
DESCRIPTION:Catherine Simone Gray–also called “Unsilenced Woman” and author of Proud Flesh: A Memoir of Motherhood\, Intimate Violence\, and Reclaiming Pleasure–gathers women\, mothers\, and caregivers to explore how writing can be an ally in our living and loving.\nPart of the Women’s College Colloquium Speaker Series. All are welcome.
URL:https://www.muw.edu/housing/event/reclaiming-pleasure-with-catherine-simone-gray/
LOCATION:Gail P. Gunter Room\, Fant Memorial Library
CATEGORIES:Campus Event,Cultural Calendar,Lecture,Students,ThoughtfulLearning,Women's Mission
ATTACH;FMTTYPE=image/jpeg:https://www.muw.edu/housing/wp-content/uploads/sites/7/2025/09/Proud-Flesh-1-aPS8yc.jpg
END:VEVENT
BEGIN:VEVENT
DTSTART;TZID=America/Chicago:20250930T193000
DTEND;TZID=America/Chicago:20250930T203000
DTSTAMP:20260420T180445
CREATED:20250919T035035Z
LAST-MODIFIED:20250930T052016Z
UID:10001283-1759260600-1759264200@www.muw.edu
SUMMARY:Game Night
DESCRIPTION:Come meet Zetas and Sigmas on campus for fun game night!\nHosted by: Phi Beta Sigma Fraternity Inc.\, Zeta Phi Beta Sorority\, Incorporated\nAdditional Information can be found at: https://muw.campuslabs.com/engage/event/11650638
URL:https://www.muw.edu/housing/event/game-night-2/
LOCATION:Stark Rec (Atrium)
CATEGORIES:Social,Students
END:VEVENT
BEGIN:VEVENT
DTSTART;TZID=America/Chicago:20250930T180800
DTEND;TZID=America/Chicago:20250930T190000
DTSTAMP:20260420T180445
CREATED:20250919T035035Z
LAST-MODIFIED:20250930T052016Z
UID:10001282-1759255680-1759258800@www.muw.edu
SUMMARY:Pretty Kredit
DESCRIPTION:The Pi Zeta Chapter invites you to an informative program on financial literacy and credit building. This event will provide valuable knowledge and practical strategies to help individuals better understand credit\, manage finances wisely\, and build a strong financial foundation for the future.\nHosted by: Alpha Kappa Alpha Sorority\, Incorporated\nAdditional Information can be found at: https://muw.campuslabs.com/engage/event/11607624
URL:https://www.muw.edu/housing/event/pretty-kredit/
LOCATION:Tiered Classroom
CATEGORIES:Students,ThoughtfulLearning
END:VEVENT
BEGIN:VEVENT
DTSTART;TZID=America/Chicago:20250929T180000
DTEND;TZID=America/Chicago:20250929T190000
DTSTAMP:20260420T180445
CREATED:20250910T032054Z
LAST-MODIFIED:20250929T052010Z
UID:10001266-1759168800-1759172400@www.muw.edu
SUMMARY:OL Hangout Game Night
DESCRIPTION:Come join the Orientation Leaders for a fun game night!\nHosted by: Student Success Center\nAdditional Information can be found at: https://muw.campuslabs.com/engage/event/11576203
URL:https://www.muw.edu/housing/event/ol-hangout-game-night/
LOCATION:The Nest
CATEGORIES:Social,Students
END:VEVENT
BEGIN:VEVENT
DTSTART;TZID=America/Chicago:20250926T194500
DTEND;TZID=America/Chicago:20250926T230000
DTSTAMP:20260420T180445
CREATED:20250910T032054Z
LAST-MODIFIED:20250926T045010Z
UID:10001265-1758915900-1758927600@www.muw.edu
SUMMARY:Vibe with the Greeks
DESCRIPTION:Join us for a fun-filled party with light refreshments! We’ll also be announcing the winners of our gift card giveaway—don’t miss out on the celebration and the chance to see if you’re one of the lucky winners!\nHosted by: National Pan-Hellenic Council\nAdditional Information can be found at: https://muw.campuslabs.com/engage/event/11585720
URL:https://www.muw.edu/housing/event/vibe-with-the-greeks/
LOCATION:Behind W Room
CATEGORIES:Social,Students
END:VEVENT
BEGIN:VEVENT
DTSTART;TZID=America/Chicago:20250925T100000
DTEND;TZID=America/Chicago:20250925T130000
DTSTAMP:20260420T180445
CREATED:20250924T043510Z
LAST-MODIFIED:20250925T043518Z
UID:10001293-1758794400-1758805200@www.muw.edu
SUMMARY:Campus Safety Day Tabling
DESCRIPTION:Engage with students to share information about safety on campus.\nHosted by: Culure\, Community\, and Access\nAdditional Information can be found at: https://muw.campuslabs.com/engage/event/11683443
URL:https://www.muw.edu/housing/event/campus-safety-day-tabling/
LOCATION:W Room – Hogarth Student Center
CATEGORIES:Students,ThoughtfulLearning
END:VEVENT
BEGIN:VEVENT
DTSTART;TZID=America/Chicago:20250924T160000
DTEND;TZID=America/Chicago:20250924T170000
DTSTAMP:20260420T180445
CREATED:20250918T035017Z
LAST-MODIFIED:20250924T043510Z
UID:10001271-1758729600-1758733200@www.muw.edu
SUMMARY:Feminist Book Club Session #1
DESCRIPTION:At the club’s first session\, members will discuss Rebecca Solnit’s Men Explain Things to Me.\nLessa Harvey\, an 1884 Fellow in the Women’s College\, created this feminist book club after working at Friendly City Books as a Nancy Yates Community Engagement Fellow in the summer of 2025.
URL:https://www.muw.edu/housing/event/feminist-book-club-session-1-2/
LOCATION:Friendly City Books\, 501 5th St N\, Columbus\, MS\, United States
CATEGORIES:Community Events,Cultural Calendar,Reading,Students,ThoughtfulLearning,Women's Mission
ATTACH;FMTTYPE=image/jpeg:https://www.muw.edu/housing/wp-content/uploads/sites/7/2025/09/Men-Explain-Things-to-Me-WtBXig.jpg
GEO:33.500879;-88.429569
X-APPLE-STRUCTURED-LOCATION;VALUE=URI;X-ADDRESS=Friendly City Books 501 5th St N Columbus MS United States;X-APPLE-RADIUS=500;X-TITLE=501 5th St N:geo:-88.429569,33.500879
END:VEVENT
BEGIN:VEVENT
DTSTART;TZID=America/Chicago:20250924T160000
DTEND;TZID=America/Chicago:20250924T170000
DTSTAMP:20260420T180445
CREATED:20250918T035017Z
LAST-MODIFIED:20250918T035017Z
UID:10001270-1758729600-1758733200@www.muw.edu
SUMMARY:Feminist Book Club Session #1
DESCRIPTION:At the club’s first session\, members will discuss Rebecca Solnit’s Men Explain Things to Me.\nLessa Harvey\, an 1884 Fellow in the Women’s College\, created this feminist book club after working at Friendly City Books as a Nancy Yates Community Engagement Fellow in the summer of 2025.
URL:https://www.muw.edu/housing/event/feminist-book-club-session-1/
LOCATION:Friendly City Books\, 501 5th St N\, Columbus\, MS\, United States
CATEGORIES:Community Events,Cultural Calendar,Reading,Students,ThoughtfulLearning,Women's Mission
ATTACH;FMTTYPE=image/jpeg:https://www.muw.edu/housing/wp-content/uploads/sites/7/2025/09/Men-Explain-Things-to-Me-WtBXig.jpg
GEO:33.500879;-88.429569
X-APPLE-STRUCTURED-LOCATION;VALUE=URI;X-ADDRESS=Friendly City Books 501 5th St N Columbus MS United States;X-APPLE-RADIUS=500;X-TITLE=501 5th St N:geo:-88.429569,33.500879
END:VEVENT
BEGIN:VEVENT
DTSTART;TZID=America/Chicago:20250924T150000
DTEND;TZID=America/Chicago:20250924T170000
DTSTAMP:20260420T180445
CREATED:20250906T032033Z
LAST-MODIFIED:20250924T043510Z
UID:10001259-1758726000-1758733200@www.muw.edu
SUMMARY:Car wash
DESCRIPTION:Support RHA and get your ride squeaky clean! Cars are just $5 and SUVs/Trucks only $10. All proceeds support future student programming. Bring your vehicle and help spread the word!\nHosted by: Residence Hall Association\nAdditional Information can be found at: https://muw.campuslabs.com/engage/event/11294884
URL:https://www.muw.edu/housing/event/car-wash/
LOCATION:Kincannon Yard
CATEGORIES:Fundraising,Students
END:VEVENT
BEGIN:VEVENT
DTSTART;TZID=America/Chicago:20250924T120000
DTEND;TZID=America/Chicago:20250924T130000
DTSTAMP:20260420T180445
CREATED:20250906T032032Z
LAST-MODIFIED:20250924T043510Z
UID:10001258-1758715200-1758718800@www.muw.edu
SUMMARY:Welcome Mixer
DESCRIPTION:🎉 Calling all curious minds\, future educators\, researchers\, and changemakers!\nThe W’s Council on Family Relations invites all students interested in the helping fields to join us in the Education and Human Science Building\, Room 315\, on Wednesday\, September 24th\, at noon for our welcome mixer.\nWCFR is a student organization where passion meets purpose. WCFR works hard to provide students with opportunities to volunteer and serve with various organizations throughout each semester\, in addition to offering leadership and professional development workshops.\nHosted by: The W’s Council on Family Relations\nAdditional Information can be found at: https://muw.campuslabs.com/engage/event/11504424
URL:https://www.muw.edu/housing/event/welcome-mixer/
LOCATION:Education and Human Sciences Building Room 315
CATEGORIES:Social,Students
END:VEVENT
BEGIN:VEVENT
DTSTART;TZID=America/Chicago:20250924T110000
DTEND;TZID=America/Chicago:20250924T130000
DTSTAMP:20260420T180445
CREATED:20250906T032032Z
LAST-MODIFIED:20250924T043510Z
UID:10001257-1758711600-1758718800@www.muw.edu
SUMMARY:Hazing Stops Here
DESCRIPTION:Stop by out table during lunch time and learn about the dangers of hazing\, why it’s harmful and how we’re committed to a hazing-free environment. Let’s work together to promote respect and safety.\nHosted by: National Pan-Hellenic Council\nAdditional Information can be found at: https://muw.campuslabs.com/engage/event/11550356
URL:https://www.muw.edu/housing/event/hazing-stops-here/
LOCATION:Hogarth Dining Hall
CATEGORIES:Social,Students
END:VEVENT
BEGIN:VEVENT
DTSTART;TZID=America/Chicago:20250923T190000
DTEND;TZID=America/Chicago:20250923T210000
DTSTAMP:20260420T180445
CREATED:20250911T033511Z
LAST-MODIFIED:20250923T043510Z
UID:10001268-1758654000-1758661200@www.muw.edu
SUMMARY:Nachos with NPHC
DESCRIPTION:Enjoy a tasty nacho bar while getting to know members of NPHC. We’ll have a fun Kahoot game to test your knowledge of NPHC. It’s a great way to connect\, learn\, and enjoy some delicious food!\nHosted by: National Pan-Hellenic Council\nAdditional Information can be found at: https://muw.campuslabs.com/engage/event/11550309
URL:https://www.muw.edu/housing/event/nachos-with-nphc-2/
LOCATION:Cochran Ballroom
CATEGORIES:Social,Students
END:VEVENT
BEGIN:VEVENT
DTSTART;TZID=America/Chicago:20250923T180000
DTEND;TZID=America/Chicago:20250923T200000
DTSTAMP:20260420T180445
CREATED:20250906T032032Z
LAST-MODIFIED:20250910T032054Z
UID:10001256-1758650400-1758657600@www.muw.edu
SUMMARY:Nachos with NPHC
DESCRIPTION:Enjoy a tasty nacho bar while getting to know members of NPHC. We’ll have a fun Kahoot game to test your knowledge of NPHC. It’s a great way to connect\, learn\, and enjoy some delicious food!\nHosted by: National Pan-Hellenic Council\nAdditional Information can be found at: https://muw.campuslabs.com/engage/event/11550309
URL:https://www.muw.edu/housing/event/nachos-with-nphc/
LOCATION:Cochran Ballroom
CATEGORIES:Social,Students
END:VEVENT
BEGIN:VEVENT
DTSTART;TZID=America/Chicago:20250923T110000
DTEND;TZID=America/Chicago:20250923T130000
DTSTAMP:20260420T180445
CREATED:20250919T035024Z
LAST-MODIFIED:20250923T043510Z
UID:10001281-1758625200-1758632400@www.muw.edu
SUMMARY:FBLA Gift Card Raffle
DESCRIPTION:Ticket raffle for a $50 walmart giftcard.\n1 ticket = $2\n3 Tickets = $5\nHosted by: FBLA Collegiate\nAdditional Information can be found at: https://muw.campuslabs.com/engage/event/11650628
URL:https://www.muw.edu/housing/event/fbla-gift-card-raffle/
LOCATION:Hogarth Cafe
CATEGORIES:Fundraising,Students
END:VEVENT
BEGIN:VEVENT
DTSTART;TZID=America/Chicago:20250923T090000
DTEND;TZID=America/Chicago:20250923T110000
DTSTAMP:20260420T180445
CREATED:20250910T032053Z
LAST-MODIFIED:20250923T043510Z
UID:10001264-1758618000-1758625200@www.muw.edu
SUMMARY:Keep Columbus Beautiful
DESCRIPTION:Keep Columbus Beautiful is excited to partner with MUW’s  Community Service for the September 23rd Day of Service\, and we would love for you to be part of it! This is a great opportunity to give back to the community while making a positive impact alongside your peers.\nEvent Details:Date: Tuesday\, September 23\, 2025\nTime: 8:00 a.m. – 11:00 a.m.Drop-off Locations: Townsend Community Center & Sandfield Park\nGather your friends\, classmates\, or organization members and join us for a morning of service and community pride.\nPlease RSVP\nThank you for helping us keep Columbus beautiful. We look forward to serving with you!\nHosted by: Community Service\nAdditional Information can be found at: https://muw.campuslabs.com/engage/event/11515686
URL:https://www.muw.edu/housing/event/keep-columbus-beautiful-2/
LOCATION:Townsend Community Center
CATEGORIES:CommunityService,Students
END:VEVENT
BEGIN:VEVENT
DTSTART;TZID=America/Chicago:20250923T090000
DTEND;TZID=America/Chicago:20250923T110000
DTSTAMP:20260420T180445
CREATED:20250906T032032Z
LAST-MODIFIED:20250909T032025Z
UID:10001255-1758618000-1758625200@www.muw.edu
SUMMARY:Keep Columbus Beautiful
DESCRIPTION:Keep Columbus Beautiful is excited to partner with MUW’s  Community Service for the September 23rd Day of Service\, and we would love for you to be part of it! This is a great opportunity to give back to the community while making a positive impact alongside your peers.\nEvent Details:Date: Tuesday\, September 23\, 2025\nTime: 8:00 a.m. – 11:00 a.m.Drop-off Locations: Townsend Community Center & Sandfield Park\nGather your friends\, classmates\, or organization members and join us for a morning of service and community pride.\nPlease RSVP\nThank you for helping us keep Columbus beautiful. We look forward to serving with you!\nHosted by: Community Service\nAdditional Information can be found at: https://muw.campuslabs.com/engage/event/11515687
URL:https://www.muw.edu/housing/event/keep-columbus-beautiful/
LOCATION:Sandfield community center
CATEGORIES:CommunityService,Students
END:VEVENT
BEGIN:VEVENT
DTSTART;TZID=America/Chicago:20250922T160000
DTEND;TZID=America/Chicago:20250922T200000
DTSTAMP:20260420T180445
CREATED:20250906T032032Z
LAST-MODIFIED:20250922T043511Z
UID:10001254-1758556800-1758571200@www.muw.edu
SUMMARY:An NPHC Professional Development Day
DESCRIPTION:Join us for the NPHC Professional Development Day! Get ready to elevate your career with a day packed with opportunities. We’re kicking things off with professional headshots at 4 PM—come camera-ready! Immediately following\, we’ll dive into an engaging resume workshop designed to help you craft a standout resume. Don’t miss this chance to network\, learn\, and take your professional game to the next level.\nHosted by: National Pan-Hellenic Council\nAdditional Information can be found at: https://muw.campuslabs.com/engage/event/11561693
URL:https://www.muw.edu/housing/event/an-nphc-professional-development-day/
LOCATION:Tiered Classroom
CATEGORIES:Social,Students
END:VEVENT
BEGIN:VEVENT
DTSTART;TZID=America/Chicago:20250921T104500
DTEND;TZID=America/Chicago:20250921T124500
DTSTAMP:20260420T180445
CREATED:20250919T035023Z
LAST-MODIFIED:20250921T043513Z
UID:10001280-1758451500-1758458700@www.muw.edu
SUMMARY:NPHC Gospel Service
DESCRIPTION:We will be streaming our church service live for those who are unable to attend in person or don’t have transportation. Join us in Nissan and be part of the worship experience from MUW!\nHosted by: National Pan-Hellenic Council\nAdditional Information can be found at: https://muw.campuslabs.com/engage/event/11585997
URL:https://www.muw.edu/housing/event/nphc-gospel-service/
LOCATION:nissan
CATEGORIES:Spirituality,Students
END:VEVENT
BEGIN:VEVENT
DTSTART;TZID=America/Chicago:20250919T110000
DTEND;TZID=America/Chicago:20250919T130000
DTSTAMP:20260420T180445
CREATED:20250919T035023Z
LAST-MODIFIED:20250919T040524Z
UID:10001279-1758279600-1758286800@www.muw.edu
SUMMARY:Pie a Poodle
DESCRIPTION:Members of Tau Omega will sit outside of Hogarth Dining Hall and allow students and faculty to Pie them.\n$1=1 Pie\nHosted by: Sigma Gamma Rho Sorority\, Inc.\nAdditional Information can be found at: https://muw.campuslabs.com/engage/event/11605500
URL:https://www.muw.edu/housing/event/pie-a-poodle-2/
LOCATION:Hogarth Dining Hall
CATEGORIES:Fundraising,Students
END:VEVENT
BEGIN:VEVENT
DTSTART;TZID=America/Chicago:20250919T110000
DTEND;TZID=America/Chicago:20250919T120000
DTSTAMP:20260420T180445
CREATED:20250906T032032Z
LAST-MODIFIED:20250919T040524Z
UID:10001253-1758279600-1758283200@www.muw.edu
SUMMARY:Soak a Silli
DESCRIPTION:Get ready to splash your favorite silhouette\, to help us raise money for our club.\nHosted by: The Silhouette Social Club\nAdditional Information can be found at: https://muw.campuslabs.com/engage/event/11549465
URL:https://www.muw.edu/housing/event/soak-a-silli-2/
LOCATION:Hogarth Cafeteria
CATEGORIES:Fundraising,Students
END:VEVENT
BEGIN:VEVENT
DTSTART;TZID=America/Chicago:20250916T110000
DTEND;TZID=America/Chicago:20250916T133000
DTSTAMP:20260420T180445
CREATED:20250906T032032Z
LAST-MODIFIED:20250916T035011Z
UID:10001252-1758020400-1758029400@www.muw.edu
SUMMARY:Soak a Silli
DESCRIPTION:Get ready to splash your favorite silhouette\, to help us raise money for our club.\nHosted by: The Silhouette Social Club\nAdditional Information can be found at: https://muw.campuslabs.com/engage/event/11549464
URL:https://www.muw.edu/housing/event/soak-a-silli/
LOCATION:Hogarth Cafeteria
CATEGORIES:Fundraising,Students
END:VEVENT
BEGIN:VEVENT
DTSTART;TZID=America/Chicago:20250911T180000
DTEND;TZID=America/Chicago:20250911T200000
DTSTAMP:20260420T180445
CREATED:20250903T030522Z
LAST-MODIFIED:20250911T033510Z
UID:10001233-1757613600-1757620800@www.muw.edu
SUMMARY:BKT Rush: Invite Dinner
DESCRIPTION:Tonight is the last night of rush! Come and join the brothers for a free dinner!\nHosted by: The Brotherhood of Beta Kappa Tau\nAdditional Information can be found at: https://muw.campuslabs.com/engage/event/11465622
URL:https://www.muw.edu/housing/event/bkt-rush-invite-dinner-2/
LOCATION:Cochran Ballroom
CATEGORIES:Social,Students
END:VEVENT
BEGIN:VEVENT
DTSTART;TZID=America/Chicago:20250910T180000
DTEND;TZID=America/Chicago:20250910T200000
DTSTAMP:20260420T180445
CREATED:20250903T030522Z
LAST-MODIFIED:20250910T032053Z
UID:10001232-1757527200-1757534400@www.muw.edu
SUMMARY:BKT Rush: History Night
DESCRIPTION:This event is the second night of rush! Come out and meet the brothers and learn about the history of the fraternity!\nHosted by: The Brotherhood of Beta Kappa Tau\nAdditional Information can be found at: https://muw.campuslabs.com/engage/event/11465681
URL:https://www.muw.edu/housing/event/bkt-rush-history-night-2/
LOCATION:Cochran Ballroom
CATEGORIES:Social,Students
END:VEVENT
END:VCALENDAR