BEGIN:VCALENDAR
VERSION:2.0
PRODID:-//Housing &amp; Residence Life - ECPv6.15.17.1//NONSGML v1.0//EN
CALSCALE:GREGORIAN
METHOD:PUBLISH
X-ORIGINAL-URL:https://www.muw.edu/housing
X-WR-CALDESC:Events for Housing &amp; Residence Life
REFRESH-INTERVAL;VALUE=DURATION:PT1H
X-Robots-Tag:noindex
X-PUBLISHED-TTL:PT1H
BEGIN:VTIMEZONE
TZID:America/Chicago
BEGIN:DAYLIGHT
TZOFFSETFROM:-0600
TZOFFSETTO:-0500
TZNAME:CDT
DTSTART:20240310T080000
END:DAYLIGHT
BEGIN:STANDARD
TZOFFSETFROM:-0500
TZOFFSETTO:-0600
TZNAME:CST
DTSTART:20241103T070000
END:STANDARD
BEGIN:DAYLIGHT
TZOFFSETFROM:-0600
TZOFFSETTO:-0500
TZNAME:CDT
DTSTART:20250309T080000
END:DAYLIGHT
BEGIN:STANDARD
TZOFFSETFROM:-0500
TZOFFSETTO:-0600
TZNAME:CST
DTSTART:20251102T070000
END:STANDARD
BEGIN:DAYLIGHT
TZOFFSETFROM:-0600
TZOFFSETTO:-0500
TZNAME:CDT
DTSTART:20260308T080000
END:DAYLIGHT
BEGIN:STANDARD
TZOFFSETFROM:-0500
TZOFFSETTO:-0600
TZNAME:CST
DTSTART:20261101T070000
END:STANDARD
BEGIN:DAYLIGHT
TZOFFSETFROM:-0600
TZOFFSETTO:-0500
TZNAME:CDT
DTSTART:20270314T080000
END:DAYLIGHT
BEGIN:STANDARD
TZOFFSETFROM:-0500
TZOFFSETTO:-0600
TZNAME:CST
DTSTART:20271107T070000
END:STANDARD
END:VTIMEZONE
BEGIN:VEVENT
DTSTART;TZID=America/Chicago:20260416T180000
DTEND;TZID=America/Chicago:20260416T203000
DTSTAMP:20260419T223639
CREATED:20260409T080513Z
LAST-MODIFIED:20260416T085011Z
UID:10001492-1776362400-1776371400@www.muw.edu
SUMMARY:Swim 1922
DESCRIPTION:Members of Sigma Gamma Rho Sorority Inc. will host a swim educational event to educate students on the safety of swimming.\nHosted by: Sigma Gamma Rho Sorority\, Inc.\nAdditional Information can be found at: https://muw.campuslabs.com/engage/event/12211235
URL:https://www.muw.edu/housing/event/swim-1922-4/
LOCATION:Stark Recreation Center\, 521 N 11th St\, Columbus\, MS\, United States
CATEGORIES:Social,Students
GEO:33.500546;-88.42173
X-APPLE-STRUCTURED-LOCATION;VALUE=URI;X-ADDRESS=Stark Recreation Center 521 N 11th St Columbus MS United States;X-APPLE-RADIUS=500;X-TITLE=521 N 11th St:geo:-88.42173,33.500546
END:VEVENT
BEGIN:VEVENT
DTSTART;TZID=America/Chicago:20260415T180000
DTEND;TZID=America/Chicago:20260415T203000
DTSTAMP:20260419T223639
CREATED:20260328T080513Z
LAST-MODIFIED:20260408T080511Z
UID:10001465-1776276000-1776285000@www.muw.edu
SUMMARY:Swim 1922
DESCRIPTION:Members of Sigma Gamma Rho Sorority Inc. will host a swim educational event to educate students on the safety of swimming.\nHosted by: Sigma Gamma Rho Sorority\, Inc.\nAdditional Information can be found at: https://muw.campuslabs.com/engage/event/12211235
URL:https://www.muw.edu/housing/event/swim-1922-3/
LOCATION:Stark Recreation Center\, 521 N 11th St\, Columbus\, MS\, United States
CATEGORIES:Social,Students
GEO:33.500546;-88.42173
X-APPLE-STRUCTURED-LOCATION;VALUE=URI;X-ADDRESS=Stark Recreation Center 521 N 11th St Columbus MS United States;X-APPLE-RADIUS=500;X-TITLE=521 N 11th St:geo:-88.42173,33.500546
END:VEVENT
BEGIN:VEVENT
DTSTART;TZID=America/Chicago:20260326T180000
DTEND;TZID=America/Chicago:20260326T200000
DTSTAMP:20260419T223639
CREATED:20260228T070513Z
LAST-MODIFIED:20260302T070519Z
UID:10001453-1774548000-1774555200@www.muw.edu
SUMMARY:Women’s History Trivia Night
DESCRIPTION:Celebrate Women’s History Month with a fun\, fast-paced Trivia Night hosted by the Women’s College in collaboration with Munson Brothers Trading Post! Test your knowledge of trailblazing women\, landmark movements\, pop culture icons\, and lesser-known stories that shaped history. Grab a delicious slice of Munson Bro. pizza while you’re at it!
URL:https://www.muw.edu/housing/event/womens-history-trivia-night/
LOCATION:Munson Brothers Trading Post\, 301 S 2nd Ave\, Columbus\, MS\, United States
CATEGORIES:Community Events,Social,Special Events,Students,Women's History Month,Women's Mission
ORGANIZER;CN="Women's College":MAILTO:womenscollege@muw.edu
GEO:33.493589;-88.430459
X-APPLE-STRUCTURED-LOCATION;VALUE=URI;X-ADDRESS=Munson Brothers Trading Post 301 S 2nd Ave Columbus MS United States;X-APPLE-RADIUS=500;X-TITLE=301 S 2nd Ave:geo:-88.430459,33.493589
END:VEVENT
BEGIN:VEVENT
DTSTART;TZID=America/Chicago:20260324T180000
DTEND;TZID=America/Chicago:20260324T200000
DTSTAMP:20260419T223639
CREATED:20260303T070512Z
LAST-MODIFIED:20260324T075020Z
UID:10001454-1774375200-1774382400@www.muw.edu
SUMMARY:Women’s History Trivia Night
DESCRIPTION:Celebrate Women’s History Month with a fun\, fast-paced Trivia Night hosted by the Women’s College in collaboration with Munson Brothers Trading Post! Test your knowledge of trailblazing women\, landmark movements\, pop culture icons\, and lesser-known stories that shaped history. Grab a delicious slice of Munson Bro. pizza while you’re at it!
URL:https://www.muw.edu/housing/event/womens-history-trivia-night-2/
LOCATION:Munson Brothers Trading Post\, 301 S 2nd Ave\, Columbus\, MS\, United States
CATEGORIES:Community Events,Social,Special Events,Students,Women's History Month,Women's Mission
ORGANIZER;CN="Women's College":MAILTO:womenscollege@muw.edu
GEO:33.493589;-88.430459
X-APPLE-STRUCTURED-LOCATION;VALUE=URI;X-ADDRESS=Munson Brothers Trading Post 301 S 2nd Ave Columbus MS United States;X-APPLE-RADIUS=500;X-TITLE=301 S 2nd Ave:geo:-88.430459,33.493589
END:VEVENT
BEGIN:VEVENT
DTSTART;TZID=America/Chicago:20260301T120000
DTEND;TZID=America/Chicago:20260307T170000
DTSTAMP:20260419T223639
CREATED:20260221T065010Z
LAST-MODIFIED:20260307T072027Z
UID:10001432-1772366400-1772902800@www.muw.edu
SUMMARY:Notes of Hope: March of Dimes
DESCRIPTION:Students have the opportunity to write /type letters (Notes of Hope) to parents or health providers in the NICU (Neonatal Intensive Care Unit).\nHosted by: Phi Beta Sigma Fraternity Inc.\nAdditional Information can be found at: https://muw.campuslabs.com/engage/event/12131364
URL:https://www.muw.edu/housing/event/notes-of-hope-march-of-dimes/
LOCATION:Online
CATEGORIES:Social,Students
END:VEVENT
BEGIN:VEVENT
DTSTART;TZID=America/Chicago:20260223T160000
DTEND;TZID=America/Chicago:20260226T180000
DTSTAMP:20260419T223639
CREATED:20260221T065009Z
LAST-MODIFIED:20260226T065015Z
UID:10001428-1771862400-1772128800@www.muw.edu
SUMMARY:Cookies and Crafts
DESCRIPTION:Come out work on crafts and enjoy some cookies with the members of spb.\nHosted by: Student Programming Board\nAdditional Information can be found at: https://muw.campuslabs.com/engage/event/12203750
URL:https://www.muw.edu/housing/event/cookies-and-crafts/
LOCATION:The Nest
CATEGORIES:Social,Students
END:VEVENT
BEGIN:VEVENT
DTSTART;TZID=America/Chicago:20260212T180000
DTEND;TZID=America/Chicago:20260212T190000
DTSTAMP:20260419T223639
CREATED:20260115T062021Z
LAST-MODIFIED:20260115T062021Z
UID:10001399-1770919200-1770922800@www.muw.edu
SUMMARY:"Levels to This\," with Dr. Shonna Tillman of the Southern Poverty Law Center
DESCRIPTION:Do you know what the attorney general’s office is responsible for? What about the mayor?\nTest your knowledge of local government in this interactive game developed by the Southern Poverty Law Center. This installment of the Spring 2026 Honors Forum series aims to get students and community members thinking about the government officials who impact everyday peoples’ lives.\nDr. Shonna Tillman\, one of the contributors to “Levels to This” and a proponent of grassroots activism\, will lead the game.
URL:https://www.muw.edu/housing/event/levels-to-this-with-dr-shonna-tillman-of-the-southern-poverty-law-center-2/
LOCATION:Gail P. Gunter Room\, Fant Library
CATEGORIES:Campus Event,Community Events,CommunityService,Cultural Calendar,Honors Forum,Social,Students,ThoughtfulLearning
ATTACH;FMTTYPE=image/jpeg:https://www.muw.edu/housing/wp-content/uploads/sites/7/2026/01/Tillman_SPLC-resized-1gyOBp.jpg
END:VEVENT
BEGIN:VEVENT
DTSTART;TZID=America/Chicago:20260212T180000
DTEND;TZID=America/Chicago:20260212T190000
DTSTAMP:20260419T223639
CREATED:20260115T062020Z
LAST-MODIFIED:20260212T065013Z
UID:10001400-1770919200-1770922800@www.muw.edu
SUMMARY:"Levels to This\," with Dr. Shonna Tillman of the Southern Poverty Law Center
DESCRIPTION:Do you know what the attorney general’s office is responsible for? What about the mayor?\nTest your knowledge of local government in this interactive game developed by the Southern Poverty Law Center. This installment of the Spring 2026 Honors Forum series aims to get students and community members thinking about the government officials who impact everyday peoples’ lives.\nDr. Shonna Tillman\, one of the contributors to “Levels to This” and a proponent of grassroots activism\, will lead the game.
URL:https://www.muw.edu/housing/event/levels-to-this-with-dr-shonna-tillman-of-the-southern-poverty-law-center/
LOCATION:Gail P. Gunter Room\, Fant Library
CATEGORIES:Campus Event,Community Events,CommunityService,Cultural Calendar,Honors Forum,Social,Students,ThoughtfulLearning
ATTACH;FMTTYPE=image/jpeg:https://www.muw.edu/housing/wp-content/uploads/sites/7/2026/01/Tillman_SPLC-resized-1gyOBp.jpg
END:VEVENT
BEGIN:VEVENT
DTSTART;TZID=America/Chicago:20260123T180000
DTEND;TZID=America/Chicago:20260123T220000
DTSTAMP:20260419T223639
CREATED:20260122T063513Z
LAST-MODIFIED:20260123T063523Z
UID:10001404-1769191200-1769205600@www.muw.edu
SUMMARY:Break the Chains: Human Trafficking Awareness Movie Night
DESCRIPTION:This is part two of us spreading the awareness for Human Trafficking. We will be watching the movie Taken at a Truck Stop: A Black Girl Missing Movie and eating popcorn\nHosted by: National Pan-Hellenic Council\nAdditional Information can be found at: https://muw.campuslabs.com/engage/event/12022492
URL:https://www.muw.edu/housing/event/break-the-chains-human-trafficking-awareness-movie-night/
LOCATION:Tiered Classrom
CATEGORIES:Social,Students
END:VEVENT
BEGIN:VEVENT
DTSTART;TZID=America/Chicago:20260122T113000
DTEND;TZID=America/Chicago:20260122T143000
DTSTAMP:20260419T223639
CREATED:20260122T063513Z
LAST-MODIFIED:20260122T063513Z
UID:10001402-1769081400-1769092200@www.muw.edu
SUMMARY:Tabletop Social
DESCRIPTION:Come out and enjoy board games and coke floats with the members of SPB!\nHosted by: Student Programming Board\nAdditional Information can be found at: https://muw.campuslabs.com/engage/event/12059845
URL:https://www.muw.edu/housing/event/tabletop-social/
LOCATION:The Nest
CATEGORIES:Social,Students
END:VEVENT
BEGIN:VEVENT
DTSTART;TZID=America/Chicago:20251119T200000
DTEND;TZID=America/Chicago:20251119T220000
DTSTAMP:20260419T223639
CREATED:20251108T173044Z
LAST-MODIFIED:20251120T003530Z
UID:10001373-1763582400-1763589600@www.muw.edu
SUMMARY:PJs & Crafts
DESCRIPTION:Unwind before the holiday break with a cozy night of PJs and creativity! Enjoy crafts like beading\, painting\, and coloring in a chill\, relaxing atmosphere with music and refreshments. Comfy clothes encouraged!Take a break—you deserve it!\nHosted by: Residence Hall Association\nAdditional Information can be found at: https://muw.campuslabs.com/engage/event/11294905
URL:https://www.muw.edu/housing/event/pjs-crafts/
LOCATION:The W Room & The Nest
CATEGORIES:Social,Students
END:VEVENT
BEGIN:VEVENT
DTSTART;TZID=America/Chicago:20251119T193000
DTEND;TZID=America/Chicago:20251119T220000
DTSTAMP:20260419T223639
CREATED:20251108T173043Z
LAST-MODIFIED:20251120T003530Z
UID:10001372-1763580600-1763589600@www.muw.edu
SUMMARY:Lip Sync Battle
DESCRIPTION:A lip sync battle is a super fun showdown where you and your friends pick songs and then hilariously pretend to sing them! Grab a mic\, pick a tune\, and go all out with acting\, dancing\, and just having a blast. The best part is letting loose and enjoying the music together.\nHosted by: Owlettes\nAdditional Information can be found at: https://muw.campuslabs.com/engage/event/11758321
URL:https://www.muw.edu/housing/event/lip-sync-battle/
LOCATION:W Room
CATEGORIES:Social,Students
END:VEVENT
BEGIN:VEVENT
DTSTART;TZID=America/Chicago:20251118T190000
DTEND;TZID=America/Chicago:20251120T220000
DTSTAMP:20260419T223639
CREATED:20251108T173044Z
LAST-MODIFIED:20251108T173044Z
UID:10001361-1763492400-1763676000@www.muw.edu
SUMMARY:Wild Wild West!
DESCRIPTION:Come out have a great time at the Wild Wild West event hosted by SPB! Come out and show off your line dancing skills and eat some good food!\nHosted by: Student Programming Board\nAdditional Information can be found at: https://muw.campuslabs.com/engage/event/11711163
URL:https://www.muw.edu/housing/event/wild-wild-west-3/
LOCATION:Stark Backyard
CATEGORIES:Social,Students
END:VEVENT
BEGIN:VEVENT
DTSTART;TZID=America/Chicago:20251118T190000
DTEND;TZID=America/Chicago:20251120T220000
DTSTAMP:20260419T223639
CREATED:20251108T173043Z
LAST-MODIFIED:20251121T003518Z
UID:10001371-1763492400-1763676000@www.muw.edu
SUMMARY:Wild Wild West!
DESCRIPTION:Come out have a great time at the Wild Wild West event hosted by SPB! Come out and show off your line dancing skills and eat some good food!\nHosted by: Student Programming Board\nAdditional Information can be found at: https://muw.campuslabs.com/engage/event/11711163
URL:https://www.muw.edu/housing/event/wild-wild-west-2/
LOCATION:Stark Backyard
CATEGORIES:Social,Students
END:VEVENT
BEGIN:VEVENT
DTSTART;TZID=America/Chicago:20251118T180800
DTEND;TZID=America/Chicago:20251118T203000
DTSTAMP:20260419T223639
CREATED:20251108T173043Z
LAST-MODIFIED:20251108T173043Z
UID:10001359-1763489280-1763497800@www.muw.edu
SUMMARY:Friendsgiving with the PHinest
DESCRIPTION:The Pi Zeta Chapter of Alpha Kappa Alpha Sorority\, Inc. invites you to a Friendsgiving celebration of fellowship and service. Donate items to enter our raffle\, then join us before Thanksgiving for games\, finger foods\, and packing care packages for the homeless. The raffle winner will be announced at the event.\nHosted by: Alpha Kappa Alpha Sorority\, Incorporated\nAdditional Information can be found at: https://muw.campuslabs.com/engage/event/11723369
URL:https://www.muw.edu/housing/event/friendsgiving-with-the-phinest-2/
LOCATION:G.P Gunter Room
CATEGORIES:Social,Students
END:VEVENT
BEGIN:VEVENT
DTSTART;TZID=America/Chicago:20251118T180800
DTEND;TZID=America/Chicago:20251118T203000
DTSTAMP:20260419T223639
CREATED:20251108T173043Z
LAST-MODIFIED:20251119T003521Z
UID:10001370-1763489280-1763497800@www.muw.edu
SUMMARY:Friendsgiving with the PHinest
DESCRIPTION:The Pi Zeta Chapter of Alpha Kappa Alpha Sorority\, Inc. invites you to a Friendsgiving celebration of fellowship and service. Donate items to enter our raffle\, then join us before Thanksgiving for games\, finger foods\, and packing care packages for the homeless. The raffle winner will be announced at the event.\nHosted by: Alpha Kappa Alpha Sorority\, Incorporated\nAdditional Information can be found at: https://muw.campuslabs.com/engage/event/11723369
URL:https://www.muw.edu/housing/event/friendsgiving-with-the-phinest/
LOCATION:G.P Gunter Room
CATEGORIES:Social,Students
END:VEVENT
BEGIN:VEVENT
DTSTART;TZID=America/Chicago:20251116T080000
DTEND;TZID=America/Chicago:20251116T234500
DTSTAMP:20260419T223639
CREATED:20251108T173043Z
LAST-MODIFIED:20251117T003515Z
UID:10001369-1763280000-1763336700@www.muw.edu
SUMMARY:Leave It On The Floor (Step & Dance Showcase)
DESCRIPTION:Get ready to feel the beat! Our school and community performers are bringing the heat with an unforgettable step and dance showcase!\nHosted by: Owlettes\nAdditional Information can be found at: https://muw.campuslabs.com/engage/event/11811553
URL:https://www.muw.edu/housing/event/leave-it-on-the-floor-step-dance-showcase/
LOCATION:Rent Auditorium
CATEGORIES:Social,Students
END:VEVENT
BEGIN:VEVENT
DTSTART;TZID=America/Chicago:20251116T080000
DTEND;TZID=America/Chicago:20251116T234500
DTSTAMP:20260419T223639
CREATED:20251108T173043Z
LAST-MODIFIED:20251108T173043Z
UID:10001357-1763280000-1763336700@www.muw.edu
SUMMARY:Leave It On The Floor (Step & Dance Showcase)
DESCRIPTION:Get ready to feel the beat! Our school and community performers are bringing the heat with an unforgettable step and dance showcase!\nHosted by: Owlettes\nAdditional Information can be found at: https://muw.campuslabs.com/engage/event/11811553
URL:https://www.muw.edu/housing/event/leave-it-on-the-floor-step-dance-showcase-2/
LOCATION:Rent Auditorium
CATEGORIES:Social,Students
END:VEVENT
BEGIN:VEVENT
DTSTART;TZID=America/Chicago:20251111T190000
DTEND;TZID=America/Chicago:20251111T220000
DTSTAMP:20260419T223639
CREATED:20251021T073512Z
LAST-MODIFIED:20251102T080602Z
UID:10001342-1762887600-1762898400@www.muw.edu
SUMMARY:Movie Night
DESCRIPTION:Members of SGRho will be displaying a movie for the students to watch.\nHosted by: Sigma Gamma Rho Sorority\, Inc.\nAdditional Information can be found at: https://muw.campuslabs.com/engage/event/11684918
URL:https://www.muw.edu/housing/event/movie-night-3/
LOCATION:Cochran Ballroom
CATEGORIES:Social,Students
END:VEVENT
BEGIN:VEVENT
DTSTART;TZID=America/Chicago:20251111T180000
DTEND;TZID=America/Chicago:20251111T210000
DTSTAMP:20260419T223639
CREATED:20251103T080531Z
LAST-MODIFIED:20251112T002022Z
UID:10001348-1762884000-1762894800@www.muw.edu
SUMMARY:Movie Night
DESCRIPTION:Members of SGRho will be displaying a movie for the students to watch.\nHosted by: Sigma Gamma Rho Sorority\, Inc.\nAdditional Information can be found at: https://muw.campuslabs.com/engage/event/11684918
URL:https://www.muw.edu/housing/event/movie-night-4/
LOCATION:Cochran Ballroom
CATEGORIES:Social,Students
END:VEVENT
BEGIN:VEVENT
DTSTART;TZID=America/Chicago:20251111T110000
DTEND;TZID=America/Chicago:20251111T130000
DTSTAMP:20260419T223639
CREATED:20251108T173042Z
LAST-MODIFIED:20251110T175041Z
UID:10001367-1762858800-1762866000@www.muw.edu
SUMMARY:Pause for Paws
DESCRIPTION:Pause for Paws! Slow down and take a break in your day for your potential support dog. Learn about adoption and how to get them registered on campus!\nHosted by: Sigma Gamma Rho Sorority\, Inc.\, Zeta Phi Beta Sorority\, Incorporated\nAdditional Information can be found at: https://muw.campuslabs.com/engage/event/11807995
URL:https://www.muw.edu/housing/event/pause-for-paws-4/
LOCATION:Turner Hall Back Lawn
CATEGORIES:Social,Students
END:VEVENT
BEGIN:VEVENT
DTSTART;TZID=America/Chicago:20251111T110000
DTEND;TZID=America/Chicago:20251111T130000
DTSTAMP:20260419T223639
CREATED:20251108T173042Z
LAST-MODIFIED:20251108T173042Z
UID:10001353-1762858800-1762866000@www.muw.edu
SUMMARY:Pause for Paws
DESCRIPTION:Pause for Paws! Slow down and take a break in your day for your potential support dog. Learn about adoption and how to get them registered on campus!\nHosted by: Sigma Gamma Rho Sorority\, Inc.\, Zeta Phi Beta Sorority\, Incorporated\nAdditional Information can be found at: https://muw.campuslabs.com/engage/event/11807995
URL:https://www.muw.edu/housing/event/pause-for-paws-5/
LOCATION:Turner Hall Back Lawn
CATEGORIES:Social,Students
END:VEVENT
BEGIN:VEVENT
DTSTART;TZID=America/Chicago:20251103T190000
DTEND;TZID=America/Chicago:20251103T220000
DTSTAMP:20260419T223639
CREATED:20251017T065030Z
LAST-MODIFIED:20251020T072012Z
UID:10001339-1762196400-1762207200@www.muw.edu
SUMMARY:Movie Night
DESCRIPTION:Members of SGRho will be displaying a movie for the students to watch.\nHosted by: Sigma Gamma Rho Sorority\, Inc.\nAdditional Information can be found at: https://muw.campuslabs.com/engage/event/11684918
URL:https://www.muw.edu/housing/event/movie-night-2/
LOCATION:Cochran Ballroom
CATEGORIES:Social,Students
END:VEVENT
BEGIN:VEVENT
DTSTART;TZID=America/Chicago:20251029T200000
DTEND;TZID=America/Chicago:20251029T220000
DTSTAMP:20260419T223639
CREATED:20251002T052014Z
LAST-MODIFIED:20251029T080538Z
UID:10001316-1761768000-1761775200@www.muw.edu
SUMMARY:Scaryoke
DESCRIPTION:It’s baaaack! Join us for a spooky night of karaoke and costumes. Come dressed to impress for a chance to win the costume contest! Enjoy sweet treats and Halloween vibes.Prizes\, scary-good performances\, and s’more dip await!\nHosted by: Residence Hall Association\, Student Programming Board\nAdditional Information can be found at: https://muw.campuslabs.com/engage/event/11294902
URL:https://www.muw.edu/housing/event/scaryoke-2/
LOCATION:Library Patio
CATEGORIES:Social,Students
END:VEVENT
BEGIN:VEVENT
DTSTART;TZID=America/Chicago:20251028T181500
DTEND;TZID=America/Chicago:20251028T200000
DTSTAMP:20260419T223639
CREATED:20251002T052013Z
LAST-MODIFIED:20251028T080514Z
UID:10001315-1761675300-1761681600@www.muw.edu
SUMMARY:Dancing Through Distractions
DESCRIPTION:Join us for ‘Dancing Through Distractions’ this October! It’s a fun line dance event for ADHD Awareness Month. Dance\, connect\, and support ADHD awareness. All levels welcome! We will be going the line dance instructor in the rec center\nHosted by: National Pan-Hellenic Council\nAdditional Information can be found at: https://muw.campuslabs.com/engage/event/11680395
URL:https://www.muw.edu/housing/event/dancing-through-distractions/
LOCATION:Stark Rec
CATEGORIES:Social,Students
END:VEVENT
BEGIN:VEVENT
DTSTART;TZID=America/Chicago:20251023T110000
DTEND;TZID=America/Chicago:20251023T130000
DTSTAMP:20260419T223639
CREATED:20251017T065029Z
LAST-MODIFIED:20251023T075015Z
UID:10001333-1761217200-1761224400@www.muw.edu
SUMMARY:Thriving Thursday
DESCRIPTION:With the partnership of Campus Rec and the Counseling Center\, we will host a mental health\, wellness\, and relaxation day held in Stark Backyard. This event will give students a chance to focus on their mental health while playing games…. an easy way to release stress.\nHosted by: Student Success Center\nAdditional Information can be found at: https://muw.campuslabs.com/engage/event/11781323
URL:https://www.muw.edu/housing/event/thriving-thursday/
LOCATION:Stark Backyard
CATEGORIES:Social,Students
END:VEVENT
BEGIN:VEVENT
DTSTART;TZID=America/Chicago:20251022T120000
DTEND;TZID=America/Chicago:20251022T130000
DTSTAMP:20260419T223639
CREATED:20251017T065029Z
LAST-MODIFIED:20251022T073546Z
UID:10001332-1761134400-1761138000@www.muw.edu
SUMMARY:Web of Connections Wednesday
DESCRIPTION:Transfer students are encouraged to stop by and enjoy treats\, button making\, and advice. There will be a banner for all transfer students to sign giving/receiving advice for all transfer students.\nHosted by: Student Success Center\nAdditional Information can be found at: https://muw.campuslabs.com/engage/event/11781248
URL:https://www.muw.edu/housing/event/web-of-connections-wednesday/
LOCATION:Student Success Center Steps (Rain Location: Cochran Ballroom)
CATEGORIES:Social,Students
END:VEVENT
BEGIN:VEVENT
DTSTART;TZID=America/Chicago:20251020T180000
DTEND;TZID=America/Chicago:20251020T190000
DTSTAMP:20260419T223639
CREATED:20251017T065029Z
LAST-MODIFIED:20251020T072011Z
UID:10001328-1760983200-1760986800@www.muw.edu
SUMMARY:Monster Mic Monday
DESCRIPTION:The begin National Transfer Student Week\, students are encouraged to join the Student Success Center and RHA for an Open Mic Night\, showcasing their talents.\nHosted by: Residence Hall Association\, Student Success Center\nAdditional Information can be found at: https://muw.campuslabs.com/engage/event/11781578
URL:https://www.muw.edu/housing/event/monster-mic-monday/
LOCATION:Nissan Auditorium
CATEGORIES:Social,Students
END:VEVENT
BEGIN:VEVENT
DTSTART;TZID=America/Chicago:20251008T200000
DTEND;TZID=America/Chicago:20251008T220000
DTSTAMP:20260419T223639
CREATED:20250924T043510Z
LAST-MODIFIED:20251008T060531Z
UID:10001294-1759953600-1759960800@www.muw.edu
SUMMARY:Two-Step Throwdown
DESCRIPTION:Put on your boots and get ready to dance the night away! Join us for a night of country and blues tunes\, line dancing\, and good vibes. Light snacks and drinks provided. Whether you’re a pro dancer or just want to vibe—this is the night for you!\nHosted by: Residence Hall Association\nAdditional Information can be found at: https://muw.campuslabs.com/engage/event/11294895
URL:https://www.muw.edu/housing/event/two-step-throwdown/
LOCATION:Stark Backyard
CATEGORIES:Social,Students
END:VEVENT
BEGIN:VEVENT
DTSTART;TZID=America/Chicago:20251008T170000
DTEND;TZID=America/Chicago:20251008T200000
DTSTAMP:20260419T223639
CREATED:20251002T052012Z
LAST-MODIFIED:20251008T060531Z
UID:10001306-1759942800-1759953600@www.muw.edu
SUMMARY:Pumpkin Painting with SPB
DESCRIPTION:Come out and paint a pumpkin and eat some snacks with SPB!\nHosted by: Student Programming Board\nAdditional Information can be found at: https://muw.campuslabs.com/engage/event/11711110
URL:https://www.muw.edu/housing/event/pumpkin-painting-with-spb/
LOCATION:The W Room
CATEGORIES:Social,Students
END:VEVENT
END:VCALENDAR