BEGIN:VCALENDAR
VERSION:2.0
PRODID:-//Housing &amp; Residence Life - ECPv6.15.17.1//NONSGML v1.0//EN
CALSCALE:GREGORIAN
METHOD:PUBLISH
X-ORIGINAL-URL:https://www.muw.edu/housing
X-WR-CALDESC:Events for Housing &amp; Residence Life
REFRESH-INTERVAL;VALUE=DURATION:PT1H
X-Robots-Tag:noindex
X-PUBLISHED-TTL:PT1H
BEGIN:VTIMEZONE
TZID:America/Chicago
BEGIN:DAYLIGHT
TZOFFSETFROM:-0600
TZOFFSETTO:-0500
TZNAME:CDT
DTSTART:20240310T080000
END:DAYLIGHT
BEGIN:STANDARD
TZOFFSETFROM:-0500
TZOFFSETTO:-0600
TZNAME:CST
DTSTART:20241103T070000
END:STANDARD
BEGIN:DAYLIGHT
TZOFFSETFROM:-0600
TZOFFSETTO:-0500
TZNAME:CDT
DTSTART:20250309T080000
END:DAYLIGHT
BEGIN:STANDARD
TZOFFSETFROM:-0500
TZOFFSETTO:-0600
TZNAME:CST
DTSTART:20251102T070000
END:STANDARD
BEGIN:DAYLIGHT
TZOFFSETFROM:-0600
TZOFFSETTO:-0500
TZNAME:CDT
DTSTART:20260308T080000
END:DAYLIGHT
BEGIN:STANDARD
TZOFFSETFROM:-0500
TZOFFSETTO:-0600
TZNAME:CST
DTSTART:20261101T070000
END:STANDARD
END:VTIMEZONE
BEGIN:VEVENT
DTSTART;TZID=America/Chicago:20250923T180000
DTEND;TZID=America/Chicago:20250923T200000
DTSTAMP:20260420T214301
CREATED:20250906T032032Z
LAST-MODIFIED:20250910T032054Z
UID:10001256-1758650400-1758657600@www.muw.edu
SUMMARY:Nachos with NPHC
DESCRIPTION:Enjoy a tasty nacho bar while getting to know members of NPHC. We’ll have a fun Kahoot game to test your knowledge of NPHC. It’s a great way to connect\, learn\, and enjoy some delicious food!\nHosted by: National Pan-Hellenic Council\nAdditional Information can be found at: https://muw.campuslabs.com/engage/event/11550309
URL:https://www.muw.edu/housing/event/nachos-with-nphc/
LOCATION:Cochran Ballroom
CATEGORIES:Social,Students
END:VEVENT
BEGIN:VEVENT
DTSTART;TZID=America/Chicago:20250923T190000
DTEND;TZID=America/Chicago:20250923T210000
DTSTAMP:20260420T214301
CREATED:20250911T033511Z
LAST-MODIFIED:20250923T043510Z
UID:10001268-1758654000-1758661200@www.muw.edu
SUMMARY:Nachos with NPHC
DESCRIPTION:Enjoy a tasty nacho bar while getting to know members of NPHC. We’ll have a fun Kahoot game to test your knowledge of NPHC. It’s a great way to connect\, learn\, and enjoy some delicious food!\nHosted by: National Pan-Hellenic Council\nAdditional Information can be found at: https://muw.campuslabs.com/engage/event/11550309
URL:https://www.muw.edu/housing/event/nachos-with-nphc-2/
LOCATION:Cochran Ballroom
CATEGORIES:Social,Students
END:VEVENT
END:VCALENDAR