BEGIN:VCALENDAR
VERSION:2.0
PRODID:-//Housing &amp; Residence Life - ECPv6.15.17.1//NONSGML v1.0//EN
CALSCALE:GREGORIAN
METHOD:PUBLISH
X-WR-CALNAME:Housing &amp; Residence Life
X-ORIGINAL-URL:https://www.muw.edu/housing
X-WR-CALDESC:Events for Housing &amp; Residence Life
REFRESH-INTERVAL;VALUE=DURATION:PT1H
X-Robots-Tag:noindex
X-PUBLISHED-TTL:PT1H
BEGIN:VTIMEZONE
TZID:America/Chicago
BEGIN:DAYLIGHT
TZOFFSETFROM:-0600
TZOFFSETTO:-0500
TZNAME:CDT
DTSTART:20240310T080000
END:DAYLIGHT
BEGIN:STANDARD
TZOFFSETFROM:-0500
TZOFFSETTO:-0600
TZNAME:CST
DTSTART:20241103T070000
END:STANDARD
BEGIN:DAYLIGHT
TZOFFSETFROM:-0600
TZOFFSETTO:-0500
TZNAME:CDT
DTSTART:20250309T080000
END:DAYLIGHT
BEGIN:STANDARD
TZOFFSETFROM:-0500
TZOFFSETTO:-0600
TZNAME:CST
DTSTART:20251102T070000
END:STANDARD
BEGIN:DAYLIGHT
TZOFFSETFROM:-0600
TZOFFSETTO:-0500
TZNAME:CDT
DTSTART:20260308T080000
END:DAYLIGHT
BEGIN:STANDARD
TZOFFSETFROM:-0500
TZOFFSETTO:-0600
TZNAME:CST
DTSTART:20261101T070000
END:STANDARD
END:VTIMEZONE
BEGIN:VEVENT
DTSTART;TZID=America/Chicago:20250909T180000
DTEND;TZID=America/Chicago:20250909T200000
DTSTAMP:20260420T214111
CREATED:20250903T030522Z
LAST-MODIFIED:20250909T032025Z
UID:10001231-1757440800-1757448000@www.muw.edu
SUMMARY:BKT Rush: Game Night
DESCRIPTION:This event is the first night of BKT Rush! Come out and play card and video games with the brothers! Free pizza will be provided!!\nHosted by: The Brotherhood of Beta Kappa Tau\nAdditional Information can be found at: https://muw.campuslabs.com/engage/event/11465697
URL:https://www.muw.edu/housing/event/bkt-rush-game-night-2/
LOCATION:Cochran Ballroom
CATEGORIES:Social,Students
END:VEVENT
BEGIN:VEVENT
DTSTART;TZID=America/Chicago:20250909T180000
DTEND;TZID=America/Chicago:20250909T200000
DTSTAMP:20260420T214111
CREATED:20250906T032032Z
LAST-MODIFIED:20250909T032025Z
UID:10001251-1757440800-1757448000@www.muw.edu
SUMMARY:BKT Rush: Game Night
DESCRIPTION:This event is the first night of BKT Rush! Come out and play card and video games with the brothers! Free pizza will be provided!!\nHosted by: The Brotherhood of Beta Kappa Tau\nAdditional Information can be found at: https://muw.campuslabs.com/engage/event/11465697
URL:https://www.muw.edu/housing/event/bkt-rush-game-night-3/
LOCATION:Cochran Ballroom
CATEGORIES:Social,Students
END:VEVENT
END:VCALENDAR