BEGIN:VCALENDAR
VERSION:2.0
PRODID:-//Housing &amp; Residence Life - ECPv6.15.17.1//NONSGML v1.0//EN
CALSCALE:GREGORIAN
METHOD:PUBLISH
X-WR-CALNAME:Housing &amp; Residence Life
X-ORIGINAL-URL:https://www.muw.edu/housing
X-WR-CALDESC:Events for Housing &amp; Residence Life
REFRESH-INTERVAL;VALUE=DURATION:PT1H
X-Robots-Tag:noindex
X-PUBLISHED-TTL:PT1H
BEGIN:VTIMEZONE
TZID:America/Chicago
BEGIN:DAYLIGHT
TZOFFSETFROM:-0600
TZOFFSETTO:-0500
TZNAME:CDT
DTSTART:20240310T080000
END:DAYLIGHT
BEGIN:STANDARD
TZOFFSETFROM:-0500
TZOFFSETTO:-0600
TZNAME:CST
DTSTART:20241103T070000
END:STANDARD
BEGIN:DAYLIGHT
TZOFFSETFROM:-0600
TZOFFSETTO:-0500
TZNAME:CDT
DTSTART:20250309T080000
END:DAYLIGHT
BEGIN:STANDARD
TZOFFSETFROM:-0500
TZOFFSETTO:-0600
TZNAME:CST
DTSTART:20251102T070000
END:STANDARD
BEGIN:DAYLIGHT
TZOFFSETFROM:-0600
TZOFFSETTO:-0500
TZNAME:CDT
DTSTART:20260308T080000
END:DAYLIGHT
BEGIN:STANDARD
TZOFFSETFROM:-0500
TZOFFSETTO:-0600
TZNAME:CST
DTSTART:20261101T070000
END:STANDARD
END:VTIMEZONE
BEGIN:VEVENT
DTSTART;TZID=America/Chicago:20251206T150000
DTEND;TZID=America/Chicago:20251206T170000
DTSTAMP:20260420T201607
CREATED:20251120T010511Z
LAST-MODIFIED:20251206T012102Z
UID:10001380-1765033200-1765040400@www.muw.edu
SUMMARY:Mississippi University for Women  Men's Basketball vs Greenville University
DESCRIPTION:Mississippi University for Women Men’s Basketball vs Greenville University\nStreaming Video: https://fan.hudl.com/usa/ms/columbus/organization/173761/muw/video
URL:https://www.muw.edu/housing/event/mississippi-university-for-women-mens-basketball-vs-greenville-university-2/
LOCATION:Columbus\, Pohl Gymnasium
CATEGORIES:Owls Athletics
END:VEVENT
BEGIN:VEVENT
DTSTART;TZID=America/Chicago:20251206T130000
DTEND;TZID=America/Chicago:20251206T150000
DTSTAMP:20260420T201607
CREATED:20251120T010511Z
LAST-MODIFIED:20251206T012102Z
UID:10001379-1765026000-1765033200@www.muw.edu
SUMMARY:Mississippi University for Women  Women's Basketball vs Greenville University
DESCRIPTION:Mississippi University for Women Women’s Basketball vs Greenville University\nStreaming Video: https://fan.hudl.com/usa/ms/columbus/organization/173761/muw/video
URL:https://www.muw.edu/housing/event/mississippi-university-for-women-womens-basketball-vs-greenville-university-3/
LOCATION:Columbus\, Pohl Gymnasium
CATEGORIES:Owls Athletics
END:VEVENT
BEGIN:VEVENT
DTSTART;TZID=America/Chicago:20251204T193000
DTEND;TZID=America/Chicago:20251204T213000
DTSTAMP:20260420T201607
CREATED:20251108T173055Z
LAST-MODIFIED:20251205T010549Z
UID:10001377-1764876600-1764883800@www.muw.edu
SUMMARY:Mississippi University for Women  Men's Basketball vs Spalding University (Ky.)
DESCRIPTION:Mississippi University for Women Men’s Basketball vs Spalding University (Ky.)\nStreaming Video: https://fan.hudl.com/usa/ms/columbus/organization/173761/muw/video
URL:https://www.muw.edu/housing/event/mississippi-university-for-women-mens-basketball-vs-spalding-university-ky-3/
LOCATION:Columbus\, Pohl Gymnasium
CATEGORIES:Owls Athletics
END:VEVENT
BEGIN:VEVENT
DTSTART;TZID=America/Chicago:20251204T173000
DTEND;TZID=America/Chicago:20251204T193000
DTSTAMP:20260420T201607
CREATED:20251108T173055Z
LAST-MODIFIED:20251205T010549Z
UID:10001376-1764869400-1764876600@www.muw.edu
SUMMARY:Mississippi University for Women  Women's Basketball vs Spalding University (Ky.)
DESCRIPTION:Mississippi University for Women Women’s Basketball vs Spalding University (Ky.)\nStreaming Video: https://fan.hudl.com/usa/ms/columbus/organization/173761/muw/video
URL:https://www.muw.edu/housing/event/mississippi-university-for-women-womens-basketball-vs-spalding-university-ky-3/
LOCATION:Columbus\, Pohl Gymnasium
CATEGORIES:Owls Athletics
END:VEVENT
BEGIN:VEVENT
DTSTART;TZID=America/Chicago:20251130T130000
DTEND;TZID=America/Chicago:20251130T150000
DTSTAMP:20260420T201607
CREATED:20251108T173055Z
LAST-MODIFIED:20251130T010528Z
UID:10001375-1764507600-1764514800@www.muw.edu
SUMMARY:Mississippi University for Women  Women's Basketball vs Austin College
DESCRIPTION:Mississippi University for Women Women’s Basketball vs Austin College
URL:https://www.muw.edu/housing/event/mississippi-university-for-women-womens-basketball-vs-austin-college/
LOCATION:Jackson\, MS (Millsaps College)
CATEGORIES:Owls Athletics
END:VEVENT
BEGIN:VEVENT
DTSTART;TZID=America/Chicago:20251129T150000
DTEND;TZID=America/Chicago:20251129T170000
DTSTAMP:20260420T201607
CREATED:20251108T173055Z
LAST-MODIFIED:20251129T010514Z
UID:10001374-1764428400-1764435600@www.muw.edu
SUMMARY:Mississippi University for Women  Women's Basketball vs Huntingdon College
DESCRIPTION:Mississippi University for Women Women’s Basketball vs Huntingdon College
URL:https://www.muw.edu/housing/event/mississippi-university-for-women-womens-basketball-vs-huntingdon-college-2/
LOCATION:Jackson\, MS (Millsaps College)
CATEGORIES:Owls Athletics
END:VEVENT
BEGIN:VEVENT
DTSTART;TZID=America/Chicago:20251129T150000
DTEND;TZID=America/Chicago:20251129T170000
DTSTAMP:20260420T201607
CREATED:20251108T173044Z
LAST-MODIFIED:20251129T010514Z
UID:10001364-1764428400-1764435600@www.muw.edu
SUMMARY:Mississippi University for Women  Men's Basketball vs Belhaven University (Miss.)
DESCRIPTION:Mississippi University for Women Men’s Basketball vs Belhaven University (Miss.)\nStreaming Video: https://fan.hudl.com/usa/ms/columbus/organization/173761/muw/video
URL:https://www.muw.edu/housing/event/mississippi-university-for-women-mens-basketball-vs-belhaven-university-miss/
LOCATION:Columbus\, Pohl Gymnasium
CATEGORIES:Owls Athletics
END:VEVENT
BEGIN:VEVENT
DTSTART;VALUE=DATE:20251122
DTEND;VALUE=DATE:20251123
DTSTAMP:20260420T201607
CREATED:20251108T173043Z
LAST-MODIFIED:20251122T010512Z
UID:10001362-1763769600-1763855999@www.muw.edu
SUMMARY:Mississippi University for Women  Women's Cross Country vs NCAA Division III National Championship (6K)
DESCRIPTION:Mississippi University for Women Women’s Cross Country vs NCAA Division III National Championship (6K)
URL:https://www.muw.edu/housing/event/mississippi-university-for-women-womens-cross-country-vs-ncaa-division-iii-national-championship-6k/
LOCATION:tba
CATEGORIES:Owls Athletics
END:VEVENT
BEGIN:VEVENT
DTSTART;VALUE=DATE:20251122
DTEND;VALUE=DATE:20251123
DTSTAMP:20260420T201607
CREATED:20251108T173043Z
LAST-MODIFIED:20251122T010513Z
UID:10001363-1763769600-1763855999@www.muw.edu
SUMMARY:Mississippi University for Women  Men's Cross Country vs NCAA Division III National Championship (8K)
DESCRIPTION:Mississippi University for Women Men’s Cross Country vs NCAA Division III National Championship (8K)
URL:https://www.muw.edu/housing/event/mississippi-university-for-women-mens-cross-country-vs-ncaa-division-iii-national-championship-8k/
LOCATION:tba
CATEGORIES:Owls Athletics
END:VEVENT
BEGIN:VEVENT
DTSTART;TZID=America/Chicago:20251115T180000
DTEND;TZID=America/Chicago:20251115T200000
DTSTAMP:20260420T201607
CREATED:20251108T173042Z
LAST-MODIFIED:20251108T174550Z
UID:10001356-1763229600-1763236800@www.muw.edu
SUMMARY:Mississippi University for Women  Women's Basketball vs Pensacola Christian College
DESCRIPTION:Mississippi University for Women Women’s Basketball vs Pensacola Christian College\nStreaming Video: https://fan.hudl.com/usa/ms/columbus/organization/173761/muw/video
URL:https://www.muw.edu/housing/event/mississippi-university-for-women-womens-basketball-vs-pensacola-christian-college-2/
LOCATION:Columbus\, Pohl Gymnasium
CATEGORIES:Owls Athletics
END:VEVENT
BEGIN:VEVENT
DTSTART;TZID=America/Chicago:20251115T140000
DTEND;TZID=America/Chicago:20251115T160000
DTSTAMP:20260420T201607
CREATED:20251109T175124Z
LAST-MODIFIED:20251115T010518Z
UID:10001378-1763215200-1763222400@www.muw.edu
SUMMARY:Mississippi University for Women  Women's Basketball vs Pensacola Christian College
DESCRIPTION:Mississippi University for Women Women’s Basketball vs Pensacola Christian College\nStreaming Video: https://fan.hudl.com/usa/ms/columbus/organization/173761/muw/video
URL:https://www.muw.edu/housing/event/mississippi-university-for-women-womens-basketball-vs-pensacola-christian-college-3/
LOCATION:Columbus\, Pohl Gymnasium
CATEGORIES:Owls Athletics
END:VEVENT
BEGIN:VEVENT
DTSTART;VALUE=DATE:20251115
DTEND;VALUE=DATE:20251116
DTSTAMP:20260420T201607
CREATED:20251108T173043Z
LAST-MODIFIED:20251115T010518Z
UID:10001360-1763164800-1763251199@www.muw.edu
SUMMARY:Mississippi University for Women  Men's Cross Country vs NCAA III South Regional Championships (8K)
DESCRIPTION:Mississippi University for Women Men’s Cross Country vs NCAA III South Regional Championships (8K)
URL:https://www.muw.edu/housing/event/mississippi-university-for-women-mens-cross-country-vs-ncaa-iii-south-regional-championships-8k-2/
LOCATION:tba
CATEGORIES:Owls Athletics
END:VEVENT
BEGIN:VEVENT
DTSTART;VALUE=DATE:20251115
DTEND;VALUE=DATE:20251116
DTSTAMP:20260420T201607
CREATED:20251108T173042Z
LAST-MODIFIED:20251115T010518Z
UID:10001358-1763164800-1763251199@www.muw.edu
SUMMARY:Mississippi University for Women  Women's Cross Country vs NCAA III South Regional Championships (6K)
DESCRIPTION:Mississippi University for Women Women’s Cross Country vs NCAA III South Regional Championships (6K)
URL:https://www.muw.edu/housing/event/mississippi-university-for-women-womens-cross-country-vs-ncaa-iii-south-regional-championships-6k-3/
LOCATION:tba
CATEGORIES:Owls Athletics
END:VEVENT
BEGIN:VEVENT
DTSTART;TZID=America/Chicago:20251113T120000
DTEND;TZID=America/Chicago:20251113T140000
DTSTAMP:20260420T201607
CREATED:20251108T173042Z
LAST-MODIFIED:20251113T005442Z
UID:10001354-1763035200-1763042400@www.muw.edu
SUMMARY:Mississippi University for Women  Women's Basketball vs Centenary College (Louisiana)
DESCRIPTION:Mississippi University for Women Women’s Basketball vs Centenary College (Louisiana)\nStreaming Video: https://fan.hudl.com/usa/ms/columbus/organization/173761/muw/video
URL:https://www.muw.edu/housing/event/mississippi-university-for-women-womens-basketball-vs-centenary-college-louisiana/
LOCATION:Columbus\, Pohl Gymnasium
CATEGORIES:Owls Athletics
END:VEVENT
BEGIN:VEVENT
DTSTART;TZID=America/Chicago:20251111T170000
DTEND;TZID=America/Chicago:20251111T190000
DTSTAMP:20260420T201607
CREATED:20251108T173042Z
LAST-MODIFIED:20251112T005033Z
UID:10001352-1762880400-1762887600@www.muw.edu
SUMMARY:Mississippi University for Women  Men's Basketball vs Huntingdon College
DESCRIPTION:Mississippi University for Women Men’s Basketball vs Huntingdon College\nStreaming Video: https://fan.hudl.com/usa/ms/columbus/organization/173761/muw/video
URL:https://www.muw.edu/housing/event/mississippi-university-for-women-mens-basketball-vs-huntingdon-college-3/
LOCATION:Columbus\, Pohl Gymnasium
CATEGORIES:Owls Athletics
END:VEVENT
BEGIN:VEVENT
DTSTART;TZID=America/Chicago:20251108T130000
DTEND;TZID=America/Chicago:20251108T150000
DTSTAMP:20260420T201607
CREATED:20251107T165308Z
LAST-MODIFIED:20251108T174550Z
UID:10001351-1762606800-1762614000@www.muw.edu
SUMMARY:Mississippi University for Women  Women's Volleyball vs Maryville College
DESCRIPTION:Mississippi University for Women Women’s Volleyball vs Maryville College\nStreaming Video: https://team1sports.com/scotssports/
URL:https://www.muw.edu/housing/event/mississippi-university-for-women-womens-volleyball-vs-maryville-college-2/
LOCATION:Lookout Mountain\, GA
CATEGORIES:Owls Athletics
END:VEVENT
BEGIN:VEVENT
DTSTART;VALUE=DATE:20251108
DTEND;VALUE=DATE:20251109
DTSTAMP:20260420T201607
CREATED:20251107T165308Z
LAST-MODIFIED:20251108T174550Z
UID:10001350-1762560000-1762646399@www.muw.edu
SUMMARY:Mississippi University for Women  Women's Soccer vs SLIAC CHAMPIONSHIPS
DESCRIPTION:Mississippi University for Women Women’s Soccer vs SLIAC CHAMPIONSHIPS
URL:https://www.muw.edu/housing/event/mississippi-university-for-women-womens-soccer-vs-sliac-championships/
LOCATION:tba
CATEGORIES:Owls Athletics
END:VEVENT
BEGIN:VEVENT
DTSTART;TZID=America/Chicago:20251107T190000
DTEND;TZID=America/Chicago:20251107T210000
DTSTAMP:20260420T201607
CREATED:20251107T165308Z
LAST-MODIFIED:20251107T165308Z
UID:10001349-1762542000-1762549200@www.muw.edu
SUMMARY:Mississippi University for Women  Women's Basketball vs Belhaven University (Miss.)
DESCRIPTION:Mississippi University for Women Women’s Basketball vs Belhaven University (Miss.)\nStreaming Video: https://gomajors.com/sports/2023/7/25/millsaps-video.aspx
URL:https://www.muw.edu/housing/event/mississippi-university-for-women-womens-basketball-vs-belhaven-university-miss-2/
LOCATION:Jackson\, MS
CATEGORIES:Owls Athletics
END:VEVENT
BEGIN:VEVENT
DTSTART;VALUE=DATE:20251101
DTEND;VALUE=DATE:20251102
DTSTAMP:20260420T201607
CREATED:20251007T055011Z
LAST-MODIFIED:20251101T062044Z
UID:10001324-1761955200-1762041599@www.muw.edu
SUMMARY:Mississippi University for Women  Women's Soccer vs SLIAC - 1st round
DESCRIPTION:Mississippi University for Women Women’s Soccer vs SLIAC – 1st round
URL:https://www.muw.edu/housing/event/mississippi-university-for-women-womens-soccer-vs-sliac-1st-round/
LOCATION:tba
CATEGORIES:Owls Athletics
END:VEVENT
BEGIN:VEVENT
DTSTART;VALUE=DATE:20251101
DTEND;VALUE=DATE:20251102
DTSTAMP:20260420T201607
CREATED:20251006T053513Z
LAST-MODIFIED:20251101T062044Z
UID:10001323-1761955200-1762041599@www.muw.edu
SUMMARY:Mississippi University for Women  Men's Cross Country vs St. Louis Intercollegiate Athletic Conference Championships (8K)
DESCRIPTION:Mississippi University for Women Men’s Cross Country vs St. Louis Intercollegiate Athletic Conference Championships (8K)
URL:https://www.muw.edu/housing/event/mississippi-university-for-women-mens-cross-country-vs-st-louis-intercollegiate-athletic-conference-championships-8k-2/
LOCATION:St. Louis\, MO
CATEGORIES:Owls Athletics
END:VEVENT
BEGIN:VEVENT
DTSTART;TZID=America/Chicago:20251026T140000
DTEND;TZID=America/Chicago:20251026T160000
DTSTAMP:20260420T201607
CREATED:20251005T053510Z
LAST-MODIFIED:20251025T062016Z
UID:10001322-1761487200-1761494400@www.muw.edu
SUMMARY:Mississippi University for Women  Men's Soccer vs Eureka College
DESCRIPTION:Mississippi University for Women Men’s Soccer vs Eureka College\nStreaming Video: https://fan.hudl.com/usa/ms/columbus/organization/173761/muw/video
URL:https://www.muw.edu/housing/event/mississippi-university-for-women-mens-soccer-vs-eureka-college-3/
LOCATION:Columbus\, MS\, Roger Short Soccer Complex
CATEGORIES:Owls Athletics
END:VEVENT
BEGIN:VEVENT
DTSTART;TZID=America/Chicago:20251026T130000
DTEND;TZID=America/Chicago:20251026T150000
DTSTAMP:20260420T201607
CREATED:20251026T062015Z
LAST-MODIFIED:20251026T062015Z
UID:10001343-1761483600-1761490800@www.muw.edu
SUMMARY:Mississippi University for Women  Men's Soccer vs Eureka College
DESCRIPTION:Mississippi University for Women Men’s Soccer vs Eureka College\nStreaming Video: https://fan.hudl.com/usa/ms/columbus/organization/173761/muw/video
URL:https://www.muw.edu/housing/event/mississippi-university-for-women-mens-soccer-vs-eureka-college-4/
LOCATION:Columbus\, MS\, Roger Short Soccer Complex
CATEGORIES:Owls Athletics
END:VEVENT
BEGIN:VEVENT
DTSTART;TZID=America/Chicago:20251026T110000
DTEND;TZID=America/Chicago:20251026T130000
DTSTAMP:20260420T201607
CREATED:20251005T053510Z
LAST-MODIFIED:20251026T062015Z
UID:10001321-1761476400-1761483600@www.muw.edu
SUMMARY:Mississippi University for Women  Women's Soccer vs Eureka College - SENIOR DAY
DESCRIPTION:Mississippi University for Women Women’s Soccer vs Eureka College – SENIOR DAY\nStreaming Video: https://fan.hudl.com/usa/ms/columbus/organization/173761/muw/video
URL:https://www.muw.edu/housing/event/mississippi-university-for-women-womens-soccer-vs-eureka-college-senior-day/
LOCATION:Columbus\, MS\, Roger Short Soccer Complex
CATEGORIES:Owls Athletics
END:VEVENT
BEGIN:VEVENT
DTSTART;TZID=America/Chicago:20251024T150000
DTEND;TZID=America/Chicago:20251024T170000
DTSTAMP:20260420T201607
CREATED:20251005T053510Z
LAST-MODIFIED:20251024T062046Z
UID:10001320-1761318000-1761325200@www.muw.edu
SUMMARY:Mississippi University for Women  Men's Soccer vs Blackburn College
DESCRIPTION:Mississippi University for Women Men’s Soccer vs Blackburn College\nStreaming Video: https://fan.hudl.com/usa/ms/columbus/organization/173761/muw/video
URL:https://www.muw.edu/housing/event/mississippi-university-for-women-mens-soccer-vs-blackburn-college-3/
LOCATION:Columbus\, MS\, Roger Short Soccer Complex
CATEGORIES:Owls Athletics
END:VEVENT
BEGIN:VEVENT
DTSTART;TZID=America/Chicago:20251024T130000
DTEND;TZID=America/Chicago:20251024T150000
DTSTAMP:20260420T201607
CREATED:20251005T053510Z
LAST-MODIFIED:20251024T062046Z
UID:10001319-1761310800-1761318000@www.muw.edu
SUMMARY:Mississippi University for Women  Women's Soccer vs Blackburn College
DESCRIPTION:Mississippi University for Women Women’s Soccer vs Blackburn College\nStreaming Video: https://fan.hudl.com/usa/ms/columbus/organization/173761/muw/video
URL:https://www.muw.edu/housing/event/mississippi-university-for-women-womens-soccer-vs-blackburn-college-3/
LOCATION:Columbus\, MS\, Roger Short Soccer Complex
CATEGORIES:Owls Athletics
END:VEVENT
BEGIN:VEVENT
DTSTART;TZID=America/Chicago:20251022T180000
DTEND;TZID=America/Chicago:20251022T200000
DTSTAMP:20260420T201607
CREATED:20251005T053510Z
LAST-MODIFIED:20251022T062015Z
UID:10001318-1761156000-1761163200@www.muw.edu
SUMMARY:Mississippi University for Women  Women's Soccer vs Agnes Scott College
DESCRIPTION:Mississippi University for Women Women’s Soccer vs Agnes Scott College\nStreaming Video: https://fan.hudl.com/usa/ms/columbus/organization/173761/muw/video
URL:https://www.muw.edu/housing/event/mississippi-university-for-women-womens-soccer-vs-agnes-scott-college/
LOCATION:Columbus\, MS\, Roger Short Soccer Complex
CATEGORIES:Owls Athletics
END:VEVENT
BEGIN:VEVENT
DTSTART;TZID=America/Chicago:20251015T180000
DTEND;TZID=America/Chicago:20251015T200000
DTSTAMP:20260420T201607
CREATED:20250929T050515Z
LAST-MODIFIED:20251015T060538Z
UID:10001301-1760551200-1760558400@www.muw.edu
SUMMARY:Mississippi University for Women  Women's Volleyball vs Huntingdon College
DESCRIPTION:Mississippi University for Women Women’s Volleyball vs Huntingdon College\nStreaming Video: https://fan.hudl.com/usa/ms/columbus/organization/173761/muw/video
URL:https://www.muw.edu/housing/event/mississippi-university-for-women-womens-volleyball-vs-huntingdon-college-5/
LOCATION:Columbus\, MS\, Pohl Gymnasium
CATEGORIES:Owls Athletics
END:VEVENT
BEGIN:VEVENT
DTSTART;TZID=America/Chicago:20251011T143000
DTEND;TZID=America/Chicago:20251011T163000
DTSTAMP:20260420T201607
CREATED:20250928T050529Z
LAST-MODIFIED:20251011T055018Z
UID:10001300-1760193000-1760200200@www.muw.edu
SUMMARY:Mississippi University for Women  Men's Soccer vs Greenville University
DESCRIPTION:Mississippi University for Women Men’s Soccer vs Greenville University\nStreaming Video: https://fan.hudl.com/usa/ms/columbus/organization/173761/muw/video
URL:https://www.muw.edu/housing/event/mississippi-university-for-women-mens-soccer-vs-greenville-university-2/
LOCATION:Columbus\, MS\, Roger Short Soccer Complex
CATEGORIES:Owls Athletics
END:VEVENT
BEGIN:VEVENT
DTSTART;TZID=America/Chicago:20251011T140000
DTEND;TZID=America/Chicago:20251011T160000
DTSTAMP:20260420T201607
CREATED:20250928T050529Z
LAST-MODIFIED:20251011T055018Z
UID:10001299-1760191200-1760198400@www.muw.edu
SUMMARY:Mississippi University for Women  Women's Volleyball vs Lyon College (Ark.)
DESCRIPTION:Mississippi University for Women Women’s Volleyball vs Lyon College (Ark.)\nStreaming Video: https://fan.hudl.com/usa/ms/columbus/organization/173761/muw/video
URL:https://www.muw.edu/housing/event/mississippi-university-for-women-womens-volleyball-vs-lyon-college-ark/
LOCATION:Columbus\, MS\, Pohl Gymnasium
CATEGORIES:Owls Athletics
END:VEVENT
BEGIN:VEVENT
DTSTART;TZID=America/Chicago:20251011T120000
DTEND;TZID=America/Chicago:20251011T140000
DTSTAMP:20260420T201607
CREATED:20250928T050529Z
LAST-MODIFIED:20251011T055018Z
UID:10001298-1760184000-1760191200@www.muw.edu
SUMMARY:Mississippi University for Women  Women's Soccer vs Greenville University - PINK OUT GAME (BREAST CANCER AWARENESS)
DESCRIPTION:Mississippi University for Women Women’s Soccer vs Greenville University – PINK OUT GAME (BREAST CANCER AWARENESS)\nStreaming Video: https://fan.hudl.com/usa/ms/columbus/organization/173761/muw
URL:https://www.muw.edu/housing/event/mississippi-university-for-women-womens-soccer-vs-greenville-university-pink-out-game-breast-cancer-awareness/
LOCATION:Columbus\, MS\, Roger Short Soccer Complex
CATEGORIES:Owls Athletics
END:VEVENT
END:VCALENDAR