BEGIN:VCALENDAR
VERSION:2.0
PRODID:-//Housing &amp; Residence Life - ECPv6.15.17.1//NONSGML v1.0//EN
CALSCALE:GREGORIAN
METHOD:PUBLISH
X-ORIGINAL-URL:https://www.muw.edu/housing
X-WR-CALDESC:Events for Housing &amp; Residence Life
REFRESH-INTERVAL;VALUE=DURATION:PT1H
X-Robots-Tag:noindex
X-PUBLISHED-TTL:PT1H
BEGIN:VTIMEZONE
TZID:America/Chicago
BEGIN:DAYLIGHT
TZOFFSETFROM:-0600
TZOFFSETTO:-0500
TZNAME:CDT
DTSTART:20240310T080000
END:DAYLIGHT
BEGIN:STANDARD
TZOFFSETFROM:-0500
TZOFFSETTO:-0600
TZNAME:CST
DTSTART:20241103T070000
END:STANDARD
BEGIN:DAYLIGHT
TZOFFSETFROM:-0600
TZOFFSETTO:-0500
TZNAME:CDT
DTSTART:20250309T080000
END:DAYLIGHT
BEGIN:STANDARD
TZOFFSETFROM:-0500
TZOFFSETTO:-0600
TZNAME:CST
DTSTART:20251102T070000
END:STANDARD
BEGIN:DAYLIGHT
TZOFFSETFROM:-0600
TZOFFSETTO:-0500
TZNAME:CDT
DTSTART:20260308T080000
END:DAYLIGHT
BEGIN:STANDARD
TZOFFSETFROM:-0500
TZOFFSETTO:-0600
TZNAME:CST
DTSTART:20261101T070000
END:STANDARD
BEGIN:DAYLIGHT
TZOFFSETFROM:-0600
TZOFFSETTO:-0500
TZNAME:CDT
DTSTART:20270314T080000
END:DAYLIGHT
BEGIN:STANDARD
TZOFFSETFROM:-0500
TZOFFSETTO:-0600
TZNAME:CST
DTSTART:20271107T070000
END:STANDARD
END:VTIMEZONE
BEGIN:VEVENT
DTSTART;TZID=America/Chicago:20260228T130000
DTEND;TZID=America/Chicago:20260228T150000
DTSTAMP:20260420T163846
CREATED:20260221T215011Z
LAST-MODIFIED:20260227T215011Z
UID:10001435-1772283600-1772290800@www.muw.edu
SUMMARY:Mississippi University for Women  Men's Basketball at Webster University - SLIAC CHAMPIONSHIP GAME
DESCRIPTION:Mississippi University for Women Men’s Basketball vs SLIAC CHAMPIONSHIP
URL:https://www.muw.edu/housing/event/mississippi-university-for-women-mens-basketball-vs-sliac-championship/
LOCATION:tba
CATEGORIES:Owls Athletics
END:VEVENT
BEGIN:VEVENT
DTSTART;TZID=America/Chicago:20260228T130000
DTEND;TZID=America/Chicago:20260228T150000
DTSTAMP:20260420T163846
CREATED:20260221T215011Z
LAST-MODIFIED:20260221T215011Z
UID:10001437-1772283600-1772290800@www.muw.edu
SUMMARY:Mississippi University for Women  Men's Basketball vs SLIAC CHAMPIONSHIP
DESCRIPTION:Mississippi University for Women Men’s Basketball vs SLIAC CHAMPIONSHIP
URL:https://www.muw.edu/housing/event/mississippi-university-for-women-mens-basketball-vs-sliac-championship-2/
LOCATION:tba
CATEGORIES:Owls Athletics
END:VEVENT
BEGIN:VEVENT
DTSTART;TZID=America/Chicago:20260228T120000
DTEND;TZID=America/Chicago:20260228T150000
DTSTAMP:20260420T163846
CREATED:20260221T215011Z
LAST-MODIFIED:20260221T215011Z
UID:10001441-1772280000-1772290800@www.muw.edu
SUMMARY:Mississippi University for Women  Baseball vs North Park University
DESCRIPTION:Mississippi University for Women Baseball vs North Park University
URL:https://www.muw.edu/housing/event/mississippi-university-for-women-baseball-vs-north-park-university-2/
LOCATION:Pearl\, MS / Jackson\, MS
CATEGORIES:Owls Athletics
END:VEVENT
BEGIN:VEVENT
DTSTART;TZID=America/Chicago:20260228T120000
DTEND;TZID=America/Chicago:20260228T150000
DTSTAMP:20260420T163846
CREATED:20260221T215011Z
LAST-MODIFIED:20260223T215022Z
UID:10001438-1772280000-1772290800@www.muw.edu
SUMMARY:Mississippi University for Women  Baseball vs North Park University
DESCRIPTION:Mississippi University for Women Baseball vs North Park University
URL:https://www.muw.edu/housing/event/mississippi-university-for-women-baseball-vs-north-park-university/
LOCATION:Pearl\, MS / Jackson\, MS
CATEGORIES:Owls Athletics
END:VEVENT
BEGIN:VEVENT
DTSTART;TZID=America/Chicago:20260228T110000
DTEND;TZID=America/Chicago:20260228T140000
DTSTAMP:20260420T163846
CREATED:20260221T215011Z
LAST-MODIFIED:20260227T215010Z
UID:10001440-1772276400-1772287200@www.muw.edu
SUMMARY:Mississippi University for Women  Women's Tennis vs Huntingdon College
DESCRIPTION:Mississippi University for Women Women’s Tennis vs Huntingdon College
URL:https://www.muw.edu/housing/event/mississippi-university-for-women-womens-tennis-vs-huntingdon-college-4/
LOCATION:Columbus\, Garrett Tennis Courts
CATEGORIES:Owls Athletics
END:VEVENT
BEGIN:VEVENT
DTSTART;TZID=America/Chicago:20260228T110000
DTEND;TZID=America/Chicago:20260228T140000
DTSTAMP:20260420T163846
CREATED:20260221T215011Z
LAST-MODIFIED:20260221T215011Z
UID:10001443-1772276400-1772287200@www.muw.edu
SUMMARY:Mississippi University for Women  Women's Tennis vs Huntingdon College
DESCRIPTION:Mississippi University for Women Women’s Tennis vs Huntingdon College
URL:https://www.muw.edu/housing/event/mississippi-university-for-women-womens-tennis-vs-huntingdon-college-5/
LOCATION:Columbus\, Garrett Tennis Courts
CATEGORIES:Owls Athletics
END:VEVENT
BEGIN:VEVENT
DTSTART;VALUE=DATE:20260228
DTEND;VALUE=DATE:20260301
DTSTAMP:20260420T163846
CREATED:20260221T215012Z
LAST-MODIFIED:20260221T215012Z
UID:10001445-1772236800-1772323199@www.muw.edu
SUMMARY:Mississippi University for Women  Women's Basketball vs SLIAC CHAMPIONSHIPS
DESCRIPTION:Mississippi University for Women Women’s Basketball vs SLIAC CHAMPIONSHIPS
URL:https://www.muw.edu/housing/event/mississippi-university-for-women-womens-basketball-vs-sliac-championships-2/
LOCATION:tba
CATEGORIES:Owls Athletics
END:VEVENT
BEGIN:VEVENT
DTSTART;VALUE=DATE:20260228
DTEND;VALUE=DATE:20260301
DTSTAMP:20260420T163846
CREATED:20260221T215011Z
LAST-MODIFIED:20260228T215013Z
UID:10001442-1772236800-1772323199@www.muw.edu
SUMMARY:Mississippi University for Women  Women's Basketball vs SLIAC CHAMPIONSHIPS
DESCRIPTION:Mississippi University for Women Women’s Basketball vs SLIAC CHAMPIONSHIPS
URL:https://www.muw.edu/housing/event/mississippi-university-for-women-womens-basketball-vs-sliac-championships/
LOCATION:tba
CATEGORIES:Owls Athletics
END:VEVENT
BEGIN:VEVENT
DTSTART;VALUE=DATE:20260227
DTEND;VALUE=DATE:20260228
DTSTAMP:20260420T163846
CREATED:20260221T215011Z
LAST-MODIFIED:20260227T215010Z
UID:10001434-1772150400-1772236799@www.muw.edu
SUMMARY:Mississippi University for Women  Women's Basketball vs SLIAC Semifinals
DESCRIPTION:Mississippi University for Women Women’s Basketball vs SLIAC Semifinals
URL:https://www.muw.edu/housing/event/mississippi-university-for-women-womens-basketball-vs-sliac-semifinals/
LOCATION:tba
CATEGORIES:Owls Athletics
END:VEVENT
BEGIN:VEVENT
DTSTART;TZID=America/Chicago:20260226T173000
DTEND;TZID=America/Chicago:20260226T193000
DTSTAMP:20260420T163846
CREATED:20260225T215010Z
LAST-MODIFIED:20260226T215013Z
UID:10001452-1772127000-1772134200@www.muw.edu
SUMMARY:Mississippi University for Women  Men's Basketball vs Lyon College (Ark.) - SEMIFINALS
DESCRIPTION:Mississippi University for Women Men’s Basketball vs SLIAC Semifinals
URL:https://www.muw.edu/housing/event/mississippi-university-for-women-mens-basketball-vs-lyon-college-ark-semifinals/
LOCATION:tba
CATEGORIES:Owls Athletics
END:VEVENT
BEGIN:VEVENT
DTSTART;VALUE=DATE:20260226
DTEND;VALUE=DATE:20260227
DTSTAMP:20260420T163846
CREATED:20260220T214924Z
LAST-MODIFIED:20260224T215020Z
UID:10001424-1772064000-1772150399@www.muw.edu
SUMMARY:Mississippi University for Women  Men's Basketball vs SLIAC Semifinals
DESCRIPTION:Mississippi University for Women Men’s Basketball vs SLIAC Semifinals
URL:https://www.muw.edu/housing/event/mississippi-university-for-women-mens-basketball-vs-sliac-semifinals/
LOCATION:tba
CATEGORIES:Owls Athletics
END:VEVENT
BEGIN:VEVENT
DTSTART;VALUE=DATE:20260225
DTEND;VALUE=DATE:20260226
DTSTAMP:20260420T163846
CREATED:20260220T214924Z
LAST-MODIFIED:20260225T215010Z
UID:10001423-1771977600-1772063999@www.muw.edu
SUMMARY:Mississippi University for Women  Women's Basketball vs SLIAC Quarterfinals
DESCRIPTION:Mississippi University for Women Women’s Basketball vs SLIAC Quarterfinals
URL:https://www.muw.edu/housing/event/mississippi-university-for-women-womens-basketball-vs-sliac-quarterfinals/
LOCATION:tba
CATEGORIES:Owls Athletics
END:VEVENT
BEGIN:VEVENT
DTSTART;VALUE=DATE:20260224
DTEND;VALUE=DATE:20260225
DTSTAMP:20260420T163846
CREATED:20260220T214924Z
LAST-MODIFIED:20260224T215019Z
UID:10001422-1771891200-1771977599@www.muw.edu
SUMMARY:Mississippi University for Women  Men's Basketball vs SLIAC Quarterfinals
DESCRIPTION:Mississippi University for Women Men’s Basketball vs SLIAC Quarterfinals
URL:https://www.muw.edu/housing/event/mississippi-university-for-women-mens-basketball-vs-sliac-quarterfinals/
LOCATION:tba
CATEGORIES:Owls Athletics
END:VEVENT
BEGIN:VEVENT
DTSTART;TZID=America/Chicago:20260221T150000
DTEND;TZID=America/Chicago:20260221T170000
DTSTAMP:20260420T163846
CREATED:20260220T214923Z
LAST-MODIFIED:20260221T215011Z
UID:10001421-1771686000-1771693200@www.muw.edu
SUMMARY:Mississippi University for Women  Men's Basketball vs Webster University - SENIOR DAY
DESCRIPTION:Mississippi University for Women Men’s Basketball vs Webster University – SENIOR DAY\nStreaming Video: https://fan.hudl.com/usa/ms/columbus/organization/173761/muw/video
URL:https://www.muw.edu/housing/event/mississippi-university-for-women-mens-basketball-vs-webster-university-senior-day/
LOCATION:Columbus\, Pohl Gymnasium
CATEGORIES:Owls Athletics
END:VEVENT
BEGIN:VEVENT
DTSTART;TZID=America/Chicago:20260221T130000
DTEND;TZID=America/Chicago:20260221T150000
DTSTAMP:20260420T163846
CREATED:20260220T214923Z
LAST-MODIFIED:20260220T214923Z
UID:10001420-1771678800-1771686000@www.muw.edu
SUMMARY:Mississippi University for Women  Women's Basketball vs Webster University - SENIOR DAY
DESCRIPTION:Mississippi University for Women Women’s Basketball vs Webster University – SENIOR DAY\nStreaming Video: https://fan.hudl.com/usa/ms/columbus/organization/173761/muw/video
URL:https://www.muw.edu/housing/event/mississippi-university-for-women-womens-basketball-vs-webster-university-senior-day/
LOCATION:Columbus\, Pohl Gymnasium
CATEGORIES:Owls Athletics
END:VEVENT
BEGIN:VEVENT
DTSTART;VALUE=DATE:20260203
DTEND;VALUE=DATE:20260204
DTSTAMP:20260420T163846
CREATED:20260122T212040Z
LAST-MODIFIED:20260203T215013Z
UID:10001407-1770076800-1770163199@www.muw.edu
SUMMARY:POSTPONED Mississippi University for Women  Men's Tennis vs Northwest Mississippi Community College
DESCRIPTION:Mississippi University for Women Men’s Tennis vs Northwest Mississippi Community College
URL:https://www.muw.edu/housing/event/mississippi-university-for-women-mens-tennis-vs-northwest-mississippi-community-college/
LOCATION:Columbus\, Garrett Tennis Courts
CATEGORIES:Owls Athletics
END:VEVENT
BEGIN:VEVENT
DTSTART;TZID=America/Chicago:20260115T173000
DTEND;TZID=America/Chicago:20260115T193000
DTSTAMP:20260420T163846
CREATED:20251120T010512Z
LAST-MODIFIED:20260115T063514Z
UID:10001388-1768498200-1768505400@www.muw.edu
SUMMARY:Mississippi University for Women  Women's Basketball vs Principia College
DESCRIPTION:Mississippi University for Women Women’s Basketball vs Principia College\nStreaming Video: https://fan.hudl.com/usa/ms/columbus/organization/173761/muw/video
URL:https://www.muw.edu/housing/event/mississippi-university-for-women-womens-basketball-vs-principia-college-3/
LOCATION:Columbus\, Pohl Gymnasium
CATEGORIES:Owls Athletics
END:VEVENT
BEGIN:VEVENT
DTSTART;TZID=America/Chicago:20260105T180000
DTEND;TZID=America/Chicago:20260105T200000
DTSTAMP:20260420T163846
CREATED:20251120T010511Z
LAST-MODIFIED:20260105T063534Z
UID:10001387-1767636000-1767643200@www.muw.edu
SUMMARY:CANCELLED Mississippi University for Women  Women's Basketball vs Rust College
DESCRIPTION:Mississippi University for Women Women’s Basketball vs Rust College\nStreaming Video: https://fan.hudl.com/usa/ms/columbus/organization/173761/muw/video
URL:https://www.muw.edu/housing/event/mississippi-university-for-women-womens-basketball-vs-rust-college/
LOCATION:Columbus\, Pohl Gymnasium
CATEGORIES:Owls Athletics
END:VEVENT
BEGIN:VEVENT
DTSTART;TZID=America/Chicago:20260103T150000
DTEND;TZID=America/Chicago:20260103T170000
DTSTAMP:20260420T163846
CREATED:20251120T010511Z
LAST-MODIFIED:20260103T062025Z
UID:10001386-1767452400-1767459600@www.muw.edu
SUMMARY:Mississippi University for Women  Men's Basketball vs Lyon College (Ark.)
DESCRIPTION:Mississippi University for Women Men’s Basketball vs Lyon College (Ark.)\nStreaming Video: https://fan.hudl.com/usa/ms/columbus/organization/173761/muw/video
URL:https://www.muw.edu/housing/event/mississippi-university-for-women-mens-basketball-vs-lyon-college-ark-3/
LOCATION:Columbus\, Pohl Gymnasium
CATEGORIES:Owls Athletics
END:VEVENT
BEGIN:VEVENT
DTSTART;TZID=America/Chicago:20260103T130000
DTEND;TZID=America/Chicago:20260103T150000
DTSTAMP:20260420T163846
CREATED:20251120T010511Z
LAST-MODIFIED:20260103T062025Z
UID:10001385-1767445200-1767452400@www.muw.edu
SUMMARY:Mississippi University for Women  Women's Basketball vs Lyon College (Ark.)
DESCRIPTION:Mississippi University for Women Women’s Basketball vs Lyon College (Ark.)\nStreaming Video: https://fan.hudl.com/usa/ms/columbus/organization/173761/muw/video
URL:https://www.muw.edu/housing/event/mississippi-university-for-women-womens-basketball-vs-lyon-college-ark-3/
LOCATION:Columbus\, Pohl Gymnasium
CATEGORIES:Owls Athletics
END:VEVENT
BEGIN:VEVENT
DTSTART;VALUE=DATE:20251221
DTEND;VALUE=DATE:20251222
DTSTAMP:20260420T163846
CREATED:20251120T010511Z
LAST-MODIFIED:20251221T052012Z
UID:10001384-1766275200-1766361599@www.muw.edu
SUMMARY:Mississippi University for Women  Men's Basketball vs North Central or Rhodes
DESCRIPTION:Mississippi University for Women Men’s Basketball vs North Central or Rhodes
URL:https://www.muw.edu/housing/event/mississippi-university-for-women-mens-basketball-vs-north-central-or-rhodes/
LOCATION:Memphis\, TN
CATEGORIES:Owls Athletics
END:VEVENT
BEGIN:VEVENT
DTSTART;TZID=America/Chicago:20251220T150000
DTEND;TZID=America/Chicago:20251220T170000
DTSTAMP:20260420T163846
CREATED:20251120T010511Z
LAST-MODIFIED:20251220T052009Z
UID:10001383-1766242800-1766250000@www.muw.edu
SUMMARY:Mississippi University for Women  Men's Basketball vs Texas Lutheran University
DESCRIPTION:Mississippi University for Women Men’s Basketball vs Texas Lutheran University
URL:https://www.muw.edu/housing/event/mississippi-university-for-women-mens-basketball-vs-texas-lutheran-university/
LOCATION:Memphis\, TN
CATEGORIES:Owls Athletics
END:VEVENT
BEGIN:VEVENT
DTSTART;TZID=America/Chicago:20251215T180000
DTEND;TZID=America/Chicago:20251215T200000
DTSTAMP:20260420T163846
CREATED:20251120T010511Z
LAST-MODIFIED:20251215T050529Z
UID:10001382-1765821600-1765828800@www.muw.edu
SUMMARY:Mississippi University for Women  Women's Basketball vs Huntingdon College
DESCRIPTION:Mississippi University for Women Women’s Basketball vs Huntingdon College\nStreaming Video: https://fan.hudl.com/usa/ms/columbus/organization/173761/muw/video
URL:https://www.muw.edu/housing/event/mississippi-university-for-women-womens-basketball-vs-huntingdon-college-3/
LOCATION:Columbus\, Pohl Gymnasium
CATEGORIES:Owls Athletics
END:VEVENT
BEGIN:VEVENT
DTSTART;TZID=America/Chicago:20251211T180000
DTEND;TZID=America/Chicago:20251211T200000
DTSTAMP:20260420T163846
CREATED:20251120T010511Z
LAST-MODIFIED:20251212T013531Z
UID:10001381-1765476000-1765483200@www.muw.edu
SUMMARY:Mississippi University for Women  Women's Basketball vs Belhaven University (Miss.)
DESCRIPTION:Mississippi University for Women Women’s Basketball vs Belhaven University (Miss.)\nStreaming Video: https://fan.hudl.com/usa/ms/columbus/organization/173761/muw/video
URL:https://www.muw.edu/housing/event/mississippi-university-for-women-womens-basketball-vs-belhaven-university-miss-3/
LOCATION:Columbus\, Pohl Gymnasium
CATEGORIES:Owls Athletics
END:VEVENT
BEGIN:VEVENT
DTSTART;TZID=America/Chicago:20251206T150000
DTEND;TZID=America/Chicago:20251206T170000
DTSTAMP:20260420T163846
CREATED:20251120T010511Z
LAST-MODIFIED:20251206T012102Z
UID:10001380-1765033200-1765040400@www.muw.edu
SUMMARY:Mississippi University for Women  Men's Basketball vs Greenville University
DESCRIPTION:Mississippi University for Women Men’s Basketball vs Greenville University\nStreaming Video: https://fan.hudl.com/usa/ms/columbus/organization/173761/muw/video
URL:https://www.muw.edu/housing/event/mississippi-university-for-women-mens-basketball-vs-greenville-university-2/
LOCATION:Columbus\, Pohl Gymnasium
CATEGORIES:Owls Athletics
END:VEVENT
BEGIN:VEVENT
DTSTART;TZID=America/Chicago:20251206T130000
DTEND;TZID=America/Chicago:20251206T150000
DTSTAMP:20260420T163846
CREATED:20251120T010511Z
LAST-MODIFIED:20251206T012102Z
UID:10001379-1765026000-1765033200@www.muw.edu
SUMMARY:Mississippi University for Women  Women's Basketball vs Greenville University
DESCRIPTION:Mississippi University for Women Women’s Basketball vs Greenville University\nStreaming Video: https://fan.hudl.com/usa/ms/columbus/organization/173761/muw/video
URL:https://www.muw.edu/housing/event/mississippi-university-for-women-womens-basketball-vs-greenville-university-3/
LOCATION:Columbus\, Pohl Gymnasium
CATEGORIES:Owls Athletics
END:VEVENT
BEGIN:VEVENT
DTSTART;TZID=America/Chicago:20251204T193000
DTEND;TZID=America/Chicago:20251204T213000
DTSTAMP:20260420T163846
CREATED:20251108T173055Z
LAST-MODIFIED:20251205T010549Z
UID:10001377-1764876600-1764883800@www.muw.edu
SUMMARY:Mississippi University for Women  Men's Basketball vs Spalding University (Ky.)
DESCRIPTION:Mississippi University for Women Men’s Basketball vs Spalding University (Ky.)\nStreaming Video: https://fan.hudl.com/usa/ms/columbus/organization/173761/muw/video
URL:https://www.muw.edu/housing/event/mississippi-university-for-women-mens-basketball-vs-spalding-university-ky-3/
LOCATION:Columbus\, Pohl Gymnasium
CATEGORIES:Owls Athletics
END:VEVENT
BEGIN:VEVENT
DTSTART;TZID=America/Chicago:20251204T173000
DTEND;TZID=America/Chicago:20251204T193000
DTSTAMP:20260420T163846
CREATED:20251108T173055Z
LAST-MODIFIED:20251205T010549Z
UID:10001376-1764869400-1764876600@www.muw.edu
SUMMARY:Mississippi University for Women  Women's Basketball vs Spalding University (Ky.)
DESCRIPTION:Mississippi University for Women Women’s Basketball vs Spalding University (Ky.)\nStreaming Video: https://fan.hudl.com/usa/ms/columbus/organization/173761/muw/video
URL:https://www.muw.edu/housing/event/mississippi-university-for-women-womens-basketball-vs-spalding-university-ky-3/
LOCATION:Columbus\, Pohl Gymnasium
CATEGORIES:Owls Athletics
END:VEVENT
BEGIN:VEVENT
DTSTART;TZID=America/Chicago:20251130T130000
DTEND;TZID=America/Chicago:20251130T150000
DTSTAMP:20260420T163846
CREATED:20251108T173055Z
LAST-MODIFIED:20251130T010528Z
UID:10001375-1764507600-1764514800@www.muw.edu
SUMMARY:Mississippi University for Women  Women's Basketball vs Austin College
DESCRIPTION:Mississippi University for Women Women’s Basketball vs Austin College
URL:https://www.muw.edu/housing/event/mississippi-university-for-women-womens-basketball-vs-austin-college/
LOCATION:Jackson\, MS (Millsaps College)
CATEGORIES:Owls Athletics
END:VEVENT
BEGIN:VEVENT
DTSTART;TZID=America/Chicago:20251129T150000
DTEND;TZID=America/Chicago:20251129T170000
DTSTAMP:20260420T163846
CREATED:20251108T173055Z
LAST-MODIFIED:20251129T010514Z
UID:10001374-1764428400-1764435600@www.muw.edu
SUMMARY:Mississippi University for Women  Women's Basketball vs Huntingdon College
DESCRIPTION:Mississippi University for Women Women’s Basketball vs Huntingdon College
URL:https://www.muw.edu/housing/event/mississippi-university-for-women-womens-basketball-vs-huntingdon-college-2/
LOCATION:Jackson\, MS (Millsaps College)
CATEGORIES:Owls Athletics
END:VEVENT
END:VCALENDAR