BEGIN:VCALENDAR
VERSION:2.0
PRODID:-//Housing &amp; Residence Life - ECPv6.15.17.1//NONSGML v1.0//EN
CALSCALE:GREGORIAN
METHOD:PUBLISH
X-WR-CALNAME:Housing &amp; Residence Life
X-ORIGINAL-URL:https://www.muw.edu/housing
X-WR-CALDESC:Events for Housing &amp; Residence Life
REFRESH-INTERVAL;VALUE=DURATION:PT1H
X-Robots-Tag:noindex
X-PUBLISHED-TTL:PT1H
BEGIN:VTIMEZONE
TZID:America/Chicago
BEGIN:DAYLIGHT
TZOFFSETFROM:-0600
TZOFFSETTO:-0500
TZNAME:CDT
DTSTART:20250309T080000
END:DAYLIGHT
BEGIN:STANDARD
TZOFFSETFROM:-0500
TZOFFSETTO:-0600
TZNAME:CST
DTSTART:20251102T070000
END:STANDARD
BEGIN:DAYLIGHT
TZOFFSETFROM:-0600
TZOFFSETTO:-0500
TZNAME:CDT
DTSTART:20260308T080000
END:DAYLIGHT
BEGIN:STANDARD
TZOFFSETFROM:-0500
TZOFFSETTO:-0600
TZNAME:CST
DTSTART:20261101T070000
END:STANDARD
BEGIN:DAYLIGHT
TZOFFSETFROM:-0600
TZOFFSETTO:-0500
TZNAME:CDT
DTSTART:20270314T080000
END:DAYLIGHT
BEGIN:STANDARD
TZOFFSETFROM:-0500
TZOFFSETTO:-0600
TZNAME:CST
DTSTART:20271107T070000
END:STANDARD
END:VTIMEZONE
BEGIN:VEVENT
DTSTART;TZID=America/Chicago:20260418T140000
DTEND;TZID=America/Chicago:20260418T160000
DTSTAMP:20260420T020643
CREATED:20260405T020522Z
LAST-MODIFIED:20260418T023513Z
UID:10001486-1776520800-1776528000@www.muw.edu
SUMMARY:Mississippi University for Women  Softball vs Webster University
DESCRIPTION:Mississippi University for Women  Softball vs Webster University
URL:https://www.muw.edu/housing/event/mississippi-university-for-women-softball-vs-webster-university-6/
LOCATION:Columbus\, MS\, Don Usher Softball Field
CATEGORIES:Owls Athletics
END:VEVENT
BEGIN:VEVENT
DTSTART;TZID=America/Chicago:20260418T140000
DTEND;TZID=America/Chicago:20260418T160000
DTSTAMP:20260420T020643
CREATED:20260405T020522Z
LAST-MODIFIED:20260405T020522Z
UID:10001489-1776520800-1776528000@www.muw.edu
SUMMARY:Mississippi University for Women  Softball vs Webster University
DESCRIPTION:Mississippi University for Women  Softball vs Webster UniversityStreaming Video: https://fan.hudl.com/muw
URL:https://www.muw.edu/housing/event/mississippi-university-for-women-softball-vs-webster-university-7/
LOCATION:Columbus\, MS\, Don Usher Softball Field
CATEGORIES:Owls Athletics
END:VEVENT
BEGIN:VEVENT
DTSTART;TZID=America/Chicago:20260418T120000
DTEND;TZID=America/Chicago:20260418T140000
DTSTAMP:20260420T020643
CREATED:20260405T020522Z
LAST-MODIFIED:20260418T023513Z
UID:10001485-1776513600-1776520800@www.muw.edu
SUMMARY:Mississippi University for Women  Softball vs Webster University
DESCRIPTION:Mississippi University for Women  Softball vs Webster University
URL:https://www.muw.edu/housing/event/mississippi-university-for-women-softball-vs-webster-university-4/
LOCATION:Columbus\, MS\, Don Usher Softball Field
CATEGORIES:Owls Athletics
END:VEVENT
BEGIN:VEVENT
DTSTART;TZID=America/Chicago:20260418T120000
DTEND;TZID=America/Chicago:20260418T140000
DTSTAMP:20260420T020643
CREATED:20260405T020522Z
LAST-MODIFIED:20260405T020522Z
UID:10001488-1776513600-1776520800@www.muw.edu
SUMMARY:Mississippi University for Women  Softball vs Webster University
DESCRIPTION:Mississippi University for Women  Softball vs Webster UniversityStreaming Video: https://fan.hudl.com/muw
URL:https://www.muw.edu/housing/event/mississippi-university-for-women-softball-vs-webster-university-5/
LOCATION:Columbus\, MS\, Don Usher Softball Field
CATEGORIES:Owls Athletics
END:VEVENT
BEGIN:VEVENT
DTSTART;TZID=America/Chicago:20260418T110000
DTEND;TZID=America/Chicago:20260418T140000
DTSTAMP:20260420T020643
CREATED:20260405T020522Z
LAST-MODIFIED:20260405T020522Z
UID:10001487-1776510000-1776520800@www.muw.edu
SUMMARY:Mississippi University for Women  Baseball vs Eureka College
DESCRIPTION:Mississippi University for Women  Baseball vs Eureka College
URL:https://www.muw.edu/housing/event/mississippi-university-for-women-baseball-vs-eureka-college-9/
LOCATION:Columbus\, MS\, CCA Field
CATEGORIES:Owls Athletics
END:VEVENT
BEGIN:VEVENT
DTSTART;TZID=America/Chicago:20260418T110000
DTEND;TZID=America/Chicago:20260418T140000
DTSTAMP:20260420T020643
CREATED:20260405T020522Z
LAST-MODIFIED:20260418T023513Z
UID:10001484-1776510000-1776520800@www.muw.edu
SUMMARY:Mississippi University for Women  Baseball vs Eureka College
DESCRIPTION:Mississippi University for Women  Baseball vs Eureka CollegeStreaming Video: https://fan.hudl.com/usa/ms/columbus/organization/173761/muw/watch?b=QnJvYWRjYXN0Mzk0NTcxNw==
URL:https://www.muw.edu/housing/event/mississippi-university-for-women-baseball-vs-eureka-college-10/
LOCATION:Columbus\, MS\, CCA Field
CATEGORIES:Owls Athletics
END:VEVENT
BEGIN:VEVENT
DTSTART;TZID=America/Chicago:20260417T150000
DTEND;TZID=America/Chicago:20260417T180000
DTSTAMP:20260420T020643
CREATED:20260330T012031Z
LAST-MODIFIED:20260417T023511Z
UID:10001479-1776438000-1776448800@www.muw.edu
SUMMARY:Mississippi University for Women  Baseball vs Eureka College
DESCRIPTION:Mississippi University for Women  Baseball vs Eureka CollegeStreaming Video: https://fan.hudl.com/usa/ms/columbus/organization/173761/muw/watch?b=QnJvYWRjYXN0MzgwOTI5Mg==
URL:https://www.muw.edu/housing/event/mississippi-university-for-women-baseball-vs-eureka-college-8/
LOCATION:Columbus\, MS\, CCA Field
CATEGORIES:Owls Athletics
END:VEVENT
BEGIN:VEVENT
DTSTART;TZID=America/Chicago:20260417T150000
DTEND;TZID=America/Chicago:20260417T180000
DTSTAMP:20260420T020643
CREATED:20260329T000527Z
LAST-MODIFIED:20260417T023511Z
UID:10001478-1776438000-1776448800@www.muw.edu
SUMMARY:Mississippi University for Women  Women's Tennis vs Agnes Scott College
DESCRIPTION:Mississippi University for Women  Women’s Tennis vs Agnes Scott College
URL:https://www.muw.edu/housing/event/mississippi-university-for-women-womens-tennis-vs-agnes-scott-college-2/
LOCATION:Montgomery\, AL
CATEGORIES:Owls Athletics
END:VEVENT
BEGIN:VEVENT
DTSTART;TZID=America/Chicago:20260417T130000
DTEND;TZID=America/Chicago:20260417T160000
DTSTAMP:20260420T020643
CREATED:20260329T000527Z
LAST-MODIFIED:20260417T023511Z
UID:10001477-1776430800-1776441600@www.muw.edu
SUMMARY:Mississippi University for Women  Baseball vs Eureka College
DESCRIPTION:Mississippi University for Women  Baseball vs Eureka CollegeStreaming Video: https://fan.hudl.com/usa/ms/columbus/organization/173761/muw/watch?b=QnJvYWRjYXN0MzgwOTI5MQ==
URL:https://www.muw.edu/housing/event/mississippi-university-for-women-baseball-vs-eureka-college-7/
LOCATION:Columbus\, MS\, CCA Field
CATEGORIES:Owls Athletics
END:VEVENT
BEGIN:VEVENT
DTSTART;TZID=America/Chicago:20260410T140000
DTEND;TZID=America/Chicago:20260410T170000
DTSTAMP:20260420T020643
CREATED:20260329T000527Z
LAST-MODIFIED:20260409T022033Z
UID:10001476-1775829600-1775840400@www.muw.edu
SUMMARY:Mississippi University for Women  Men's Tennis vs Belhaven University (Miss.)
DESCRIPTION:Mississippi University for Women  Men’s Tennis vs Belhaven University (Miss.)
URL:https://www.muw.edu/housing/event/mississippi-university-for-women-mens-tennis-vs-belhaven-university-miss-3/
LOCATION:Columbus\, Garrett Tennis Courts
CATEGORIES:Owls Athletics
END:VEVENT
BEGIN:VEVENT
DTSTART;TZID=America/Chicago:20260410T120000
DTEND;TZID=America/Chicago:20260410T150000
DTSTAMP:20260420T020643
CREATED:20260329T000515Z
LAST-MODIFIED:20260409T022033Z
UID:10001475-1775822400-1775833200@www.muw.edu
SUMMARY:Mississippi University for Women  Women's Tennis vs Belhaven University (Miss.)
DESCRIPTION:Mississippi University for Women  Women’s Tennis vs Belhaven University (Miss.)
URL:https://www.muw.edu/housing/event/mississippi-university-for-women-womens-tennis-vs-belhaven-university-miss-3/
LOCATION:Columbus\, Garrett Tennis Courts
CATEGORIES:Owls Athletics
END:VEVENT
BEGIN:VEVENT
DTSTART;TZID=America/Chicago:20260410T100000
DTEND;TZID=America/Chicago:20260410T130000
DTSTAMP:20260420T020643
CREATED:20260410T023512Z
LAST-MODIFIED:20260410T023512Z
UID:10001494-1775815200-1775826000@www.muw.edu
SUMMARY:Mississippi University for Women  Women's Tennis vs Belhaven University (Miss.)
DESCRIPTION:Mississippi University for Women  Women’s Tennis vs Belhaven University (Miss.)
URL:https://www.muw.edu/housing/event/mississippi-university-for-women-womens-tennis-vs-belhaven-university-miss-4/
LOCATION:Columbus\, Garrett Tennis Courts
CATEGORIES:Owls Athletics
END:VEVENT
BEGIN:VEVENT
DTSTART;TZID=America/Chicago:20260410T100000
DTEND;TZID=America/Chicago:20260410T130000
DTSTAMP:20260420T020643
CREATED:20260410T023512Z
LAST-MODIFIED:20260410T023512Z
UID:10001495-1775815200-1775826000@www.muw.edu
SUMMARY:Mississippi University for Women  Men's Tennis vs Belhaven University (Miss.)
DESCRIPTION:Mississippi University for Women  Men’s Tennis vs Belhaven University (Miss.)
URL:https://www.muw.edu/housing/event/mississippi-university-for-women-mens-tennis-vs-belhaven-university-miss-4/
LOCATION:Columbus\, Garrett Tennis Courts
CATEGORIES:Owls Athletics
END:VEVENT
BEGIN:VEVENT
DTSTART;TZID=America/Chicago:20260410T100000
DTEND;TZID=America/Chicago:20260410T130000
DTSTAMP:20260420T020643
CREATED:20260410T023512Z
LAST-MODIFIED:20260410T023512Z
UID:10001493-1775815200-1775826000@www.muw.edu
SUMMARY:Mississippi University for Women  Men's Tennis vs Belhaven University (Miss.)
DESCRIPTION:Mississippi University for Women  Men’s Tennis vs Belhaven University (Miss.)
URL:https://www.muw.edu/housing/event/mississippi-university-for-women-mens-tennis-vs-belhaven-university-miss-5/
LOCATION:Columbus\, Garrett Tennis Courts
CATEGORIES:Owls Athletics
END:VEVENT
BEGIN:VEVENT
DTSTART;TZID=America/Chicago:20260408T140000
DTEND;TZID=America/Chicago:20260408T170000
DTSTAMP:20260420T020643
CREATED:20260329T000515Z
LAST-MODIFIED:20260408T020510Z
UID:10001474-1775656800-1775667600@www.muw.edu
SUMMARY:Mississippi University for Women  Men's Tennis vs Blue Mountain Christian University (Miss.)
DESCRIPTION:Mississippi University for Women  Men’s Tennis vs Blue Mountain Christian University (Miss.)
URL:https://www.muw.edu/housing/event/mississippi-university-for-women-mens-tennis-vs-blue-mountain-christian-university-miss/
LOCATION:Columbus\, Garrett Tennis Courts
CATEGORIES:Owls Athletics
END:VEVENT
BEGIN:VEVENT
DTSTART;TZID=America/Chicago:20260408T120000
DTEND;TZID=America/Chicago:20260408T150000
DTSTAMP:20260420T020643
CREATED:20260329T000515Z
LAST-MODIFIED:20260408T020510Z
UID:10001473-1775649600-1775660400@www.muw.edu
SUMMARY:Mississippi University for Women  Women's Tennis vs Blue Mountain Christian University (Miss.)
DESCRIPTION:Mississippi University for Women  Women’s Tennis vs Blue Mountain Christian University (Miss.)
URL:https://www.muw.edu/housing/event/mississippi-university-for-women-womens-tennis-vs-blue-mountain-christian-university-miss/
LOCATION:Columbus\, Garrett Tennis Courts
CATEGORIES:Owls Athletics
END:VEVENT
BEGIN:VEVENT
DTSTART;TZID=America/Chicago:20260404T140000
DTEND;TZID=America/Chicago:20260404T160000
DTSTAMP:20260420T020643
CREATED:20260329T000515Z
LAST-MODIFIED:20260402T013511Z
UID:10001472-1775311200-1775318400@www.muw.edu
SUMMARY:Mississippi University for Women  Softball vs Principia College
DESCRIPTION:Mississippi University for Women  Softball vs Principia CollegeStreaming Video: https://fan.hudl.com/muw
URL:https://www.muw.edu/housing/event/mississippi-university-for-women-softball-vs-principia-college-2/
LOCATION:Columbus\, MS\, Don Usher Softball Field
CATEGORIES:Owls Athletics
END:VEVENT
BEGIN:VEVENT
DTSTART;TZID=America/Chicago:20260404T120000
DTEND;TZID=America/Chicago:20260404T150000
DTSTAMP:20260420T020643
CREATED:20260329T000515Z
LAST-MODIFIED:20260404T015110Z
UID:10001470-1775304000-1775314800@www.muw.edu
SUMMARY:POSTPONED Mississippi University for Women  Men's Tennis vs Westminster College (MO)
DESCRIPTION:POSTPONED Mississippi University for Women  Men’s Tennis vs Westminster College (MO)
URL:https://www.muw.edu/housing/event/mississippi-university-for-women-mens-tennis-vs-westminster-college-mo/
LOCATION:Columbus\, Garrett Tennis Courts
CATEGORIES:Owls Athletics
END:VEVENT
BEGIN:VEVENT
DTSTART;TZID=America/Chicago:20260404T120000
DTEND;TZID=America/Chicago:20260404T150000
DTSTAMP:20260420T020643
CREATED:20260329T000515Z
LAST-MODIFIED:20260404T015109Z
UID:10001471-1775304000-1775314800@www.muw.edu
SUMMARY:Mississippi University for Women  Baseball vs Webster University
DESCRIPTION:Mississippi University for Women  Baseball vs Webster UniversityStreaming Video: https://fan.hudl.com/usa/ms/columbus/organization/173761/muw/watch?b=QnJvYWRjYXN0MzgwOTI4NQ==
URL:https://www.muw.edu/housing/event/mississippi-university-for-women-baseball-vs-webster-university-3/
LOCATION:Columbus\, MS\, CCA Field
CATEGORIES:Owls Athletics
END:VEVENT
BEGIN:VEVENT
DTSTART;TZID=America/Chicago:20260404T120000
DTEND;TZID=America/Chicago:20260404T140000
DTSTAMP:20260420T020643
CREATED:20260403T013513Z
LAST-MODIFIED:20260404T015109Z
UID:10001481-1775304000-1775311200@www.muw.edu
SUMMARY:Mississippi University for Women  Softball vs Principia College
DESCRIPTION:Mississippi University for Women  Softball vs Principia CollegeStreaming Video: https://web.gc.com/?redirect=/teams
URL:https://www.muw.edu/housing/event/mississippi-university-for-women-softball-vs-principia-college-4/
LOCATION:Columbus\, MS\, Don Usher Softball Field
CATEGORIES:Owls Athletics
END:VEVENT
BEGIN:VEVENT
DTSTART;TZID=America/Chicago:20260404T120000
DTEND;TZID=America/Chicago:20260404T140000
DTSTAMP:20260420T020643
CREATED:20260329T000515Z
LAST-MODIFIED:20260402T013511Z
UID:10001469-1775304000-1775311200@www.muw.edu
SUMMARY:Mississippi University for Women  Softball vs Principia College
DESCRIPTION:Mississippi University for Women  Softball vs Principia CollegeStreaming Video: https://fan.hudl.com/muw
URL:https://www.muw.edu/housing/event/mississippi-university-for-women-softball-vs-principia-college/
LOCATION:Columbus\, MS\, Don Usher Softball Field
CATEGORIES:Owls Athletics
END:VEVENT
BEGIN:VEVENT
DTSTART;TZID=America/Chicago:20260404T100000
DTEND;TZID=America/Chicago:20260404T130000
DTSTAMP:20260420T020643
CREATED:20260327T214105Z
LAST-MODIFIED:20260404T015110Z
UID:10001461-1775296800-1775307600@www.muw.edu
SUMMARY:POSTPONED Mississippi University for Women  Women's Tennis vs Westminster College (MO)
DESCRIPTION:POSTPONED Mississippi University for Women  Women’s Tennis vs Westminster College (MO)
URL:https://www.muw.edu/housing/event/mississippi-university-for-women-womens-tennis-vs-westminster-college-mo/
LOCATION:Columbus\, Garrett Tennis Courts
CATEGORIES:Owls Athletics
END:VEVENT
BEGIN:VEVENT
DTSTART;TZID=America/Chicago:20260404T100000
DTEND;TZID=America/Chicago:20260404T120000
DTSTAMP:20260420T020643
CREATED:20260403T013513Z
LAST-MODIFIED:20260404T015109Z
UID:10001480-1775296800-1775304000@www.muw.edu
SUMMARY:Mississippi University for Women  Softball vs Principia College
DESCRIPTION:Mississippi University for Women  Softball vs Principia CollegeStreaming Video: https://web.gc.com/?redirect=/teams
URL:https://www.muw.edu/housing/event/mississippi-university-for-women-softball-vs-principia-college-3/
LOCATION:Columbus\, MS\, Don Usher Softball Field
CATEGORIES:Owls Athletics
END:VEVENT
BEGIN:VEVENT
DTSTART;TZID=America/Chicago:20260403T150000
DTEND;TZID=America/Chicago:20260403T180000
DTSTAMP:20260420T020643
CREATED:20260327T214105Z
LAST-MODIFIED:20260403T013513Z
UID:10001460-1775228400-1775239200@www.muw.edu
SUMMARY:Mississippi University for Women  Baseball vs Webster University
DESCRIPTION:Mississippi University for Women  Baseball vs Webster UniversityStreaming Video: https://fan.hudl.com/usa/ms/columbus/organization/173761/muw/watch?b=QnJvYWRjYXN0MzgwOTI3OQ==
URL:https://www.muw.edu/housing/event/mississippi-university-for-women-baseball-vs-webster-university-2/
LOCATION:Columbus\, MS\, CCA Field
CATEGORIES:Owls Athletics
END:VEVENT
BEGIN:VEVENT
DTSTART;TZID=America/Chicago:20260403T130000
DTEND;TZID=America/Chicago:20260403T160000
DTSTAMP:20260420T020643
CREATED:20260327T214105Z
LAST-MODIFIED:20260403T013513Z
UID:10001459-1775221200-1775232000@www.muw.edu
SUMMARY:Mississippi University for Women  Baseball vs Webster University
DESCRIPTION:Mississippi University for Women  Baseball vs Webster UniversityStreaming Video: https://fan.hudl.com/usa/ms/columbus/organization/173761/muw/watch?b=QnJvYWRjYXN0MzgwOTI3NQ==
URL:https://www.muw.edu/housing/event/mississippi-university-for-women-baseball-vs-webster-university/
LOCATION:Columbus\, MS\, CCA Field
CATEGORIES:Owls Athletics
END:VEVENT
BEGIN:VEVENT
DTSTART;TZID=America/Chicago:20260328T130000
DTEND;TZID=America/Chicago:20260328T150000
DTSTAMP:20260420T020643
CREATED:20260327T214105Z
LAST-MODIFIED:20260327T214105Z
UID:10001458-1774702800-1774710000@www.muw.edu
SUMMARY:Mississippi University for Women  Softball vs Westminster College (MO)
DESCRIPTION:Mississippi University for Women  Softball vs Westminster College (MO)Streaming Video: https://fan.hudl.com/muw
URL:https://www.muw.edu/housing/event/mississippi-university-for-women-softball-vs-westminster-college-mo-6/
LOCATION:Columbus\, MS\, Don Usher Softball Field
CATEGORIES:Owls Athletics
END:VEVENT
BEGIN:VEVENT
DTSTART;TZID=America/Chicago:20260328T110000
DTEND;TZID=America/Chicago:20260328T130000
DTSTAMP:20260420T020643
CREATED:20260327T214105Z
LAST-MODIFIED:20260327T214105Z
UID:10001457-1774695600-1774702800@www.muw.edu
SUMMARY:Mississippi University for Women  Softball vs Westminster College (MO)
DESCRIPTION:Mississippi University for Women  Softball vs Westminster College (MO)Streaming Video: https://fan.hudl.com/muw
URL:https://www.muw.edu/housing/event/mississippi-university-for-women-softball-vs-westminster-college-mo-5/
LOCATION:Columbus\, MS\, Don Usher Softball Field
CATEGORIES:Owls Athletics
END:VEVENT
BEGIN:VEVENT
DTSTART;TZID=America/Chicago:20260306T150000
DTEND;TZID=America/Chicago:20260306T180000
DTSTAMP:20260420T020643
CREATED:20260221T215011Z
LAST-MODIFIED:20260306T215010Z
UID:10001447-1772809200-1772820000@www.muw.edu
SUMMARY:Mississippi University for Women  Baseball vs Blackburn College
DESCRIPTION:Mississippi University for Women Baseball vs Blackburn College
URL:https://www.muw.edu/housing/event/mississippi-university-for-women-baseball-vs-blackburn-college-6/
LOCATION:Columbus\, MS\, CCA Field
CATEGORIES:Owls Athletics
END:VEVENT
BEGIN:VEVENT
DTSTART;TZID=America/Chicago:20260306T130000
DTEND;TZID=America/Chicago:20260306T160000
DTSTAMP:20260420T020643
CREATED:20260221T215011Z
LAST-MODIFIED:20260306T215010Z
UID:10001446-1772802000-1772812800@www.muw.edu
SUMMARY:Mississippi University for Women  Baseball vs Blackburn College
DESCRIPTION:Mississippi University for Women Baseball vs Blackburn College
URL:https://www.muw.edu/housing/event/mississippi-university-for-women-baseball-vs-blackburn-college-5/
LOCATION:Columbus\, MS\, CCA Field
CATEGORIES:Owls Athletics
END:VEVENT
BEGIN:VEVENT
DTSTART;TZID=America/Chicago:20260302T160000
DTEND;TZID=America/Chicago:20260302T190000
DTSTAMP:20260420T020643
CREATED:20260224T215023Z
LAST-MODIFIED:20260224T215023Z
UID:10001449-1772467200-1772478000@www.muw.edu
SUMMARY:Mississippi University for Women  Baseball vs Alma College
DESCRIPTION:Mississippi University for Women Baseball vs Alma College
URL:https://www.muw.edu/housing/event/mississippi-university-for-women-baseball-vs-alma-college-3/
LOCATION:Pearl\, MS / Jackson\, MS
CATEGORIES:Owls Athletics
END:VEVENT
END:VCALENDAR