BEGIN:VCALENDAR
VERSION:2.0
PRODID:-//Housing &amp; Residence Life - ECPv6.15.17.1//NONSGML v1.0//EN
CALSCALE:GREGORIAN
METHOD:PUBLISH
X-WR-CALNAME:Housing &amp; Residence Life
X-ORIGINAL-URL:https://www.muw.edu/housing
X-WR-CALDESC:Events for Housing &amp; Residence Life
REFRESH-INTERVAL;VALUE=DURATION:PT1H
X-Robots-Tag:noindex
X-PUBLISHED-TTL:PT1H
BEGIN:VTIMEZONE
TZID:America/Chicago
BEGIN:DAYLIGHT
TZOFFSETFROM:-0600
TZOFFSETTO:-0500
TZNAME:CDT
DTSTART:20240310T080000
END:DAYLIGHT
BEGIN:STANDARD
TZOFFSETFROM:-0500
TZOFFSETTO:-0600
TZNAME:CST
DTSTART:20241103T070000
END:STANDARD
BEGIN:DAYLIGHT
TZOFFSETFROM:-0600
TZOFFSETTO:-0500
TZNAME:CDT
DTSTART:20250309T080000
END:DAYLIGHT
BEGIN:STANDARD
TZOFFSETFROM:-0500
TZOFFSETTO:-0600
TZNAME:CST
DTSTART:20251102T070000
END:STANDARD
BEGIN:DAYLIGHT
TZOFFSETFROM:-0600
TZOFFSETTO:-0500
TZNAME:CDT
DTSTART:20260308T080000
END:DAYLIGHT
BEGIN:STANDARD
TZOFFSETFROM:-0500
TZOFFSETTO:-0600
TZNAME:CST
DTSTART:20261101T070000
END:STANDARD
END:VTIMEZONE
BEGIN:VEVENT
DTSTART;TZID=America/Chicago:20250903T173000
DTEND;TZID=America/Chicago:20250903T193000
DTSTAMP:20260421T010412
CREATED:20250903T030519Z
LAST-MODIFIED:20250903T030525Z
UID:10001224-1756920600-1756927800@www.muw.edu
SUMMARY:Mississippi University for Women  Women's Soccer vs Rhodes College
DESCRIPTION:Mississippi University for Women Women’s Soccer vs Rhodes College\nStreaming Video: https://fan.hudl.com/usa/ms/columbus/organization/173761/muw
URL:https://www.muw.edu/housing/event/mississippi-university-for-women-womens-soccer-vs-rhodes-college-2/
LOCATION:Columbus\, MS\, Roger Short Soccer Complex
CATEGORIES:Owls Athletics
END:VEVENT
BEGIN:VEVENT
DTSTART;TZID=America/Chicago:20250909T180000
DTEND;TZID=America/Chicago:20250909T200000
DTSTAMP:20260421T010412
CREATED:20250903T030519Z
LAST-MODIFIED:20250904T030540Z
UID:10001225-1757440800-1757448000@www.muw.edu
SUMMARY:Mississippi University for Women  Women's Volleyball vs Belhaven University (Miss.)
DESCRIPTION:Mississippi University for Women Women’s Volleyball vs Belhaven University (Miss.)
URL:https://www.muw.edu/housing/event/mississippi-university-for-women-womens-volleyball-vs-belhaven-university-miss-4/
LOCATION:Columbus\, MS\, Pohl Gymnasium
CATEGORIES:Owls Athletics
END:VEVENT
BEGIN:VEVENT
DTSTART;TZID=America/Chicago:20250909T190000
DTEND;TZID=America/Chicago:20250909T210000
DTSTAMP:20260421T010412
CREATED:20250905T030517Z
LAST-MODIFIED:20250905T030517Z
UID:10001234-1757444400-1757451600@www.muw.edu
SUMMARY:Mississippi University for Women  Women's Volleyball vs Belhaven University (Miss.)
DESCRIPTION:Mississippi University for Women Women’s Volleyball vs Belhaven University (Miss.)
URL:https://www.muw.edu/housing/event/mississippi-university-for-women-womens-volleyball-vs-belhaven-university-miss-6/
LOCATION:Columbus\, MS\, Pohl Gymnasium
CATEGORIES:Owls Athletics
END:VEVENT
BEGIN:VEVENT
DTSTART;TZID=America/Chicago:20250909T190000
DTEND;TZID=America/Chicago:20250909T210000
DTSTAMP:20260421T010412
CREATED:20250905T030517Z
LAST-MODIFIED:20250909T030550Z
UID:10001235-1757444400-1757451600@www.muw.edu
SUMMARY:Mississippi University for Women  Women's Volleyball vs Belhaven University (Miss.)
DESCRIPTION:Mississippi University for Women Women’s Volleyball vs Belhaven University (Miss.)
URL:https://www.muw.edu/housing/event/mississippi-university-for-women-womens-volleyball-vs-belhaven-university-miss-5/
LOCATION:Columbus\, MS\, Pohl Gymnasium
CATEGORIES:Owls Athletics
END:VEVENT
BEGIN:VEVENT
DTSTART;TZID=America/Chicago:20250911T190000
DTEND;TZID=America/Chicago:20250911T210000
DTSTAMP:20260421T010412
CREATED:20250903T030519Z
LAST-MODIFIED:20250911T030514Z
UID:10001226-1757617200-1757624400@www.muw.edu
SUMMARY:Mississippi University for Women  Men's Soccer vs Freed-Hardeman University (Tenn.)
DESCRIPTION:Mississippi University for Women Men’s Soccer vs Freed-Hardeman University (Tenn.)\nStreaming Video: https://fan.hudl.com/usa/ms/columbus/organization/173761/muw
URL:https://www.muw.edu/housing/event/mississippi-university-for-women-mens-soccer-vs-freed-hardeman-university-tenn-2/
LOCATION:Columbus\, MS\, Roger Short Soccer Complex
CATEGORIES:Owls Athletics
END:VEVENT
BEGIN:VEVENT
DTSTART;TZID=America/Chicago:20250913T120000
DTEND;TZID=America/Chicago:20250913T140000
DTSTAMP:20260421T010412
CREATED:20250903T030519Z
LAST-MODIFIED:20250913T032022Z
UID:10001227-1757764800-1757772000@www.muw.edu
SUMMARY:Mississippi University for Women  Women's Volleyball vs United States Sports University
DESCRIPTION:Mississippi University for Women Women’s Volleyball vs United States Sports University
URL:https://www.muw.edu/housing/event/mississippi-university-for-women-womens-volleyball-vs-united-states-sports-university/
LOCATION:Columbus\, MS\, Pohl Gymnasium
CATEGORIES:Owls Athletics
END:VEVENT
BEGIN:VEVENT
DTSTART;TZID=America/Chicago:20250913T160000
DTEND;TZID=America/Chicago:20250913T180000
DTSTAMP:20260421T010412
CREATED:20250903T030519Z
LAST-MODIFIED:20250913T032022Z
UID:10001228-1757779200-1757786400@www.muw.edu
SUMMARY:Mississippi University for Women  Women's Volleyball vs Stillman College - ALUMNAE GAME
DESCRIPTION:Mississippi University for Women Women’s Volleyball vs Stillman College – ALUMNAE GAME
URL:https://www.muw.edu/housing/event/mississippi-university-for-women-womens-volleyball-vs-stillman-college-alumnae-game/
LOCATION:Columbus\, MS\, Pohl Gymnasium
CATEGORIES:Owls Athletics
END:VEVENT
BEGIN:VEVENT
DTSTART;TZID=America/Chicago:20250914T150000
DTEND;TZID=America/Chicago:20250914T170000
DTSTAMP:20260421T010412
CREATED:20250906T030515Z
LAST-MODIFIED:20250914T032017Z
UID:10001238-1757862000-1757869200@www.muw.edu
SUMMARY:Mississippi University for Women  Men's Soccer vs LaGrange College
DESCRIPTION:Mississippi University for Women Men’s Soccer vs LaGrange College\nStreaming Video: https://fan.hudl.com/usa/ms/columbus/organization/173761/muw
URL:https://www.muw.edu/housing/event/mississippi-university-for-women-mens-soccer-vs-lagrange-college-2/
LOCATION:Columbus\, MS\, Roger Short Soccer Complex
CATEGORIES:Owls Athletics
END:VEVENT
BEGIN:VEVENT
DTSTART;TZID=America/Chicago:20250914T150000
DTEND;TZID=America/Chicago:20250914T170000
DTSTAMP:20260421T010412
CREATED:20250906T030516Z
LAST-MODIFIED:20250906T030516Z
UID:10001236-1757862000-1757869200@www.muw.edu
SUMMARY:Mississippi University for Women  Men's Soccer vs LaGrange College
DESCRIPTION:Mississippi University for Women Men’s Soccer vs LaGrange College\nStreaming Video: https://fan.hudl.com/usa/ms/columbus/organization/173761/muw
URL:https://www.muw.edu/housing/event/mississippi-university-for-women-mens-soccer-vs-lagrange-college-3/
LOCATION:Columbus\, MS\, Roger Short Soccer Complex
CATEGORIES:Owls Athletics
END:VEVENT
BEGIN:VEVENT
DTSTART;TZID=America/Chicago:20250917T180000
DTEND;TZID=America/Chicago:20250917T200000
DTSTAMP:20260421T010412
CREATED:20250906T030516Z
LAST-MODIFIED:20250917T033511Z
UID:10001240-1758132000-1758139200@www.muw.edu
SUMMARY:Mississippi University for Women  Women's Volleyball vs Millsaps College
DESCRIPTION:Mississippi University for Women  Women’s Volleyball vs Millsaps CollegeStreaming Video: https://fan.hudl.com/usa/ms/columbus/organization/173761/muw/video
URL:https://www.muw.edu/housing/event/mississippi-university-for-women-womens-volleyball-vs-millsaps-college/
LOCATION:Columbus\, MS\, Pohl Gymnasium
CATEGORIES:Owls Athletics
END:VEVENT
BEGIN:VEVENT
DTSTART;TZID=America/Chicago:20250917T180000
DTEND;TZID=America/Chicago:20250917T200000
DTSTAMP:20260421T010412
CREATED:20250906T030516Z
LAST-MODIFIED:20250906T030516Z
UID:10001237-1758132000-1758139200@www.muw.edu
SUMMARY:Mississippi University for Women  Women's Volleyball vs Millsaps College
DESCRIPTION:Mississippi University for Women  Women’s Volleyball vs Millsaps CollegeStreaming Video: https://fan.hudl.com/usa/ms/columbus/organization/173761/muw/team/752724/muw-womens-volleyball
URL:https://www.muw.edu/housing/event/mississippi-university-for-women-womens-volleyball-vs-millsaps-college-2/
LOCATION:Columbus\, MS\, Pohl Gymnasium
CATEGORIES:Owls Athletics
END:VEVENT
BEGIN:VEVENT
DTSTART;TZID=America/Chicago:20250919T190000
DTEND;TZID=America/Chicago:20250919T210000
DTSTAMP:20260421T010412
CREATED:20250906T030516Z
LAST-MODIFIED:20250919T035023Z
UID:10001242-1758308400-1758315600@www.muw.edu
SUMMARY:Mississippi University for Women  Men's Soccer vs Huntingdon College
DESCRIPTION:Mississippi University for Women Men’s Soccer vs Huntingdon College\nStreaming Video: https://fan.hudl.com/usa/ms/columbus/organization/173761/muw
URL:https://www.muw.edu/housing/event/mississippi-university-for-women-mens-soccer-vs-huntingdon-college-5/
LOCATION:Columbus\, MS\, Roger Short Soccer Complex
CATEGORIES:Owls Athletics
END:VEVENT
BEGIN:VEVENT
DTSTART;TZID=America/Chicago:20250919T190000
DTEND;TZID=America/Chicago:20250919T210000
DTSTAMP:20260421T010412
CREATED:20250906T030516Z
LAST-MODIFIED:20250906T030516Z
UID:10001239-1758308400-1758315600@www.muw.edu
SUMMARY:Mississippi University for Women  Men's Soccer vs Huntingdon College
DESCRIPTION:Mississippi University for Women Men’s Soccer vs Huntingdon College\nStreaming Video: https://fan.hudl.com/usa/ms/columbus/organization/173761/muw
URL:https://www.muw.edu/housing/event/mississippi-university-for-women-mens-soccer-vs-huntingdon-college-6/
LOCATION:Columbus\, MS\, Roger Short Soccer Complex
CATEGORIES:Owls Athletics
END:VEVENT
BEGIN:VEVENT
DTSTART;TZID=America/Chicago:20250920T120000
DTEND;TZID=America/Chicago:20250920T140000
DTSTAMP:20260421T010412
CREATED:20250906T030516Z
LAST-MODIFIED:20250906T030516Z
UID:10001241-1758369600-1758376800@www.muw.edu
SUMMARY:Mississippi University for Women  Women's Volleyball vs Blackburn College
DESCRIPTION:Mississippi University for Women Women’s Volleyball vs Blackburn College
URL:https://www.muw.edu/housing/event/mississippi-university-for-women-womens-volleyball-vs-blackburn-college-3/
LOCATION:St. Louis\, MO
CATEGORIES:Owls Athletics
END:VEVENT
BEGIN:VEVENT
DTSTART;TZID=America/Chicago:20250920T120000
DTEND;TZID=America/Chicago:20250920T140000
DTSTAMP:20260421T010412
CREATED:20250906T030516Z
LAST-MODIFIED:20250920T040511Z
UID:10001244-1758369600-1758376800@www.muw.edu
SUMMARY:Mississippi University for Women  Women's Volleyball vs Blackburn College
DESCRIPTION:Mississippi University for Women Women’s Volleyball vs Blackburn College
URL:https://www.muw.edu/housing/event/mississippi-university-for-women-womens-volleyball-vs-blackburn-college-2/
LOCATION:St. Louis\, MO
CATEGORIES:Owls Athletics
END:VEVENT
BEGIN:VEVENT
DTSTART;TZID=America/Chicago:20250921T130000
DTEND;TZID=America/Chicago:20250921T150000
DTSTAMP:20260421T010412
CREATED:20250906T030516Z
LAST-MODIFIED:20250917T033512Z
UID:10001246-1758459600-1758466800@www.muw.edu
SUMMARY:Mississippi University for Women  Men's Soccer vs Oakwood University
DESCRIPTION:Mississippi University for Women Men’s Soccer vs Oakwood University\nStreaming Video: https://fan.hudl.com/usa/ms/columbus/organization/173761/muw
URL:https://www.muw.edu/housing/event/mississippi-university-for-women-mens-soccer-vs-oakwood-university-2/
LOCATION:Columbus\, MS\, Roger Short Soccer Complex
CATEGORIES:Owls Athletics
END:VEVENT
BEGIN:VEVENT
DTSTART;TZID=America/Chicago:20250921T130000
DTEND;TZID=America/Chicago:20250921T150000
DTSTAMP:20260421T010412
CREATED:20250906T030516Z
LAST-MODIFIED:20250906T030516Z
UID:10001243-1758459600-1758466800@www.muw.edu
SUMMARY:Mississippi University for Women  Men's Soccer vs Oakwood University
DESCRIPTION:Mississippi University for Women Men’s Soccer vs Oakwood University\nStreaming Video: https://fan.hudl.com/usa/ms/columbus/organization/173761/muw
URL:https://www.muw.edu/housing/event/mississippi-university-for-women-mens-soccer-vs-oakwood-university-3/
LOCATION:Columbus\, MS\, Roger Short Soccer Complex
CATEGORIES:Owls Athletics
END:VEVENT
BEGIN:VEVENT
DTSTART;TZID=America/Chicago:20250922T190000
DTEND;TZID=America/Chicago:20250922T210000
DTSTAMP:20260421T010412
CREATED:20250918T035015Z
LAST-MODIFIED:20250922T040510Z
UID:10001269-1758567600-1758574800@www.muw.edu
SUMMARY:Mississippi University for Women  Men's Soccer vs Oakwood University
DESCRIPTION:Mississippi University for Women Men’s Soccer vs Oakwood University\nStreaming Video: https://fan.hudl.com/usa/ms/columbus/organization/173761/muw
URL:https://www.muw.edu/housing/event/mississippi-university-for-women-mens-soccer-vs-oakwood-university-4/
LOCATION:Columbus\, MS\, Roger Short Soccer Complex
CATEGORIES:Owls Athletics
END:VEVENT
BEGIN:VEVENT
DTSTART;TZID=America/Chicago:20250927T120000
DTEND;TZID=America/Chicago:20250927T140000
DTSTAMP:20260421T010412
CREATED:20250906T030516Z
LAST-MODIFIED:20250927T045013Z
UID:10001247-1758974400-1758981600@www.muw.edu
SUMMARY:Mississippi University for Women  Women's Soccer vs Principia College
DESCRIPTION:Mississippi University for Women Women’s Soccer vs Principia College\nStreaming Video: https://fan.hudl.com/usa/ms/columbus/organization/173761/muw
URL:https://www.muw.edu/housing/event/mississippi-university-for-women-womens-soccer-vs-principia-college-2/
LOCATION:Columbus\, MS\, Roger Short Soccer Complex
CATEGORIES:Owls Athletics
END:VEVENT
BEGIN:VEVENT
DTSTART;TZID=America/Chicago:20250927T120000
DTEND;TZID=America/Chicago:20250927T140000
DTSTAMP:20260421T010412
CREATED:20250906T030516Z
LAST-MODIFIED:20250906T030516Z
UID:10001245-1758974400-1758981600@www.muw.edu
SUMMARY:Mississippi University for Women  Women's Soccer vs Principia College
DESCRIPTION:Mississippi University for Women Women’s Soccer vs Principia College\nStreaming Video: https://fan.hudl.com/usa/ms/columbus/organization/173761/muw
URL:https://www.muw.edu/housing/event/mississippi-university-for-women-womens-soccer-vs-principia-college-3/
LOCATION:Columbus\, MS\, Roger Short Soccer Complex
CATEGORIES:Owls Athletics
END:VEVENT
BEGIN:VEVENT
DTSTART;TZID=America/Chicago:20250927T120000
DTEND;TZID=America/Chicago:20250927T140000
DTSTAMP:20260421T010412
CREATED:20250910T030517Z
LAST-MODIFIED:20250927T045013Z
UID:10001261-1758974400-1758981600@www.muw.edu
SUMMARY:Mississippi University for Women  Women's Volleyball vs Eureka College
DESCRIPTION:Mississippi University for Women Women’s Volleyball vs Eureka College
URL:https://www.muw.edu/housing/event/mississippi-university-for-women-womens-volleyball-vs-eureka-college-3/
LOCATION:Greenville\, IL
CATEGORIES:Owls Athletics
END:VEVENT
BEGIN:VEVENT
DTSTART;TZID=America/Chicago:20250927T143000
DTEND;TZID=America/Chicago:20250927T163000
DTSTAMP:20260421T010412
CREATED:20250906T030516Z
LAST-MODIFIED:20250927T045013Z
UID:10001248-1758983400-1758990600@www.muw.edu
SUMMARY:Mississippi University for Women  Men's Soccer vs Principia College
DESCRIPTION:Mississippi University for Women Men’s Soccer vs Principia College\nStreaming Video: https://fan.hudl.com/usa/ms/columbus/organization/173761/muw
URL:https://www.muw.edu/housing/event/mississippi-university-for-women-mens-soccer-vs-principia-college-2/
LOCATION:Columbus\, MS\, Roger Short Soccer Complex
CATEGORIES:Owls Athletics
END:VEVENT
BEGIN:VEVENT
DTSTART;VALUE=DATE:20250928
DTEND;VALUE=DATE:20250929
DTSTAMP:20260421T010412
CREATED:20250906T030516Z
LAST-MODIFIED:20250928T050529Z
UID:10001249-1759017600-1759103999@www.muw.edu
SUMMARY:Mississippi University for Women  Men's Soccer vs TBA
DESCRIPTION:Mississippi University for Women Men’s Soccer vs TBA
URL:https://www.muw.edu/housing/event/mississippi-university-for-women-mens-soccer-vs-tba/
LOCATION:Columbus\, MS\, Roger Short Soccer Complex
CATEGORIES:Owls Athletics
END:VEVENT
BEGIN:VEVENT
DTSTART;TZID=America/Chicago:20250928T193000
DTEND;TZID=America/Chicago:20250928T213000
DTSTAMP:20260421T010412
CREATED:20250906T030516Z
LAST-MODIFIED:20250928T050529Z
UID:10001250-1759087800-1759095000@www.muw.edu
SUMMARY:Mississippi University for Women  Women's Soccer vs Piedmont University
DESCRIPTION:Mississippi University for Women Women’s Soccer vs Piedmont University\nStreaming Video: https://fan.hudl.com/usa/ms/columbus/organization/173761/muw
URL:https://www.muw.edu/housing/event/mississippi-university-for-women-womens-soccer-vs-piedmont-university/
LOCATION:Columbus\, MS\, Roger Short Soccer Complex
CATEGORIES:Owls Athletics
END:VEVENT
END:VCALENDAR