BEGIN:VCALENDAR
VERSION:2.0
PRODID:-//Housing &amp; Residence Life - ECPv6.15.17.1//NONSGML v1.0//EN
CALSCALE:GREGORIAN
METHOD:PUBLISH
X-WR-CALNAME:Housing &amp; Residence Life
X-ORIGINAL-URL:https://www.muw.edu/housing
X-WR-CALDESC:Events for Housing &amp; Residence Life
REFRESH-INTERVAL;VALUE=DURATION:PT1H
X-Robots-Tag:noindex
X-PUBLISHED-TTL:PT1H
BEGIN:VTIMEZONE
TZID:America/Chicago
BEGIN:DAYLIGHT
TZOFFSETFROM:-0600
TZOFFSETTO:-0500
TZNAME:CDT
DTSTART:20240310T080000
END:DAYLIGHT
BEGIN:STANDARD
TZOFFSETFROM:-0500
TZOFFSETTO:-0600
TZNAME:CST
DTSTART:20241103T070000
END:STANDARD
BEGIN:DAYLIGHT
TZOFFSETFROM:-0600
TZOFFSETTO:-0500
TZNAME:CDT
DTSTART:20250309T080000
END:DAYLIGHT
BEGIN:STANDARD
TZOFFSETFROM:-0500
TZOFFSETTO:-0600
TZNAME:CST
DTSTART:20251102T070000
END:STANDARD
BEGIN:DAYLIGHT
TZOFFSETFROM:-0600
TZOFFSETTO:-0500
TZNAME:CDT
DTSTART:20260308T080000
END:DAYLIGHT
BEGIN:STANDARD
TZOFFSETFROM:-0500
TZOFFSETTO:-0600
TZNAME:CST
DTSTART:20261101T070000
END:STANDARD
BEGIN:DAYLIGHT
TZOFFSETFROM:-0600
TZOFFSETTO:-0500
TZNAME:CDT
DTSTART:20270314T080000
END:DAYLIGHT
BEGIN:STANDARD
TZOFFSETFROM:-0500
TZOFFSETTO:-0600
TZNAME:CST
DTSTART:20271107T070000
END:STANDARD
END:VTIMEZONE
BEGIN:VEVENT
DTSTART;TZID=America/Chicago:20260219T120000
DTEND;TZID=America/Chicago:20260219T133000
DTSTAMP:20260420T142258
CREATED:20260217T065013Z
LAST-MODIFIED:20260217T065013Z
UID:10001409-1771502400-1771507800@www.muw.edu
SUMMARY:The Emmett Till Generation: Youth Activism\, Radical Protest\, and Social Change in Jim Crow Mississippi
DESCRIPTION:Dr. Daphne Chamberlain will present The Emmett Till Generation: Youth Activism\, Radical Protest\, and Social Change in Jim Crow South on February 19 at 12 noon at the downtown branch of the Columbus-Lowndes Public Library System.\nThis presentation highlights the role of children\, between the ages of 7 and 18\, as leaders and participants in the Mississippi civil rights movement from 1946 to 1965. This presentation also offers a new perspective on the origins of the civil rights struggle and gives credence to how instrumental young people were to engaging in radical protest and grassroots activism in Mississippi.\n​Dr. Daphne Chamberlain is a native of Columbus\, Mississippi. She attended historic Tougaloo College where she completed her undergraduate studies in History\, and she subsequently received her Master’s and Ph.D. in History from the University of Mississippi. Before returning to Tougaloo as a faculty member and administrator where she worked for ten years\, Dr. Chamberlain taught History and African American Studies at the University of Mississippi and was also the founding Director of the COFO Civil Rights Education Center at Jackson State University. She now serves as Chief Program Officer at the Emmett Till Interpretive Center.\nFor more information\, call the CLPLS at 662-329-5300.
URL:https://www.muw.edu/housing/event/the-emmett-till-generation-youth-activism-radical-protest-and-social-change-in-jim-crow-mississippi-2/
LOCATION:Columbus-Lowndes Public Library\, 198 Moss Ln\, Madison\, MS\, United States
CATEGORIES:America 250,Black History Month,Lecture,Students,ThoughtfulLearning
ATTACH;FMTTYPE=image/png:https://www.muw.edu/housing/wp-content/uploads/sites/7/2026/02/Chamberlin-h41UwF.png
GEO:32.474415;-90.224395
X-APPLE-STRUCTURED-LOCATION;VALUE=URI;X-ADDRESS=Columbus-Lowndes Public Library 198 Moss Ln Madison MS United States;X-APPLE-RADIUS=500;X-TITLE=198 Moss Ln:geo:-90.224395,32.474415
END:VEVENT
BEGIN:VEVENT
DTSTART;TZID=America/Chicago:20260219T120000
DTEND;TZID=America/Chicago:20260219T133000
DTSTAMP:20260420T142258
CREATED:20260217T065012Z
LAST-MODIFIED:20260219T065011Z
UID:10001411-1771502400-1771507800@www.muw.edu
SUMMARY:The Emmett Till Generation: Youth Activism\, Radical Protest\, and Social Change in Jim Crow Mississippi
DESCRIPTION:Dr. Daphne Chamberlain will present The Emmett Till Generation: Youth Activism\, Radical Protest\, and Social Change in Jim Crow South on February 19 at 12 noon at the downtown branch of the Columbus-Lowndes Public Library System.\nThis presentation highlights the role of children\, between the ages of 7 and 18\, as leaders and participants in the Mississippi civil rights movement from 1946 to 1965. This presentation also offers a new perspective on the origins of the civil rights struggle and gives credence to how instrumental young people were to engaging in radical protest and grassroots activism in Mississippi.\n​Dr. Daphne Chamberlain is a native of Columbus\, Mississippi. She attended historic Tougaloo College where she completed her undergraduate studies in History\, and she subsequently received her Master’s and Ph.D. in History from the University of Mississippi. Before returning to Tougaloo as a faculty member and administrator where she worked for ten years\, Dr. Chamberlain taught History and African American Studies at the University of Mississippi and was also the founding Director of the COFO Civil Rights Education Center at Jackson State University. She now serves as Chief Program Officer at the Emmett Till Interpretive Center.\nFor more information\, call the CLPLS at 662-329-5300.
URL:https://www.muw.edu/housing/event/the-emmett-till-generation-youth-activism-radical-protest-and-social-change-in-jim-crow-mississippi/
LOCATION:Columbus-Lowndes Public Library\, 198 Moss Ln\, Madison\, MS\, United States
CATEGORIES:America 250,Black History Month,Lecture,Students,ThoughtfulLearning
ATTACH;FMTTYPE=image/png:https://www.muw.edu/housing/wp-content/uploads/sites/7/2026/02/Chamberlin-h41UwF.png
GEO:32.474415;-90.224395
X-APPLE-STRUCTURED-LOCATION;VALUE=URI;X-ADDRESS=Columbus-Lowndes Public Library 198 Moss Ln Madison MS United States;X-APPLE-RADIUS=500;X-TITLE=198 Moss Ln:geo:-90.224395,32.474415
END:VEVENT
BEGIN:VEVENT
DTSTART;TZID=America/Chicago:20251112T160000
DTEND;TZID=America/Chicago:20251112T170000
DTSTAMP:20260420T142258
CREATED:20250918T035018Z
LAST-MODIFIED:20251014T063516Z
UID:10001276-1762963200-1762966800@www.muw.edu
SUMMARY:Women's Health & Entrepreneurship with Amy Bogue
DESCRIPTION:Amy Bogue is president and founder of Allegro Family Clinics\, which recently expanded its services to include obstetrics and gynecology. Named one of the top 50 CEOs in MS\, Bogue has also launched a hub of resources at Allegro to help combat human trafficking.\nPart of the Women’s College Colloquium Speaker Series. All are welcome.
URL:https://www.muw.edu/housing/event/womens-health-entrepreneurship-with-dr-amy-bogue/
LOCATION:Fant Library Tiered Classroom
CATEGORIES:Campus Event,Cultural Calendar,Lecture,Students,ThoughtfulLearning,Women's Mission
ATTACH;FMTTYPE=image/jpeg:https://www.muw.edu/housing/wp-content/uploads/sites/7/2025/09/amy-bogue-uoYL6E.jpg
END:VEVENT
BEGIN:VEVENT
DTSTART;TZID=America/Chicago:20251105T160000
DTEND;TZID=America/Chicago:20251105T170000
DTSTAMP:20260420T142258
CREATED:20251015T065011Z
LAST-MODIFIED:20251105T080525Z
UID:10001325-1762358400-1762362000@www.muw.edu
SUMMARY:Women's Health & Entrepreneurship with Amy Bogue
DESCRIPTION:Amy Bogue is president and founder of Allegro Family Clinics\, which recently expanded its services to include obstetrics and gynecology. Named one of the top 50 CEOs in MS\, Bogue has also launched a hub of resources at Allegro to help combat human trafficking.\nPart of the Women’s College Colloquium Speaker Series. All are welcome.
URL:https://www.muw.edu/housing/event/womens-health-entrepreneurship-with-amy-bogue/
LOCATION:GPG Multi-Purpose Room – MUW Library
CATEGORIES:Campus Event,Cultural Calendar,Lecture,Students,ThoughtfulLearning,Women's Mission
ATTACH;FMTTYPE=image/jpeg:https://www.muw.edu/housing/wp-content/uploads/sites/7/2025/09/amy-bogue-uoYL6E.jpg
ORGANIZER;CN="Women's College":MAILTO:womenscollege@muw.edu
END:VEVENT
BEGIN:VEVENT
DTSTART;TZID=America/Chicago:20251104T180000
DTEND;TZID=America/Chicago:20251104T200000
DTSTAMP:20260420T142258
CREATED:20251018T071048Z
LAST-MODIFIED:20251104T080521Z
UID:10001340-1762279200-1762286400@www.muw.edu
SUMMARY:The American Revolution:  Short Showing & Panel Discussion
DESCRIPTION:Join us at the Columbus-Lowndes Public Library for a preview and panel discussion of The American Revolution\, a new six-part\, 12-hour documentary series that explores the country’s founding struggle and its eight-year War for Independence. Drs. Jon Hooks (Mississippi University for Women) and Judith Ridner (Mississippi State University) will draw on their expertise to set the stage\, and Mississippi Public Broadcasting will screen a summary version of the film.\nThe full film series will premiere on Sunday\, November 16 and air for six consecutive nights through Friday\, November 21st. The much anticipated series\, which has been in production for eight years\, was directed and produced by Ken Burns\, Sarah Botstein and David Schmidt and written by long-time collaborator Geoffrey C. Ward. The filmmakers and PBS scheduled the broadcast for 2025\, the 250th anniversary of the start of the war\, which began in the spring of 1775\, more than a year before the Declaration of Independence.
URL:https://www.muw.edu/housing/event/the-american-revolution-short-showing-panel-discussion/
LOCATION:Columbus-Lowndes Public Library\, 198 Moss Ln\, Madison\, MS\, United States
CATEGORIES:America 250,Community Events,Film,Lecture,Students,ThoughtfulLearning
ATTACH;FMTTYPE=image/jpeg:https://www.muw.edu/housing/wp-content/uploads/sites/7/2025/10/The-American-Revolution-PBS-Film-Poster-scaled-BKSgH9.jpg
GEO:32.474415;-90.224395
X-APPLE-STRUCTURED-LOCATION;VALUE=URI;X-ADDRESS=Columbus-Lowndes Public Library 198 Moss Ln Madison MS United States;X-APPLE-RADIUS=500;X-TITLE=198 Moss Ln:geo:-90.224395,32.474415
END:VEVENT
BEGIN:VEVENT
DTSTART;TZID=America/Chicago:20251015T160000
DTEND;TZID=America/Chicago:20251015T170000
DTSTAMP:20260420T142258
CREATED:20250918T035017Z
LAST-MODIFIED:20251015T065011Z
UID:10001273-1760544000-1760547600@www.muw.edu
SUMMARY:Fireside Chat with W Alum Kimberly Griffin
DESCRIPTION:Kimberly Griffin is a seasoned revenue generation expert with over two decades of fundraising\, marketing\, sales\, and advertising experience. She is also the founding publisher and chief revenue officer of the Mississippi Free Press\, a statewide nonprofit\, nonpartisan news outlet focusing on solutions-based journalism. She received her B.S. in journalism from The W. Read her full bio at the Mississippi Free Press.\nGriffin will be sharing the inside scoop on her struggles and successes in building the non-profit newsroom at Mississippi Free Press. The conversation will be moderated by 1884 Scholar and Spectator reporter Merry MacLellan.\nPart of the Women’s College Colloquium Speaker Series. All are welcome.
URL:https://www.muw.edu/housing/event/a-conversation-with-w-alum-kimberly-griffin/
LOCATION:Gail P. Gunter Room\, Fant Memorial Library
CATEGORIES:Alumni,Campus Event,Cultural Calendar,Lecture,Students,ThoughtfulLearning,Women's Mission
ATTACH;FMTTYPE=image/webp:https://www.muw.edu/housing/wp-content/uploads/sites/7/2025/09/Kimberly-Griffin-2023_600px-3HaSNC.webp
END:VEVENT
BEGIN:VEVENT
DTSTART;TZID=America/Chicago:20251001T160000
DTEND;TZID=America/Chicago:20251001T170000
DTSTAMP:20260420T142258
CREATED:20250918T035017Z
LAST-MODIFIED:20251001T052014Z
UID:10001272-1759334400-1759338000@www.muw.edu
SUMMARY:Reclaiming Pleasure with Catherine Simone Gray
DESCRIPTION:Catherine Simone Gray–also called “Unsilenced Woman” and author of Proud Flesh: A Memoir of Motherhood\, Intimate Violence\, and Reclaiming Pleasure–gathers women\, mothers\, and caregivers to explore how writing can be an ally in our living and loving.\nPart of the Women’s College Colloquium Speaker Series. All are welcome.
URL:https://www.muw.edu/housing/event/reclaiming-pleasure-with-catherine-simone-gray/
LOCATION:Gail P. Gunter Room\, Fant Memorial Library
CATEGORIES:Campus Event,Cultural Calendar,Lecture,Students,ThoughtfulLearning,Women's Mission
ATTACH;FMTTYPE=image/jpeg:https://www.muw.edu/housing/wp-content/uploads/sites/7/2025/09/Proud-Flesh-1-aPS8yc.jpg
END:VEVENT
END:VCALENDAR