BEGIN:VCALENDAR
VERSION:2.0
PRODID:-//Housing &amp; Residence Life - ECPv6.15.17.1//NONSGML v1.0//EN
CALSCALE:GREGORIAN
METHOD:PUBLISH
X-WR-CALNAME:Housing &amp; Residence Life
X-ORIGINAL-URL:https://www.muw.edu/housing
X-WR-CALDESC:Events for Housing &amp; Residence Life
REFRESH-INTERVAL;VALUE=DURATION:PT1H
X-Robots-Tag:noindex
X-PUBLISHED-TTL:PT1H
BEGIN:VTIMEZONE
TZID:America/Chicago
BEGIN:DAYLIGHT
TZOFFSETFROM:-0600
TZOFFSETTO:-0500
TZNAME:CDT
DTSTART:20240310T080000
END:DAYLIGHT
BEGIN:STANDARD
TZOFFSETFROM:-0500
TZOFFSETTO:-0600
TZNAME:CST
DTSTART:20241103T070000
END:STANDARD
BEGIN:DAYLIGHT
TZOFFSETFROM:-0600
TZOFFSETTO:-0500
TZNAME:CDT
DTSTART:20250309T080000
END:DAYLIGHT
BEGIN:STANDARD
TZOFFSETFROM:-0500
TZOFFSETTO:-0600
TZNAME:CST
DTSTART:20251102T070000
END:STANDARD
BEGIN:DAYLIGHT
TZOFFSETFROM:-0600
TZOFFSETTO:-0500
TZNAME:CDT
DTSTART:20260308T080000
END:DAYLIGHT
BEGIN:STANDARD
TZOFFSETFROM:-0500
TZOFFSETTO:-0600
TZNAME:CST
DTSTART:20261101T070000
END:STANDARD
END:VTIMEZONE
BEGIN:VEVENT
DTSTART;TZID=America/Chicago:20250916T110000
DTEND;TZID=America/Chicago:20250916T133000
DTSTAMP:20260420T022841
CREATED:20250906T032032Z
LAST-MODIFIED:20250916T035011Z
UID:10001252-1758020400-1758029400@www.muw.edu
SUMMARY:Soak a Silli
DESCRIPTION:Get ready to splash your favorite silhouette\, to help us raise money for our club.\nHosted by: The Silhouette Social Club\nAdditional Information can be found at: https://muw.campuslabs.com/engage/event/11549464
URL:https://www.muw.edu/housing/event/soak-a-silli/
LOCATION:Hogarth Cafeteria
CATEGORIES:Fundraising,Students
END:VEVENT
BEGIN:VEVENT
DTSTART;TZID=America/Chicago:20250902T110000
DTEND;TZID=America/Chicago:20250905T130000
DTSTAMP:20260420T022841
CREATED:20250903T025745Z
LAST-MODIFIED:20250905T032031Z
UID:10001223-1756810800-1757077200@www.muw.edu
SUMMARY:YBLA Fundraiser: Win a $50 Visa Gift Card!
DESCRIPTION:Another YBLA raffle? Yep! Who doesn’t want free money? 💸 YBLA is back at it again with another $50 gift card raffle.\nHosted by: Young Black Leadership Association\nAdditional Information can be found at: https://muw.campuslabs.com/engage/event/11480640
URL:https://www.muw.edu/housing/event/ybla-fundraiser-win-a-50-visa-gift-card-3/
LOCATION:Hogarth Dining Hall
CATEGORIES:Fundraising,Students
END:VEVENT
BEGIN:VEVENT
DTSTART;TZID=America/Chicago:20250422T173000
DTEND;TZID=America/Chicago:20250422T203000
DTSTAMP:20260420T022841
CREATED:20250409T015015Z
LAST-MODIFIED:20250422T022009Z
UID:10001184-1745343000-1745353800@www.muw.edu
SUMMARY:Spike for St. Jude
DESCRIPTION:Join us in some rounds of volleyball to raise funds St. Jude.\nHosted by: Campus Recreation\, Zeta Phi Beta Sorority\, Incorporated\nAdditional Information can be found at: https://muw.campuslabs.com/engage/event/11181161
URL:https://www.muw.edu/housing/event/spike-for-st-jude/
LOCATION:Pohl Gym
CATEGORIES:Fundraising,Students
END:VEVENT
END:VCALENDAR