BEGIN:VCALENDAR
VERSION:2.0
PRODID:-//Housing &amp; Residence Life - ECPv6.15.17.1//NONSGML v1.0//EN
CALSCALE:GREGORIAN
METHOD:PUBLISH
X-ORIGINAL-URL:https://www.muw.edu/housing
X-WR-CALDESC:Events for Housing &amp; Residence Life
REFRESH-INTERVAL;VALUE=DURATION:PT1H
X-Robots-Tag:noindex
X-PUBLISHED-TTL:PT1H
BEGIN:VTIMEZONE
TZID:America/Chicago
BEGIN:DAYLIGHT
TZOFFSETFROM:-0600
TZOFFSETTO:-0500
TZNAME:CDT
DTSTART:20240310T080000
END:DAYLIGHT
BEGIN:STANDARD
TZOFFSETFROM:-0500
TZOFFSETTO:-0600
TZNAME:CST
DTSTART:20241103T070000
END:STANDARD
BEGIN:DAYLIGHT
TZOFFSETFROM:-0600
TZOFFSETTO:-0500
TZNAME:CDT
DTSTART:20250309T080000
END:DAYLIGHT
BEGIN:STANDARD
TZOFFSETFROM:-0500
TZOFFSETTO:-0600
TZNAME:CST
DTSTART:20251102T070000
END:STANDARD
BEGIN:DAYLIGHT
TZOFFSETFROM:-0600
TZOFFSETTO:-0500
TZNAME:CDT
DTSTART:20260308T080000
END:DAYLIGHT
BEGIN:STANDARD
TZOFFSETFROM:-0500
TZOFFSETTO:-0600
TZNAME:CST
DTSTART:20261101T070000
END:STANDARD
BEGIN:DAYLIGHT
TZOFFSETFROM:-0600
TZOFFSETTO:-0500
TZNAME:CDT
DTSTART:20270314T080000
END:DAYLIGHT
BEGIN:STANDARD
TZOFFSETFROM:-0500
TZOFFSETTO:-0600
TZNAME:CST
DTSTART:20271107T070000
END:STANDARD
END:VTIMEZONE
BEGIN:VEVENT
DTSTART;TZID=America/Chicago:20260318T160000
DTEND;TZID=America/Chicago:20260318T170000
DTSTAMP:20260420T061854
CREATED:20260116T063527Z
LAST-MODIFIED:20260318T073514Z
UID:10001401-1773849600-1773853200@www.muw.edu
SUMMARY:Three Years in the Life of Fannie Lou Hamer: An American Catalyst for Change
DESCRIPTION:Dr. J. Janice Coleman\, a quilter\, storyteller\, and professor of English at Alcorn State University\, will be speaking about and displaying her collection of quilts\, cotton sacks\, and pillows inspired by the life of Fannie Lou Hamer. One quilt she will be displaying features a life-sized image of Mrs. Hamer.\nTo view some of Dr. Coleman’s works\, visit her online museum\, the Mississippi Delta Shotgun Sewn Arts Museum at https://mdssam.omeka.net.\nThis event is part of the Women’s College Colloquium Speaker Series. The theme for the Spring 2026 colloquium series is “Women and the Arts” and honors the Women’s College’s inaugural study away trip to New York City with The W’s Art Department.
URL:https://www.muw.edu/housing/event/women-and-the-arts-j-janice-coleman-quilter-and-storyteller/
LOCATION:Gail P. Gunter Room\, Fant Library
CATEGORIES:Arts,Campus Event,Community Events,Cultural Calendar,Special Events,Students,Women's History Month,Women's Mission
ATTACH;FMTTYPE=image/jpeg:https://www.muw.edu/housing/wp-content/uploads/sites/7/2026/01/Coleman_HEADSHOT-resized-Umgcui.jpg
ORGANIZER;CN="Women's College":MAILTO:womenscollege@muw.edu
END:VEVENT
BEGIN:VEVENT
DTSTART;TZID=America/Chicago:20260304T160000
DTEND;TZID=America/Chicago:20260304T170000
DTSTAMP:20260420T061854
CREATED:20260113T062024Z
LAST-MODIFIED:20260304T072009Z
UID:10001392-1772640000-1772643600@www.muw.edu
SUMMARY:Special Performance by Julia Mortyakova
DESCRIPTION:Professor and Chair of the Department of Music at The W\, Julia Mortyakova will discuss how she founded the International Music by Women Festival. She will also perform songs by a female composer.\nThis event is part of the Women’s College Colloquium Speaker Series. The theme for the Spring 2026 colloquium series is “Women and the Arts\,” which honors the Women’s College’s inaugural study away trip to New York City with The W’s Art Department.
URL:https://www.muw.edu/housing/event/special-performance-by-julia-mortyakova/
LOCATION:Fant Memorial Library\, 1100 College St\, Columbus\, MS\, United States
CATEGORIES:Arts,Campus Event,Community Events,Concert,Concerts,Cultural Calendar,Library,Library Event,Music,Special Events,Students,Women's History Month,Women's Mission
ATTACH;FMTTYPE=image/jpeg:https://www.muw.edu/housing/wp-content/uploads/sites/7/2026/01/Dr.-Julia-Mortyakova-piano-shot-Z8DW4f.tmp_-9ymTsW.jpg
ORGANIZER;CN="Women's College":MAILTO:womenscollege@muw.edu
GEO:33.49526;-88.418189
X-APPLE-STRUCTURED-LOCATION;VALUE=URI;X-ADDRESS=Fant Memorial Library 1100 College St Columbus MS United States;X-APPLE-RADIUS=500;X-TITLE=1100 College St:geo:-88.418189,33.49526
END:VEVENT
BEGIN:VEVENT
DTSTART;TZID=America/Chicago:20260218T160000
DTEND;TZID=America/Chicago:20260218T170000
DTSTAMP:20260420T061854
CREATED:20260110T062036Z
LAST-MODIFIED:20260218T065014Z
UID:10001389-1771430400-1771434000@www.muw.edu
SUMMARY:Art History in the Making: Three Southern Women Artists
DESCRIPTION:Sheryl Jefferies\, independent scholar and oral historian\, will speak about three contemporary southern women artists\, including MUW alum and Columbus native Elayne Goodman. Sheryl is a contributing author for Beyond Discards: Junk Appropriation in Global Art and editor and producer of a podcast.\nThis event is part of the Women’s College Colloquium Speaker Series. The theme for the Spring 2026 colloquium series is “Women and the Arts\,” which honors the Women’s College’s inaugural study away trip to New York City with The W’s Art Department.
URL:https://www.muw.edu/housing/event/art-history-in-the-making-three-southern-women-artists/
LOCATION:Gail Gunter Multi-Purpose Room
CATEGORIES:Arts,Campus Event,Community Events,Cultural Calendar,Students,Women's Mission
ATTACH;FMTTYPE=image/jpeg:https://www.muw.edu/housing/wp-content/uploads/sites/7/2026/01/Jefferies_headshot-resized-MfABUp.jpg
ORGANIZER;CN="Women's College":MAILTO:womenscollege@muw.edu
END:VEVENT
BEGIN:VEVENT
DTSTART;TZID=America/Chicago:20260205T180000
DTEND;TZID=America/Chicago:20260205T190000
DTSTAMP:20260420T061854
CREATED:20260115T062019Z
LAST-MODIFIED:20260115T062019Z
UID:10001398-1770314400-1770318000@www.muw.edu
SUMMARY:An Evening of Piano Music\, with Dr. Julia Mortyakova and Dr. Valentin Bogdan
DESCRIPTION:Dr. Julia Mortyakova\, Professor and Department Chair for Music\, and Dr. Valentin Bogdan\, Professor of Music\, will be performing selections on the piano. This is the first Honors Forum Series of the Spring 2026 semester.
URL:https://www.muw.edu/housing/event/an-evening-of-piano-music-with-dr-julia-mortyakova-and-dr-valentin-bogdan-2/
LOCATION:Connie Sills Kossen Auditorium in Poindexter Hall
CATEGORIES:Arts,Campus Event,Community Events,Concert,Concerts,Cultural Calendar,Honors Forum,Music,Students
ATTACH;FMTTYPE=image/jpeg:https://www.muw.edu/housing/wp-content/uploads/sites/7/2026/01/Julia-Mortyakova-Valentin-Bogdan-Piano-Duo-K904ly.jpg
END:VEVENT
BEGIN:VEVENT
DTSTART;TZID=America/Chicago:20260205T180000
DTEND;TZID=America/Chicago:20260205T190000
DTSTAMP:20260420T061854
CREATED:20260115T062018Z
LAST-MODIFIED:20260205T065010Z
UID:10001397-1770314400-1770318000@www.muw.edu
SUMMARY:An Evening of Piano Music\, with Dr. Julia Mortyakova and Dr. Valentin Bogdan
DESCRIPTION:Dr. Julia Mortyakova\, Professor and Department Chair for Music\, and Dr. Valentin Bogdan\, Professor of Music\, will be performing selections on the piano. This is the first Honors Forum Series of the Spring 2026 semester.
URL:https://www.muw.edu/housing/event/an-evening-of-piano-music-with-dr-julia-mortyakova-and-dr-valentin-bogdan/
LOCATION:Connie Sills Kossen Auditorium in Poindexter Hall
CATEGORIES:Arts,Campus Event,Community Events,Concert,Concerts,Cultural Calendar,Honors Forum,Music,Students
ATTACH;FMTTYPE=image/jpeg:https://www.muw.edu/housing/wp-content/uploads/sites/7/2026/01/Julia-Mortyakova-Valentin-Bogdan-Piano-Duo-K904ly.jpg
END:VEVENT
BEGIN:VEVENT
DTSTART;TZID=America/Chicago:20251115T100000
DTEND;TZID=America/Chicago:20251115T150000
DTSTAMP:20260420T061854
CREATED:20250906T032033Z
LAST-MODIFIED:20251115T003517Z
UID:10001260-1763200800-1763218800@www.muw.edu
SUMMARY:Under the Oaks Arts Festival
DESCRIPTION:Set for Saturday\, Nov. 15 from 10 a.m.-3 p.m.\, campus\, especially Welty Drive\, will be buzzing with excitement as local artisans set up booths showcasing their work. The road is also lined with Oak trees\, hence the name\, Under the Oaks.\nThe event is free and open to the public. Additionally\, there will be live music and food.\nFor more information\, please contact Columbus Arts Council at (662) 328-2787 or info@columbusartscouncil.com
URL:https://www.muw.edu/housing/event/under-the-oaks-arts-festival/
LOCATION:The W Campus\, 1100 College St\, Columbus\, MS\, United States
CATEGORIES:Arts,Campus Event,Community Events,Cultural Calendar,Students
ATTACH;FMTTYPE=image/jpeg:https://www.muw.edu/housing/wp-content/uploads/sites/7/2025/09/Undert-the-Oaks_4x5-wP3Zb8.jpg
GEO:33.49526;-88.418189
X-APPLE-STRUCTURED-LOCATION;VALUE=URI;X-ADDRESS=The W Campus 1100 College St Columbus MS United States;X-APPLE-RADIUS=500;X-TITLE=1100 College St:geo:-88.418189,33.49526
END:VEVENT
END:VCALENDAR