BEGIN:VCALENDAR
VERSION:2.0
PRODID:-//Housing &amp; Residence Life - ECPv6.15.17.1//NONSGML v1.0//EN
CALSCALE:GREGORIAN
METHOD:PUBLISH
X-ORIGINAL-URL:https://www.muw.edu/housing
X-WR-CALDESC:Events for Housing &amp; Residence Life
REFRESH-INTERVAL;VALUE=DURATION:PT1H
X-Robots-Tag:noindex
X-PUBLISHED-TTL:PT1H
BEGIN:VTIMEZONE
TZID:America/Chicago
BEGIN:DAYLIGHT
TZOFFSETFROM:-0600
TZOFFSETTO:-0500
TZNAME:CDT
DTSTART:20250309T080000
END:DAYLIGHT
BEGIN:STANDARD
TZOFFSETFROM:-0500
TZOFFSETTO:-0600
TZNAME:CST
DTSTART:20251102T070000
END:STANDARD
BEGIN:DAYLIGHT
TZOFFSETFROM:-0600
TZOFFSETTO:-0500
TZNAME:CDT
DTSTART:20260308T080000
END:DAYLIGHT
BEGIN:STANDARD
TZOFFSETFROM:-0500
TZOFFSETTO:-0600
TZNAME:CST
DTSTART:20261101T070000
END:STANDARD
BEGIN:DAYLIGHT
TZOFFSETFROM:-0600
TZOFFSETTO:-0500
TZNAME:CDT
DTSTART:20270314T080000
END:DAYLIGHT
BEGIN:STANDARD
TZOFFSETFROM:-0500
TZOFFSETTO:-0600
TZNAME:CST
DTSTART:20271107T070000
END:STANDARD
END:VTIMEZONE
BEGIN:VEVENT
DTSTART;TZID=America/Chicago:20260417T110000
DTEND;TZID=America/Chicago:20260417T130000
DTSTAMP:20260419T221226
CREATED:20260328T080513Z
LAST-MODIFIED:20260417T085010Z
UID:10001466-1776423600-1776430800@www.muw.edu
SUMMARY:Pie a Poodle
DESCRIPTION:Members of Sigma Gamma Rho Sorority Inc. will Host Pie a Poodle.\nHosted by: Sigma Gamma Rho Sorority\, Inc.\nAdditional Information can be found at: https://muw.campuslabs.com/engage/event/12210744
URL:https://www.muw.edu/housing/event/pie-a-poodle-3/
LOCATION:Hogarth Dining Hall
CATEGORIES:Fundraising,Students
END:VEVENT
BEGIN:VEVENT
DTSTART;TZID=America/Chicago:20260417T130000
DTEND;TZID=America/Chicago:20260417T160000
DTSTAMP:20260419T221226
CREATED:20260329T000527Z
LAST-MODIFIED:20260417T023511Z
UID:10001477-1776430800-1776441600@www.muw.edu
SUMMARY:Mississippi University for Women  Baseball vs Eureka College
DESCRIPTION:Mississippi University for Women  Baseball vs Eureka CollegeStreaming Video: https://fan.hudl.com/usa/ms/columbus/organization/173761/muw/watch?b=QnJvYWRjYXN0MzgwOTI5MQ==
URL:https://www.muw.edu/housing/event/mississippi-university-for-women-baseball-vs-eureka-college-7/
LOCATION:Columbus\, MS\, CCA Field
CATEGORIES:Owls Athletics
END:VEVENT
BEGIN:VEVENT
DTSTART;TZID=America/Chicago:20260417T150000
DTEND;TZID=America/Chicago:20260417T180000
DTSTAMP:20260419T221226
CREATED:20260329T000527Z
LAST-MODIFIED:20260417T023511Z
UID:10001478-1776438000-1776448800@www.muw.edu
SUMMARY:Mississippi University for Women  Women's Tennis vs Agnes Scott College
DESCRIPTION:Mississippi University for Women  Women’s Tennis vs Agnes Scott College
URL:https://www.muw.edu/housing/event/mississippi-university-for-women-womens-tennis-vs-agnes-scott-college-2/
LOCATION:Montgomery\, AL
CATEGORIES:Owls Athletics
END:VEVENT
BEGIN:VEVENT
DTSTART;TZID=America/Chicago:20260417T150000
DTEND;TZID=America/Chicago:20260417T180000
DTSTAMP:20260419T221226
CREATED:20260330T012031Z
LAST-MODIFIED:20260417T023511Z
UID:10001479-1776438000-1776448800@www.muw.edu
SUMMARY:Mississippi University for Women  Baseball vs Eureka College
DESCRIPTION:Mississippi University for Women  Baseball vs Eureka CollegeStreaming Video: https://fan.hudl.com/usa/ms/columbus/organization/173761/muw/watch?b=QnJvYWRjYXN0MzgwOTI5Mg==
URL:https://www.muw.edu/housing/event/mississippi-university-for-women-baseball-vs-eureka-college-8/
LOCATION:Columbus\, MS\, CCA Field
CATEGORIES:Owls Athletics
END:VEVENT
END:VCALENDAR