BEGIN:VCALENDAR
VERSION:2.0
PRODID:-//Housing &amp; Residence Life - ECPv6.15.17.1//NONSGML v1.0//EN
CALSCALE:GREGORIAN
METHOD:PUBLISH
X-WR-CALNAME:Housing &amp; Residence Life
X-ORIGINAL-URL:https://www.muw.edu/housing
X-WR-CALDESC:Events for Housing &amp; Residence Life
REFRESH-INTERVAL;VALUE=DURATION:PT1H
X-Robots-Tag:noindex
X-PUBLISHED-TTL:PT1H
BEGIN:VTIMEZONE
TZID:America/Chicago
BEGIN:DAYLIGHT
TZOFFSETFROM:-0600
TZOFFSETTO:-0500
TZNAME:CDT
DTSTART:20240310T080000
END:DAYLIGHT
BEGIN:STANDARD
TZOFFSETFROM:-0500
TZOFFSETTO:-0600
TZNAME:CST
DTSTART:20241103T070000
END:STANDARD
BEGIN:DAYLIGHT
TZOFFSETFROM:-0600
TZOFFSETTO:-0500
TZNAME:CDT
DTSTART:20250309T080000
END:DAYLIGHT
BEGIN:STANDARD
TZOFFSETFROM:-0500
TZOFFSETTO:-0600
TZNAME:CST
DTSTART:20251102T070000
END:STANDARD
BEGIN:DAYLIGHT
TZOFFSETFROM:-0600
TZOFFSETTO:-0500
TZNAME:CDT
DTSTART:20260308T080000
END:DAYLIGHT
BEGIN:STANDARD
TZOFFSETFROM:-0500
TZOFFSETTO:-0600
TZNAME:CST
DTSTART:20261101T070000
END:STANDARD
END:VTIMEZONE
BEGIN:VEVENT
DTSTART;VALUE=DATE:20251005
DTEND;VALUE=DATE:20251007
DTSTAMP:20260420T124127
CREATED:20250924T042017Z
LAST-MODIFIED:20251006T053513Z
UID:10001289-1759622400-1759795199@www.muw.edu
SUMMARY:Mississippi University for Women  Women's Golf vs St. Louis Intercollegiate Athletic Conference Championships
DESCRIPTION:Mississippi University for Women Women’s Golf vs St. Louis Intercollegiate Athletic Conference Championships
URL:https://www.muw.edu/housing/event/mississippi-university-for-women-womens-golf-vs-st-louis-intercollegiate-athletic-conference-championships-2/
LOCATION:Union\, MO (Birch Creek GC)
CATEGORIES:Owls Athletics
END:VEVENT
BEGIN:VEVENT
DTSTART;TZID=America/Chicago:20251006T170000
DTEND;TZID=America/Chicago:20251006T190000
DTSTAMP:20260420T124128
CREATED:20250924T042017Z
LAST-MODIFIED:20251006T053513Z
UID:10001290-1759770000-1759777200@www.muw.edu
SUMMARY:Mississippi University for Women  Women's Volleyball vs Crowleys Ridge College - DIG PINK GAME
DESCRIPTION:Mississippi University for Women Women’s Volleyball vs Crowleys Ridge College – DIG PINK GAME\nStreaming Video: https://fan.hudl.com/usa/ms/columbus/organization/173761/muw/video
URL:https://www.muw.edu/housing/event/mississippi-university-for-women-womens-volleyball-vs-crowleys-ridge-college-dig-pink-game/
LOCATION:Columbus\, MS\, Pohl Gymnasium
CATEGORIES:Owls Athletics
END:VEVENT
BEGIN:VEVENT
DTSTART;TZID=America/Chicago:20251006T180000
DTEND;TZID=America/Chicago:20251006T204500
DTSTAMP:20260420T124128
CREATED:20251002T052011Z
LAST-MODIFIED:20251006T055020Z
UID:10001305-1759773600-1759783500@www.muw.edu
SUMMARY:R&B Night
DESCRIPTION:Join us for an unforgettable R&B Night hosted by ! Enjoy smooth tunes\, great vibes\, and a night filled with music\, dancing\, and community. This event is the perfect way to relax\, connect\, and celebrate the rhythm of R&B.”\nHosted by: The Mam’selle Social Club\nAdditional Information can be found at: https://muw.campuslabs.com/engage/event/11690753
URL:https://www.muw.edu/housing/event/rb-night/
LOCATION:The Nest
CATEGORIES:Social,Students
END:VEVENT
END:VCALENDAR