BEGIN:VCALENDAR
VERSION:2.0
PRODID:-//Kossen Center for Teaching &amp; Learning - ECPv6.15.17.1//NONSGML v1.0//EN
CALSCALE:GREGORIAN
METHOD:PUBLISH
X-WR-CALNAME:Kossen Center for Teaching &amp; Learning
X-ORIGINAL-URL:https://www.muw.edu/ctl
X-WR-CALDESC:Events for Kossen Center for Teaching &amp; Learning
REFRESH-INTERVAL;VALUE=DURATION:PT1H
X-Robots-Tag:noindex
X-PUBLISHED-TTL:PT1H
BEGIN:VTIMEZONE
TZID:America/Chicago
BEGIN:DAYLIGHT
TZOFFSETFROM:-0600
TZOFFSETTO:-0500
TZNAME:CDT
DTSTART:20240310T080000
END:DAYLIGHT
BEGIN:STANDARD
TZOFFSETFROM:-0500
TZOFFSETTO:-0600
TZNAME:CST
DTSTART:20241103T070000
END:STANDARD
BEGIN:DAYLIGHT
TZOFFSETFROM:-0600
TZOFFSETTO:-0500
TZNAME:CDT
DTSTART:20250309T080000
END:DAYLIGHT
BEGIN:STANDARD
TZOFFSETFROM:-0500
TZOFFSETTO:-0600
TZNAME:CST
DTSTART:20251102T070000
END:STANDARD
BEGIN:DAYLIGHT
TZOFFSETFROM:-0600
TZOFFSETTO:-0500
TZNAME:CDT
DTSTART:20260308T080000
END:DAYLIGHT
BEGIN:STANDARD
TZOFFSETFROM:-0500
TZOFFSETTO:-0600
TZNAME:CST
DTSTART:20261101T070000
END:STANDARD
END:VTIMEZONE
BEGIN:VEVENT
DTSTART;VALUE=DATE:20250818
DTEND;VALUE=DATE:20250820
DTSTAMP:20260420T213408
CREATED:20250812T132358Z
LAST-MODIFIED:20250815T205430Z
UID:10000004-1755475200-1755647999@www.muw.edu
SUMMARY:Fall 2025 Convocation and Development
DESCRIPTION:Monday\, Aug. 18\nNissan Auditorium\nConvocation begins at 8:30 a.m. \nWelcome\n     Dr. Chad Murphy: Faculty Senate Welcome\n     Chelle Shaw: Staff Council Welcome\nUpdates\n     Dr. Scott Tollison: Academic Affairs Update\n     Carla Lowery: Facilities and Budget Update\n     Jess Harpole: Student Affairs Update\n     Anika Perkins: University Relations\n     Elise Wilson: Development & Alumni\, Career Services\n& Professional Development Update\n      Courtney Youngblood: Faculty/Staff Giving Campaign \nRemarks\n      President Nora Miller: University Update \nUpdates Panel\nDr. Clear Moore\, Director of the Student Success Center\nDr. David Brooking\, Exec. Dir. of Enrollment Management\nJess Harpole\, Vice President for Student Affairs\nAshley Chisolm\, Title IX Campus Coordinator\nHillary Richardson\, Dean of Library Services\nDr. Hope Durst\, QEP Director\nChief Randy Vibrock\, University Police Chief \n  \nAfternoon Sessions\nFant Library \nAI in the Classroom Panel & Update\n1-1:45 p.m.\, Digital Classroom\, First Floor\nPresenters: Dr. Allison Beuhler\, Alex Stelioes-Wills\, Dr. Brian\nBurnes\, Dr. Marty Brock \nTeaching Circle Reports\n2-2:45 p.m.\, Digital Classroom\, First Floor\nPresenters:\n     “Understanding and Supporting First-Generation & \n     Other Non-Traditional Students”\nDr. Reyna Vergara\n     “Scaffolding Assignments to Empower Students \n     and Discourage Plagiarism”\nDr. Kristen L. Figgins \nHow to Use Scaffolding in Face-to-Face and Online \nCourses\n3-3:45 p.m.\, Digital Classroom\, First Floor\nPresenters:\nDr. Dorothy Berglund\, Dr. Kristi DiClemente\, Michael\nDodson\, Dr. Travis Hagey \nCanvas Walk-in Training Sessions\, 3:30-4:30 p.m.\,\n2nd Floor\, Fant Library\, KCTL Active Learning Classroom\nPresenter: Dr. Sheila Morgan \n  \n  \n \nTuesday\, Aug. 19\nFant Library \n  \n9-9:45 a.m. CONCURRENT SESSIONS \nAdvising Best Practices with Degree Works\nDigital Classroom\, First Floor\nPresenters: Jessica McDill\, Delilah Schmidt \nSolutions for Student Accessibility\nGPG Room\, First Floor\nPresenters: Dr. Clear Moore\, Tequila McCoy\, Andrew\nMoneymaker\, Jody Kennedy \n10-10:45 a.m. CONCURRENT SESSIONS \nGuidelines for ADA Compliance/Title II\nRevisions – Workshop\nDigital Classroom\, First Floor\nPresenters: Dr. Sheila Morgan\, Neila Llewell \nEncouraging Student Discussions in Classes\nGPG Room\, First Floor\nPresenters: Dr. Hope Durst\, Dr. Chad Murphy\, Thomas\nHaffey \n11 a.m – noon \nBanner Self-Service Workshop\nDigital Classroom\, First Floor\nPresenters: Aaron Brooks\, Andrew Garner \n1-3 p.m. OPEN SESSION \nCanvas Walk-in Training Sessions\nKCTL office\nPresenter: Dr. Sheila Morgan \nUPCOMING WORKSHOPS AND SESSIONS AT THE\nKOSSEN CENTER FOR TEACHING AND LEARNING\nTHIS FALL TENTATIVELY INCLUDE: \nSeptember: Advising for “newish” advisors\nNovember: Excel Budgeting training \nPlease mark your calendars for an Open House\nat the Kossen Center for Teaching and Learning\non Thursday\, Sept. 11\, from 3-5 p.m.
URL:https://www.muw.edu/ctl/event/fall-2025-convocation-and-development/
ATTACH;FMTTYPE=image/jpeg:https://www.muw.edu/ctl/wp-content/uploads/sites/49/2025/08/ConvocationPanels2025-Final.jpg
END:VEVENT
END:VCALENDAR