BEGIN:VCALENDAR
VERSION:2.0
PRODID:-//Career Services &amp; Professional Development - ECPv6.15.17.1//NONSGML v1.0//EN
CALSCALE:GREGORIAN
METHOD:PUBLISH
X-WR-CALNAME:Career Services &amp; Professional Development
X-ORIGINAL-URL:https://www.muw.edu/careers
X-WR-CALDESC:Events for Career Services &amp; Professional Development
REFRESH-INTERVAL;VALUE=DURATION:PT1H
X-Robots-Tag:noindex
X-PUBLISHED-TTL:PT1H
BEGIN:VTIMEZONE
TZID:America/Chicago
BEGIN:DAYLIGHT
TZOFFSETFROM:-0600
TZOFFSETTO:-0500
TZNAME:CDT
DTSTART:20240310T080000
END:DAYLIGHT
BEGIN:STANDARD
TZOFFSETFROM:-0500
TZOFFSETTO:-0600
TZNAME:CST
DTSTART:20241103T070000
END:STANDARD
BEGIN:DAYLIGHT
TZOFFSETFROM:-0600
TZOFFSETTO:-0500
TZNAME:CDT
DTSTART:20250309T080000
END:DAYLIGHT
BEGIN:STANDARD
TZOFFSETFROM:-0500
TZOFFSETTO:-0600
TZNAME:CST
DTSTART:20251102T070000
END:STANDARD
BEGIN:DAYLIGHT
TZOFFSETFROM:-0600
TZOFFSETTO:-0500
TZNAME:CDT
DTSTART:20260308T080000
END:DAYLIGHT
BEGIN:STANDARD
TZOFFSETFROM:-0500
TZOFFSETTO:-0600
TZNAME:CST
DTSTART:20261101T070000
END:STANDARD
BEGIN:DAYLIGHT
TZOFFSETFROM:-0600
TZOFFSETTO:-0500
TZNAME:CDT
DTSTART:20270314T080000
END:DAYLIGHT
BEGIN:STANDARD
TZOFFSETFROM:-0500
TZOFFSETTO:-0600
TZNAME:CST
DTSTART:20271107T070000
END:STANDARD
END:VTIMEZONE
BEGIN:VEVENT
DTSTART;TZID=America/Chicago:20260212T103000
DTEND;TZID=America/Chicago:20260212T133000
DTSTAMP:20260419T174620
CREATED:20251202T151734Z
LAST-MODIFIED:20251218T141440Z
UID:10000170-1770892200-1770903000@www.muw.edu
SUMMARY:2026 Healthcare Career Fair
DESCRIPTION:The Career Services and Professional Development Center at Mississippi University for Women in Columbus\, MS\, is hosting the Healthcare Career Fair on February 12\, 2026\, from 10:30 a.m. to 1:30 p.m. in Pohl Gymnasium.  Candidates from our Nursing\, Health Sciences\, Biology\, Chemistry\, Family Science\, Psychology\, and Business Administration programs will be in attendance. \nEMPLOYERS REGISTER HERE \nCreating an Employer Account Instructions – Handshake Registration Flyer \nSTUDENTS REGISTER HERE
URL:https://www.muw.edu/careers/event/2026-healthcare-career-fair/
LOCATION:Pohl Gym\, 1100 College Street\, Columbus\, MS\, United States
ATTACH;FMTTYPE=image/png:https://www.muw.edu/careers/wp-content/uploads/sites/46/2025/12/Healthcare-Career-Fair-IG-Graphic.png
ORGANIZER;CN="CSPD Center":MAILTO:careers@muw.edu
GEO:33.490479744715;-88.420331683894
X-APPLE-STRUCTURED-LOCATION;VALUE=URI;X-ADDRESS=Pohl Gym 1100 College Street Columbus MS United States;X-APPLE-RADIUS=500;X-TITLE=1100 College Street:geo:-88.420331683894,33.490479744715
END:VEVENT
BEGIN:VEVENT
DTSTART;TZID=America/Chicago:20250430T090000
DTEND;TZID=America/Chicago:20250430T095000
DTSTAMP:20260419T174620
CREATED:20241104T165213Z
LAST-MODIFIED:20241104T165213Z
UID:10000129-1746003600-1746006600@www.muw.edu
SUMMARY:LDR 399 - Career Readiness through Emotional Intelligence
DESCRIPTION:Emotional intelligence is the strongest predictor of performance in the workplace.  LDR 399 is a (1) hour credit course concentrated on emotional intelligence and how students can leverage EI competencies become more effective in the workplace and in their personal lives.
URL:https://www.muw.edu/careers/event/ldr-399-career-readiness-through-emotional-intelligence-2/2025-04-30/
LOCATION:Fant Memorial Library – Active Learning Classroom
ORGANIZER;CN="CSPD Center":MAILTO:careers@muw.edu
END:VEVENT
BEGIN:VEVENT
DTSTART;TZID=America/Chicago:20250423T090000
DTEND;TZID=America/Chicago:20250423T095000
DTSTAMP:20260419T174620
CREATED:20241104T165213Z
LAST-MODIFIED:20241104T165213Z
UID:10000128-1745398800-1745401800@www.muw.edu
SUMMARY:LDR 399 - Career Readiness through Emotional Intelligence
DESCRIPTION:Emotional intelligence is the strongest predictor of performance in the workplace.  LDR 399 is a (1) hour credit course concentrated on emotional intelligence and how students can leverage EI competencies become more effective in the workplace and in their personal lives.
URL:https://www.muw.edu/careers/event/ldr-399-career-readiness-through-emotional-intelligence-2/2025-04-23/
LOCATION:Fant Memorial Library – Active Learning Classroom
ORGANIZER;CN="CSPD Center":MAILTO:careers@muw.edu
END:VEVENT
END:VCALENDAR