BEGIN:VCALENDAR
VERSION:2.0
PRODID:-//The W - ECPv6.15.17.1//NONSGML v1.0//EN
CALSCALE:GREGORIAN
METHOD:PUBLISH
X-WR-CALNAME:The W
X-ORIGINAL-URL:https://www.muw.edu
X-WR-CALDESC:Events for The W
REFRESH-INTERVAL;VALUE=DURATION:PT1H
X-Robots-Tag:noindex
X-PUBLISHED-TTL:PT1H
BEGIN:VTIMEZONE
TZID:America/Chicago
BEGIN:DAYLIGHT
TZOFFSETFROM:-0600
TZOFFSETTO:-0500
TZNAME:CDT
DTSTART:20250309T080000
END:DAYLIGHT
BEGIN:STANDARD
TZOFFSETFROM:-0500
TZOFFSETTO:-0600
TZNAME:CST
DTSTART:20251102T070000
END:STANDARD
BEGIN:DAYLIGHT
TZOFFSETFROM:-0600
TZOFFSETTO:-0500
TZNAME:CDT
DTSTART:20260308T080000
END:DAYLIGHT
BEGIN:STANDARD
TZOFFSETFROM:-0500
TZOFFSETTO:-0600
TZNAME:CST
DTSTART:20261101T070000
END:STANDARD
BEGIN:DAYLIGHT
TZOFFSETFROM:-0600
TZOFFSETTO:-0500
TZNAME:CDT
DTSTART:20270314T080000
END:DAYLIGHT
BEGIN:STANDARD
TZOFFSETFROM:-0500
TZOFFSETTO:-0600
TZNAME:CST
DTSTART:20271107T070000
END:STANDARD
END:VTIMEZONE
BEGIN:VEVENT
DTSTART;TZID=America/Chicago:20260331T173000
DTEND;TZID=America/Chicago:20260331T183000
DTSTAMP:20260422T212148
CREATED:20260302T221112Z
LAST-MODIFIED:20260302T221112Z
UID:10012452-1774978200-1774981800@www.muw.edu
SUMMARY:Fashioning a Revolution: How Americans Bought\, Fought\, and Taught Their New Nation into Being
DESCRIPTION:Dr. Peter Messer will open the traveling exhibit Becoming the US: Colonial America to Reconstruction with his talk Fashioning a Revolution: How Americans Bought\, Fought\, and Taught Their New Nation into Being on Tuesday\, March 31 at 5:30pm at the downtown branch of the Columbus-Lowndes Public Library System.​ \n​Dr. Messer is a historian of Early American politics and culture at Mississippi State University. His interest lies in the theory and practice of politics in eighteenth-century America\, particularly the intersection of natural historical thought and nation building in the era of the Early American Republic. In 2005\, he published Stories of Independence: Identity\, Ideology\, and History in Eighteenth-Century America.​ \n​He is currently working on a book manuscript: Adultery\, Church Pews\, Oysters\, and Tea: The Very Local Origins of the American Revolution in Wellfleet\, Massachusetts. \n​This program is sponsored by a Mississippi Humanities Council America250 Grant. \nFor more information\, call the CLPLS at 662-329-5300.
URL:https://www.muw.edu/event/fashioning-a-revolution-how-americans-bought-fought-and-taught-their-new-nation-into-being/
LOCATION:Columbus-Lowndes Public Library\, 314 7th St N\, Columbus\, MS 39701\, Columbus\, MS\, 39201\, United States
CATEGORIES:America 250,Community Events,ThoughtfulLearning
END:VEVENT
END:VCALENDAR