BEGIN:VCALENDAR
VERSION:2.0
PRODID:-//The W - ECPv6.15.17.1//NONSGML v1.0//EN
CALSCALE:GREGORIAN
METHOD:PUBLISH
X-ORIGINAL-URL:https://www.muw.edu
X-WR-CALDESC:Events for The W
REFRESH-INTERVAL;VALUE=DURATION:PT1H
X-Robots-Tag:noindex
X-PUBLISHED-TTL:PT1H
BEGIN:VTIMEZONE
TZID:America/Chicago
BEGIN:DAYLIGHT
TZOFFSETFROM:-0600
TZOFFSETTO:-0500
TZNAME:CDT
DTSTART:20240310T080000
END:DAYLIGHT
BEGIN:STANDARD
TZOFFSETFROM:-0500
TZOFFSETTO:-0600
TZNAME:CST
DTSTART:20241103T070000
END:STANDARD
BEGIN:DAYLIGHT
TZOFFSETFROM:-0600
TZOFFSETTO:-0500
TZNAME:CDT
DTSTART:20250309T080000
END:DAYLIGHT
BEGIN:STANDARD
TZOFFSETFROM:-0500
TZOFFSETTO:-0600
TZNAME:CST
DTSTART:20251102T070000
END:STANDARD
BEGIN:DAYLIGHT
TZOFFSETFROM:-0600
TZOFFSETTO:-0500
TZNAME:CDT
DTSTART:20260308T080000
END:DAYLIGHT
BEGIN:STANDARD
TZOFFSETFROM:-0500
TZOFFSETTO:-0600
TZNAME:CST
DTSTART:20261101T070000
END:STANDARD
END:VTIMEZONE
BEGIN:VEVENT
DTSTART;TZID=America/Chicago:20250924T120000
DTEND;TZID=America/Chicago:20250924T130000
DTSTAMP:20260424T201855
CREATED:20250923T214338Z
LAST-MODIFIED:20250923T214338Z
UID:10011942-1758715200-1758718800@www.muw.edu
SUMMARY:SM-100 Seminar: Career Path Navigation - Perspective of a Career "Fed" in the Biological Sciences
DESCRIPTION:Shannon James graduated from MUW thirty years ago in 1995 with a Cum Laude B.S. in Biology\, completed an M.S. in Entomology from University of Tennessee Knoxville\, and has built a career in applied regulatory biology spanning more than twenty years. \nThe majority of her career has been with the United States Department of Agriculture\, Animal and Plant Health Inspection Service\, Plant Protection and Quarantine (USDA\, APHIS\, PPQ). Wherein she has held positions as Laboratory Technician\, Lead Scientist\, Plant Health Safeguarding Specialist\, Pest Survey Specialist for the states of Oregon and Tennessee\, and National Operations Manager for Domestic Programs. \nShannon’s early research is cited in standard operating procedures at Oak Ridge National Laboratories\, has enabled the nursery industry to sell and move billions of dollars’ worth of plants\, and provided new tools in the fight against vectors of human pathogens. Her contributions in later positions and collateral duties improved national program delivery and have been adopted as guidance in reviewing competitive funding requests. \nJoin in on her SM 101 presentation September 24 to hear how Shannon overcame challenges and collected keys to success in her post-graduate activities.
URL:https://www.muw.edu/event/sm-100-seminar-career-path-navigation-perspective-of-a-career-fed-in-the-biological-sciences/
LOCATION:Parkinson Hall Room 117
CATEGORIES:SM-100 Seminar
ATTACH;FMTTYPE=image/jpeg:https://www.muw.edu/wp-content/uploads/2025/09/Seminar_Flyer4-_Sept-24_James.jpg
END:VEVENT
END:VCALENDAR