BEGIN:VCALENDAR
VERSION:2.0
PRODID:-//The W - ECPv6.15.17.1//NONSGML v1.0//EN
CALSCALE:GREGORIAN
METHOD:PUBLISH
X-WR-CALNAME:The W
X-ORIGINAL-URL:https://www.muw.edu
X-WR-CALDESC:Events for The W
REFRESH-INTERVAL;VALUE=DURATION:PT1H
X-Robots-Tag:noindex
X-PUBLISHED-TTL:PT1H
BEGIN:VTIMEZONE
TZID:America/Chicago
BEGIN:DAYLIGHT
TZOFFSETFROM:-0600
TZOFFSETTO:-0500
TZNAME:CDT
DTSTART:20250309T080000
END:DAYLIGHT
BEGIN:STANDARD
TZOFFSETFROM:-0500
TZOFFSETTO:-0600
TZNAME:CST
DTSTART:20251102T070000
END:STANDARD
BEGIN:DAYLIGHT
TZOFFSETFROM:-0600
TZOFFSETTO:-0500
TZNAME:CDT
DTSTART:20260308T080000
END:DAYLIGHT
BEGIN:STANDARD
TZOFFSETFROM:-0500
TZOFFSETTO:-0600
TZNAME:CST
DTSTART:20261101T070000
END:STANDARD
BEGIN:DAYLIGHT
TZOFFSETFROM:-0600
TZOFFSETTO:-0500
TZNAME:CDT
DTSTART:20270314T080000
END:DAYLIGHT
BEGIN:STANDARD
TZOFFSETFROM:-0500
TZOFFSETTO:-0600
TZNAME:CST
DTSTART:20271107T070000
END:STANDARD
END:VTIMEZONE
BEGIN:VEVENT
DTSTART;TZID=America/Chicago:20260327T140000
DTEND;TZID=America/Chicago:20260327T150000
DTSTAMP:20260423T053322
CREATED:20260110T124934Z
LAST-MODIFIED:20260327T151932Z
UID:10012243-1774620000-1774623600@www.muw.edu
SUMMARY:Music in the Library
DESCRIPTION:Join the W Department of Music for a musical afternoon as our talented music faculty and majors perform in Fant Memorial Library. You can take a study break\, grab a book and a coffee at the library’s cafe\, and enjoy some wonderful tunes with us!
URL:https://www.muw.edu/event/music-in-the-library-25/
LOCATION:Fant Memorial Library\, 1100 College St\, Columbus\, MS\, United States
CATEGORIES:Community Events,Concert,Concerts,Cultural Calendar,Music
ATTACH;FMTTYPE=image/jpeg:https://www.muw.edu/wp-content/uploads/2023/09/Shakia-MitL-Wxt9kA.tmp_.jpg
GEO:33.49526;-88.418189
X-APPLE-STRUCTURED-LOCATION;VALUE=URI;X-ADDRESS=Fant Memorial Library 1100 College St Columbus MS United States;X-APPLE-RADIUS=500;X-TITLE=1100 College St:geo:-88.418189,33.49526
END:VEVENT
BEGIN:VEVENT
DTSTART;TZID=America/Chicago:20260328T173000
DTEND;TZID=America/Chicago:20260328T183000
DTSTAMP:20260423T053322
CREATED:20260220T141930Z
LAST-MODIFIED:20260328T153432Z
UID:10012433-1774719000-1774722600@www.muw.edu
SUMMARY:Senior Voice Recital - Zachariah Harden\, tenor
DESCRIPTION:Join the W Department of Music as we celebrate senior voice major\, Zachariah Harden and his academic journey! Livestream for this concert can be found here on our Virtual Concert Series page. This event takes place inside Poindexter Hall\, is free and open to the public.
URL:https://www.muw.edu/event/senior-voice-recital-zachariah-harden-tenor/
LOCATION:Kossen Auditorium (Inside Poindexter Hall)
CATEGORIES:Concert,Concerts,Music
ATTACH;FMTTYPE=image/jpeg:https://www.muw.edu/wp-content/uploads/2026/02/Zach-Senior-Recital-Photo-scaled-KqtM4s.jpg
GEO:33.49418258667;-88.417297363281
END:VEVENT
BEGIN:VEVENT
DTSTART;TZID=America/Chicago:20260407T193000
DTEND;TZID=America/Chicago:20260407T203000
DTSTAMP:20260423T053322
CREATED:20260110T124934Z
LAST-MODIFIED:20260407T153430Z
UID:10012244-1775590200-1775593800@www.muw.edu
SUMMARY:MUW Chamber Singers Spring Concert
DESCRIPTION:You are invited to join the W Chamber Singers\, conducted by Dr. William Reber and Prof. Zane Lynn for their spring performance! This event is free and open to the public.
URL:https://www.muw.edu/event/muw-chamber-singers-spring-concert-3/
LOCATION:Kossen Auditorium (Inside Poindexter Hall)
CATEGORIES:Community Events,Concert,Concerts,Cultural Calendar,Music
ATTACH;FMTTYPE=image/jpeg:https://www.muw.edu/wp-content/uploads/2026/01/W-Chamber-Singers-Fall24-Stage-Photo-9iOwNn.jpg
GEO:33.49418258667;-88.417297363281
END:VEVENT
BEGIN:VEVENT
DTSTART;TZID=America/Chicago:20260410T140000
DTEND;TZID=America/Chicago:20260410T150000
DTSTAMP:20260423T053322
CREATED:20260110T124935Z
LAST-MODIFIED:20260410T153430Z
UID:10012245-1775829600-1775833200@www.muw.edu
SUMMARY:Music in the Library
DESCRIPTION:Join the W Department of Music for a musical afternoon as our talented music faculty and majors perform in Fant Memorial Library. You can take a study break\, grab a book and a coffee at the library’s cafe\, and enjoy some wonderful tunes with us!
URL:https://www.muw.edu/event/music-in-the-library-26/
LOCATION:Fant Memorial Library\, 1100 College St\, Columbus\, MS\, United States
CATEGORIES:Community Events,Concert,Concerts,Cultural Calendar,Music
ATTACH;FMTTYPE=image/jpeg:https://www.muw.edu/wp-content/uploads/2026/01/Brass-Ensemble-EAc3MG.jpg
GEO:33.49526;-88.418189
X-APPLE-STRUCTURED-LOCATION;VALUE=URI;X-ADDRESS=Fant Memorial Library 1100 College St Columbus MS United States;X-APPLE-RADIUS=500;X-TITLE=1100 College St:geo:-88.418189,33.49526
END:VEVENT
BEGIN:VEVENT
DTSTART;TZID=America/Chicago:20260414T193000
DTEND;TZID=America/Chicago:20260414T203000
DTSTAMP:20260423T053322
CREATED:20260110T124935Z
LAST-MODIFIED:20260414T153430Z
UID:10012246-1776195000-1776198600@www.muw.edu
SUMMARY:W Music Student Showcase
DESCRIPTION:Join the W Department of Music as we host a musical evening featuring an array of musical genres from our talented music majors! This event is free and open to the public.
URL:https://www.muw.edu/event/w-music-student-showcase-3/
LOCATION:Kossen Auditorium (Inside Poindexter Hall)
CATEGORIES:Community Events,Concert,Concerts,Cultural Calendar,Music
ATTACH;FMTTYPE=image/jpeg:https://www.muw.edu/wp-content/uploads/2024/05/Poindexter-Night-scaled-RbVk8w.tmp_.jpg
GEO:33.49418258667;-88.417297363281
END:VEVENT
BEGIN:VEVENT
DTSTART;TZID=America/Chicago:20260417T193000
DTEND;TZID=America/Chicago:20260417T203000
DTSTAMP:20260423T053322
CREATED:20260110T124935Z
LAST-MODIFIED:20260417T160430Z
UID:10012247-1776454200-1776457800@www.muw.edu
SUMMARY:Piano Students’ Spring 2026 Recital
DESCRIPTION:Enjoy an evening of beautiful piano music performed by our music majors and the inaugural class of our W Community Music School. This event is free and open to the public. We hope to see you there!
URL:https://www.muw.edu/event/piano-students-spring-2026-recital/
LOCATION:Kossen Auditorium (Inside Poindexter Hall)
CATEGORIES:Community Events,Concert,Concerts,Cultural Calendar,Music
ATTACH;FMTTYPE=image/jpeg:https://www.muw.edu/wp-content/uploads/2024/05/Kossen-Auditorium-Piano-fLtBLU.tmp_.jpg
GEO:33.49418258667;-88.417297363281
END:VEVENT
BEGIN:VEVENT
DTSTART;TZID=America/Chicago:20260418T150000
DTEND;TZID=America/Chicago:20260418T160000
DTSTAMP:20260423T053322
CREATED:20260110T124935Z
LAST-MODIFIED:20260408T153430Z
UID:10012248-1776524400-1776528000@www.muw.edu
SUMMARY:Senior Piano Recital - Gabrielle Foster\, piano
DESCRIPTION:Join the W Department of Music as we celebrate senior music major\, Gabrielle Foster and her academic journey! This event is free and open to the public.
URL:https://www.muw.edu/event/senior-piano-recital-gabrielle-foster-piano/
LOCATION:Kossen Auditorium (Inside Poindexter Hall)
CATEGORIES:Community Events,Concert,Concerts,Cultural Calendar,Music
ATTACH;FMTTYPE=image/png:https://www.muw.edu/wp-content/uploads/2025/01/Gabby-Junior-Recital-Photo-px0vMe.tmp_.png
GEO:33.49418258667;-88.417297363281
END:VEVENT
BEGIN:VEVENT
DTSTART;TZID=America/Chicago:20260419T150000
DTEND;TZID=America/Chicago:20260419T160000
DTSTAMP:20260423T053322
CREATED:20260110T124935Z
LAST-MODIFIED:20260402T153431Z
UID:10012249-1776610800-1776614400@www.muw.edu
SUMMARY:Junior Voice Recital - Marcus Hill\, tenor
DESCRIPTION:Join the W Department of Music as we celebrate junior music major\, Marcus Hill and his academic journey! This event is free and open to the public.
URL:https://www.muw.edu/event/junior-voice-recital-marcus-hill-tenor/
LOCATION:Kossen Auditorium (Inside Poindexter Hall)
CATEGORIES:Community Events,Concert,Concerts,Cultural Calendar,Music
ATTACH;FMTTYPE=image/jpeg:https://www.muw.edu/wp-content/uploads/2024/05/Fall-Poindexter-EVxVvf.tmp_.jpg
GEO:33.49418258667;-88.417297363281
END:VEVENT
BEGIN:VEVENT
DTSTART;TZID=America/Chicago:20260424T193000
DTEND;TZID=America/Chicago:20260424T210000
DTSTAMP:20260423T053322
CREATED:20260110T124935Z
LAST-MODIFIED:20260422T160430Z
UID:10012250-1777059000-1777064400@www.muw.edu
SUMMARY:She Loves Me - Musical
DESCRIPTION:On Friday\, April 24 and Saturday\, April 25\, the W Music Department will present a fully staged musical\, “She Loves Me” at 7:30pm in Poindexter Hall. \nShe Loves Me is a classic 1963 Broadway musical by Jerry Bock and Sheldon Harnick based on a play by Miklos Laszlo. Full of rivalry and romance\, She Loves Me follows the story of Amalia and George\, coworkers who cannot stand each another. They are also members of a “lonely hearts club” where they have exchanged love letters with one another\, but not pictures\, so they don’t know that they’ve fallen in love with each other! \nWhat: She Loves MeWhen: April 24 & April 25 at 7:30pmWhere: Kossen Auditorium\, Poindexter HallCost: Free \nTickets are first-come\, first-served at the door. Seating is limited and guests are encouraged to arrive early. \nSHE LOVES ME is presented through special arrangement with Music Theatre International (MTI). All authorized performance materials are also supplied by MTI. \nwww.mtishows.com \nThis production is licensed by Music Theatre International.   
URL:https://www.muw.edu/event/she-loves-me-musical/
LOCATION:Kossen Auditorium (Inside Poindexter Hall)
CATEGORIES:Community Events,Concert,Concerts,Cultural Calendar,Music
ATTACH;FMTTYPE=image/png:https://www.muw.edu/wp-content/uploads/2026/04/She-Loves-Me-Graphic-qJs9Hb.png
GEO:33.49418258667;-88.417297363281
END:VEVENT
BEGIN:VEVENT
DTSTART;TZID=America/Chicago:20260425T193000
DTEND;TZID=America/Chicago:20260425T210000
DTSTAMP:20260423T053322
CREATED:20260110T124936Z
LAST-MODIFIED:20260422T160430Z
UID:10012251-1777145400-1777150800@www.muw.edu
SUMMARY:She Loves Me - Musical
DESCRIPTION:On Friday\, April 24 and Saturday\, April 25\, the W Music Department will present a fully staged musical\, “She Loves Me” at 7:30pm in Poindexter Hall. \nShe Loves Me is a classic 1963 Broadway musical by Jerry Bock and Sheldon Harnick based on a play by Miklos Laszlo. Full of rivalry and romance\, She Loves Me follows the story of Amalia and George\, coworkers who cannot stand each another. They are also members of a “lonely hearts club” where they have exchanged love letters with one another\, but not pictures\, so they don’t know that they’ve fallen in love with each other! \nWhat: She Loves MeWhen: April 24 & April 25 at 7:30pmWhere: Kossen Auditorium\, Poindexter HallCost: Free \nTickets are first-come\, first-served at the door. Seating is limited and guests are encouraged to arrive early. \nSHE LOVES ME is presented through special arrangement with Music Theatre International (MTI). All authorized performance materials are also supplied by MTI. \nwww.mtishows.com \nThis production is licensed by Music Theatre International.   
URL:https://www.muw.edu/event/she-loves-me-musical-2/
LOCATION:Kossen Auditorium (Inside Poindexter Hall)
CATEGORIES:Community Events,Concert,Concerts,Cultural Calendar,Music
ATTACH;FMTTYPE=image/png:https://www.muw.edu/wp-content/uploads/2026/04/She-Loves-Me-Graphic-qJs9Hb.png
GEO:33.49418258667;-88.417297363281
END:VEVENT
BEGIN:VEVENT
DTSTART;TZID=America/Chicago:20260427T193000
DTEND;TZID=America/Chicago:20260427T203000
DTSTAMP:20260423T053322
CREATED:20260110T124936Z
LAST-MODIFIED:20260422T160430Z
UID:10012252-1777318200-1777321800@www.muw.edu
SUMMARY:The W Wind Ensemble & The Ody Brass Collective Spring Concert
DESCRIPTION:You are invited to join the W Department of Music for our spring semester’s instrumental ensemble featuring our community W Wind Ensemble conducted by Melissa Reeves and our brass chamber ensemble\, The Ody Brass Collective\, conducted by Dr. Douglas Mark. This event is free and open to the public.
URL:https://www.muw.edu/event/the-w-wind-ensemble-the-ody-brass-collective-spring-concert/
LOCATION:Kossen Auditorium (Inside Poindexter Hall)
CATEGORIES:Community Events,Concert,Concerts,Cultural Calendar,Music
ATTACH;FMTTYPE=image/jpeg:https://www.muw.edu/wp-content/uploads/2023/08/The-W-Wind-Ensemble-Fall-21-Performance-xyu0d5.tmp_.jpg
GEO:33.49418258667;-88.417297363281
END:VEVENT
BEGIN:VEVENT
DTSTART;TZID=America/Chicago:20260428T193000
DTEND;TZID=America/Chicago:20260428T203000
DTSTAMP:20260423T053322
CREATED:20260110T124936Z
LAST-MODIFIED:20260422T160430Z
UID:10012253-1777404600-1777408200@www.muw.edu
SUMMARY:W Jazz Ensemble Spring 2026 Concert
DESCRIPTION:You are invited to join the W Department of Music as we host our W Jazz Ensemble for their spring concert!This talented group is directed by our Instructor of Music Education & Director of Bands\, Prof. Melissa Reeves. This event is free and open to the public.
URL:https://www.muw.edu/event/w-jazz-ensemble-spring-2026-concert/
LOCATION:Kossen Auditorium (Inside Poindexter Hall)
CATEGORIES:Community Events,Concert,Concerts,Cultural Calendar,Music
ATTACH;FMTTYPE=image/jpeg:https://www.muw.edu/wp-content/uploads/2023/08/J5A6581-Ec8tmz.tmp_.jpg
GEO:33.49418258667;-88.417297363281
END:VEVENT
END:VCALENDAR