BEGIN:VCALENDAR
VERSION:2.0
PRODID:-//The W - ECPv6.15.17.1//NONSGML v1.0//EN
CALSCALE:GREGORIAN
METHOD:PUBLISH
X-WR-CALNAME:The W
X-ORIGINAL-URL:https://www.muw.edu
X-WR-CALDESC:Events for The W
REFRESH-INTERVAL;VALUE=DURATION:PT1H
X-Robots-Tag:noindex
X-PUBLISHED-TTL:PT1H
BEGIN:VTIMEZONE
TZID:America/Chicago
BEGIN:DAYLIGHT
TZOFFSETFROM:-0600
TZOFFSETTO:-0500
TZNAME:CDT
DTSTART:20240310T080000
END:DAYLIGHT
BEGIN:STANDARD
TZOFFSETFROM:-0500
TZOFFSETTO:-0600
TZNAME:CST
DTSTART:20241103T070000
END:STANDARD
BEGIN:DAYLIGHT
TZOFFSETFROM:-0600
TZOFFSETTO:-0500
TZNAME:CDT
DTSTART:20250309T080000
END:DAYLIGHT
BEGIN:STANDARD
TZOFFSETFROM:-0500
TZOFFSETTO:-0600
TZNAME:CST
DTSTART:20251102T070000
END:STANDARD
BEGIN:DAYLIGHT
TZOFFSETFROM:-0600
TZOFFSETTO:-0500
TZNAME:CDT
DTSTART:20260308T080000
END:DAYLIGHT
BEGIN:STANDARD
TZOFFSETFROM:-0500
TZOFFSETTO:-0600
TZNAME:CST
DTSTART:20261101T070000
END:STANDARD
END:VTIMEZONE
BEGIN:VEVENT
DTSTART;TZID=America/Chicago:20251022T160000
DTEND;TZID=America/Chicago:20251022T170000
DTSTAMP:20260423T064843
CREATED:20250916T175938Z
LAST-MODIFIED:20250917T213717Z
UID:10011918-1761148800-1761152400@www.muw.edu
SUMMARY:Feminist Book Club Session #2
DESCRIPTION:At the club’s second session\, members will discuss The Book Club for Troublesome Women by Marie Bostwick. \nLessa Harvey\, an 1884 Fellow in the Women’s College\, created this feminist book club after working at Friendly City Books as a Nancy Yates Community Engagement Fellow in the summer of 2025.
URL:https://www.muw.edu/event/feminist-book-club-session-2/
LOCATION:Friendly City Books\, 109 5th Street North\, Columbus\, 39701\, United States
CATEGORIES:Community Events,Cultural Calendar,Reading,Students,ThoughtfulLearning,Women's Mission
ATTACH;FMTTYPE=image/jpeg:https://www.muw.edu/wp-content/uploads/2025/09/The-Book-Club-for-Troublesome-Women.jpg
END:VEVENT
END:VCALENDAR