BEGIN:VCALENDAR
VERSION:2.0
PRODID:-//The W - ECPv6.15.17.1//NONSGML v1.0//EN
CALSCALE:GREGORIAN
METHOD:PUBLISH
X-WR-CALNAME:The W
X-ORIGINAL-URL:https://www.muw.edu
X-WR-CALDESC:Events for The W
REFRESH-INTERVAL;VALUE=DURATION:PT1H
X-Robots-Tag:noindex
X-PUBLISHED-TTL:PT1H
BEGIN:VTIMEZONE
TZID:America/Chicago
BEGIN:DAYLIGHT
TZOFFSETFROM:-0600
TZOFFSETTO:-0500
TZNAME:CDT
DTSTART:20240310T080000
END:DAYLIGHT
BEGIN:STANDARD
TZOFFSETFROM:-0500
TZOFFSETTO:-0600
TZNAME:CST
DTSTART:20241103T070000
END:STANDARD
BEGIN:DAYLIGHT
TZOFFSETFROM:-0600
TZOFFSETTO:-0500
TZNAME:CDT
DTSTART:20250309T080000
END:DAYLIGHT
BEGIN:STANDARD
TZOFFSETFROM:-0500
TZOFFSETTO:-0600
TZNAME:CST
DTSTART:20251102T070000
END:STANDARD
BEGIN:DAYLIGHT
TZOFFSETFROM:-0600
TZOFFSETTO:-0500
TZNAME:CDT
DTSTART:20260308T080000
END:DAYLIGHT
BEGIN:STANDARD
TZOFFSETFROM:-0500
TZOFFSETTO:-0600
TZNAME:CST
DTSTART:20261101T070000
END:STANDARD
END:VTIMEZONE
BEGIN:VEVENT
DTSTART;VALUE=DATE:20250522
DTEND;VALUE=DATE:20250525
DTSTAMP:20260423T180455
CREATED:20240719T161235Z
LAST-MODIFIED:20250511T160430Z
UID:10010906-1747872000-1748131199@www.muw.edu
SUMMARY:Mississippi University for Women  Women's Track and Field vs NCAA III Outdoor National Championships
DESCRIPTION:Mississippi University for Women  Women’s Track and Field vs NCAA III Outdoor National Championships
URL:https://www.muw.edu/event/mississippi-university-for-women-womens-track-and-field-vs-ncaa-iii-outdoor-national-championships-2/
LOCATION:Geneva\, OH
CATEGORIES:Owls Athletics
END:VEVENT
BEGIN:VEVENT
DTSTART;VALUE=DATE:20250522
DTEND;VALUE=DATE:20250525
DTSTAMP:20260423T180455
CREATED:20240719T161235Z
LAST-MODIFIED:20250426T153432Z
UID:10010907-1747872000-1748131199@www.muw.edu
SUMMARY:Mississippi University for Women  Men's Track and Field vs NCAA III Outdoor National Championships
DESCRIPTION:Mississippi University for Women  Men’s Track and Field vs NCAA III Outdoor National Championships
URL:https://www.muw.edu/event/mississippi-university-for-women-mens-track-and-field-vs-ncaa-iii-outdoor-national-championships-2/
LOCATION:Geneva\, OH
CATEGORIES:Owls Athletics
END:VEVENT
BEGIN:VEVENT
DTSTART;VALUE=DATE:20250520
DTEND;VALUE=DATE:20250523
DTSTAMP:20260423T180455
CREATED:20250408T204317Z
LAST-MODIFIED:20250522T161930Z
UID:10011500-1747699200-1747958399@www.muw.edu
SUMMARY:Mississippi University for Women  Men's Golf vs NCAA III National Championships
DESCRIPTION:Mississippi University for Women Men’s Golf vs NCAA III National Championships
URL:https://www.muw.edu/event/mississippi-university-for-women-mens-golf-vs-ncaa-iii-national-championships/
LOCATION:Penfield\, NY (Midvale C.C.)
CATEGORIES:Owls Athletics
END:VEVENT
BEGIN:VEVENT
DTSTART;TZID=America/Chicago:20250508T173000
DTEND;TZID=America/Chicago:20250508T203000
DTSTAMP:20260423T180455
CREATED:20250429T214633Z
LAST-MODIFIED:20250508T153436Z
UID:10011550-1746725400-1746736200@www.muw.edu
SUMMARY:Mississippi University for Women  Baseball vs Spalding University (Ky.) - FINAL FOUR
DESCRIPTION:Mississippi University for Women Baseball vs SLIAC CHAMPIONSHIPS – FINAL FOUR
URL:https://www.muw.edu/event/mississippi-university-for-women-baseball-vs-sliac-championships-final-four/
LOCATION:Louisville\, KY
CATEGORIES:Owls Athletics
END:VEVENT
BEGIN:VEVENT
DTSTART;TZID=America/Chicago:20250508T173000
DTEND;TZID=America/Chicago:20250508T193000
DTSTAMP:20260423T180455
CREATED:20250408T204311Z
LAST-MODIFIED:20250508T153436Z
UID:10011156-1746725400-1746732600@www.muw.edu
SUMMARY:Mississippi University for Women  Softball vs Greenville University - SEMIFINALS  (double elim.)
DESCRIPTION:Mississippi University for Women Softball at TBA – FINAL FOUR
URL:https://www.muw.edu/event/mississippi-university-for-women-softball-at-tba-final-four/
LOCATION:tba
CATEGORIES:Owls Athletics
END:VEVENT
BEGIN:VEVENT
DTSTART;TZID=America/Chicago:20250506T163000
DTEND;TZID=America/Chicago:20250506T183000
DTSTAMP:20260423T180455
CREATED:20250408T204302Z
LAST-MODIFIED:20250506T153432Z
UID:10011155-1746549000-1746556200@www.muw.edu
SUMMARY:Mississippi University for Women  Softball at Westminster College (MO) - QUARTERFINALS
DESCRIPTION:Mississippi University for Women Softball at TBA – QUARTERFINALS
URL:https://www.muw.edu/event/mississippi-university-for-women-softball-at-tba-quarterfinals/
LOCATION:tba
CATEGORIES:Owls Athletics
END:VEVENT
BEGIN:VEVENT
DTSTART;VALUE=DATE:20250506
DTEND;VALUE=DATE:20250507
DTSTAMP:20260423T180455
CREATED:20250408T204255Z
LAST-MODIFIED:20250504T153431Z
UID:10011296-1746489600-1746575999@www.muw.edu
SUMMARY:Mississippi University for Women  Baseball at SLIAC Quarterfinals
DESCRIPTION:Mississippi University for Women Baseball at St. Louis Intercollegiate Athletic Conference Tournament
URL:https://www.muw.edu/event/mississippi-university-for-women-baseball-at-st-louis-intercollegiate-athletic-conference-tournament/
LOCATION:tba
CATEGORIES:Owls Athletics
END:VEVENT
BEGIN:VEVENT
DTSTART;TZID=America/Chicago:20250505T130000
DTEND;TZID=America/Chicago:20250505T150000
DTSTAMP:20260423T180455
CREATED:20250408T204236Z
LAST-MODIFIED:20250505T153432Z
UID:10011154-1746450000-1746457200@www.muw.edu
SUMMARY:Mississippi University for Women  Softball at Webster University
DESCRIPTION:Mississippi University for Women Softball at Webster University
URL:https://www.muw.edu/event/mississippi-university-for-women-softball-at-webster-university-2/
LOCATION:St. Louis\, MO
CATEGORIES:Owls Athletics
END:VEVENT
BEGIN:VEVENT
DTSTART;TZID=America/Chicago:20250505T110000
DTEND;TZID=America/Chicago:20250505T130000
DTSTAMP:20260423T180455
CREATED:20250408T204224Z
LAST-MODIFIED:20250505T153432Z
UID:10011153-1746442800-1746450000@www.muw.edu
SUMMARY:Mississippi University for Women  Softball at Webster University
DESCRIPTION:Mississippi University for Women Softball at Webster University
URL:https://www.muw.edu/event/mississippi-university-for-women-softball-at-webster-university/
LOCATION:St. Louis\, MO
CATEGORIES:Owls Athletics
END:VEVENT
BEGIN:VEVENT
DTSTART;TZID=America/Chicago:20250504T150000
DTEND;TZID=America/Chicago:20250504T180000
DTSTAMP:20260423T180455
CREATED:20250408T204242Z
LAST-MODIFIED:20250504T153431Z
UID:10011295-1746370800-1746381600@www.muw.edu
SUMMARY:Mississippi University for Women  Baseball vs Westminster College (MO)
DESCRIPTION:Mississippi University for Women Baseball vs Westminster College (MO)
URL:https://www.muw.edu/event/mississippi-university-for-women-baseball-vs-westminster-college-mo-2/
LOCATION:Columbus\, CCA Field
CATEGORIES:Owls Athletics
END:VEVENT
BEGIN:VEVENT
DTSTART;TZID=America/Chicago:20250504T120000
DTEND;TZID=America/Chicago:20250504T150000
DTSTAMP:20260423T180455
CREATED:20250408T204230Z
LAST-MODIFIED:20250504T153431Z
UID:10011294-1746360000-1746370800@www.muw.edu
SUMMARY:Mississippi University for Women  Baseball vs Westminster College (MO)
DESCRIPTION:Mississippi University for Women Baseball vs Westminster College (MO)
URL:https://www.muw.edu/event/mississippi-university-for-women-baseball-vs-westminster-college-mo/
LOCATION:Columbus\, CCA Field
CATEGORIES:Owls Athletics
END:VEVENT
BEGIN:VEVENT
DTSTART;VALUE=DATE:20250504
DTEND;VALUE=DATE:20250506
DTSTAMP:20260423T180455
CREATED:20250408T204248Z
LAST-MODIFIED:20250505T153432Z
UID:10011308-1746316800-1746489599@www.muw.edu
SUMMARY:Mississippi University for Women  Men's Golf vs St. Louis Intercollegiate Athletic Conference Championships
DESCRIPTION:Mississippi University for Women Men’s Golf vs St. Louis Intercollegiate Athletic Conference Championships
URL:https://www.muw.edu/event/mississippi-university-for-women-mens-golf-vs-st-louis-intercollegiate-athletic-conference-championships-2/
LOCATION:Metamora\, IL (Metamora Fields GC)
CATEGORIES:Owls Athletics
END:VEVENT
BEGIN:VEVENT
DTSTART;TZID=America/Chicago:20250503T130000
DTEND;TZID=America/Chicago:20250503T150000
DTSTAMP:20260423T180455
CREATED:20250408T204033Z
LAST-MODIFIED:20250503T153430Z
UID:10011150-1746277200-1746284400@www.muw.edu
SUMMARY:Mississippi University for Women  Softball at Westminster College (MO)
DESCRIPTION:Mississippi University for Women Softball at Westminster College (MO)
URL:https://www.muw.edu/event/mississippi-university-for-women-softball-at-westminster-college-mo-2/
LOCATION:Fulton\, MO
CATEGORIES:Owls Athletics
END:VEVENT
BEGIN:VEVENT
DTSTART;TZID=America/Chicago:20250503T110000
DTEND;TZID=America/Chicago:20250503T130000
DTSTAMP:20260423T180455
CREATED:20250408T204020Z
LAST-MODIFIED:20250503T153430Z
UID:10011149-1746270000-1746277200@www.muw.edu
SUMMARY:Mississippi University for Women  Softball at Westminster College (MO)
DESCRIPTION:Mississippi University for Women Softball at Westminster College (MO)
URL:https://www.muw.edu/event/mississippi-university-for-women-softball-at-westminster-college-mo/
LOCATION:Fulton\, MO
CATEGORIES:Owls Athletics
END:VEVENT
BEGIN:VEVENT
DTSTART;TZID=America/Chicago:20250429T170000
DTEND;TZID=America/Chicago:20250429T200000
DTSTAMP:20260423T180455
CREATED:20250408T204210Z
LAST-MODIFIED:20250429T153430Z
UID:10011293-1745946000-1745956800@www.muw.edu
SUMMARY:Mississippi University for Women  Baseball vs Millsaps College
DESCRIPTION:Mississippi University for Women Baseball vs Millsaps College
URL:https://www.muw.edu/event/mississippi-university-for-women-baseball-vs-millsaps-college-4/
LOCATION:tba
CATEGORIES:Owls Athletics
END:VEVENT
BEGIN:VEVENT
DTSTART;TZID=America/Chicago:20250428T130000
DTEND;TZID=America/Chicago:20250428T150000
DTSTAMP:20260423T180455
CREATED:20250408T204203Z
LAST-MODIFIED:20250428T153430Z
UID:10011141-1745845200-1745852400@www.muw.edu
SUMMARY:Mississippi University for Women  Softball at Spalding University (Ky.)
DESCRIPTION:Mississippi University for Women Softball at Spalding University (Ky.)
URL:https://www.muw.edu/event/mississippi-university-for-women-softball-at-spalding-university-ky-4/
LOCATION:Louisville\, KY
CATEGORIES:Owls Athletics
END:VEVENT
BEGIN:VEVENT
DTSTART;TZID=America/Chicago:20250428T110000
DTEND;TZID=America/Chicago:20250428T130000
DTSTAMP:20260423T180455
CREATED:20250408T204155Z
LAST-MODIFIED:20250428T153430Z
UID:10011142-1745838000-1745845200@www.muw.edu
SUMMARY:Mississippi University for Women  Softball at Spalding University (Ky.)
DESCRIPTION:Mississippi University for Women Softball at Spalding University (Ky.)
URL:https://www.muw.edu/event/mississippi-university-for-women-softball-at-spalding-university-ky-3/
LOCATION:Louisville\, KY
CATEGORIES:Owls Athletics
END:VEVENT
BEGIN:VEVENT
DTSTART;TZID=America/Chicago:20250426T150000
DTEND;TZID=America/Chicago:20250426T180000
DTSTAMP:20260423T180455
CREATED:20250408T204148Z
LAST-MODIFIED:20250426T153431Z
UID:10011291-1745679600-1745690400@www.muw.edu
SUMMARY:Mississippi University for Women  Baseball at Lyon College (Ark.)
DESCRIPTION:Mississippi University for Women Baseball at Lyon College (Ark.)
URL:https://www.muw.edu/event/mississippi-university-for-women-baseball-at-lyon-college-ark-3/
LOCATION:Batesville\, AR
CATEGORIES:Owls Athletics
END:VEVENT
BEGIN:VEVENT
DTSTART;TZID=America/Chicago:20250426T150000
DTEND;TZID=America/Chicago:20250426T170000
DTSTAMP:20260423T180455
CREATED:20250408T204141Z
LAST-MODIFIED:20250426T153431Z
UID:10011152-1745679600-1745686800@www.muw.edu
SUMMARY:Mississippi University for Women  Softball vs Blackburn College - SENIOR DAY
DESCRIPTION:Mississippi University for Women Softball vs Blackburn College – SENIOR DAY\nStreaming Video: https://fan.hudl.com/muw
URL:https://www.muw.edu/event/mississippi-university-for-women-softball-vs-blackburn-college-senior-day-2/
LOCATION:Columbus\, Don Usher Softball Field
CATEGORIES:Owls Athletics
END:VEVENT
BEGIN:VEVENT
DTSTART;TZID=America/Chicago:20250426T130000
DTEND;TZID=America/Chicago:20250426T150000
DTSTAMP:20260423T180455
CREATED:20250408T204135Z
LAST-MODIFIED:20250426T153431Z
UID:10011151-1745672400-1745679600@www.muw.edu
SUMMARY:Mississippi University for Women  Softball vs Blackburn College - SENIOR DAY
DESCRIPTION:Mississippi University for Women Softball vs Blackburn College – SENIOR DAY\nStreaming Video: https://fan.hudl.com/muw
URL:https://www.muw.edu/event/mississippi-university-for-women-softball-vs-blackburn-college-senior-day/
LOCATION:Columbus\, Don Usher Softball Field
CATEGORIES:Owls Athletics
END:VEVENT
BEGIN:VEVENT
DTSTART;TZID=America/Chicago:20250426T120000
DTEND;TZID=America/Chicago:20250426T150000
DTSTAMP:20260423T180455
CREATED:20250408T204129Z
LAST-MODIFIED:20250426T153431Z
UID:10011290-1745668800-1745679600@www.muw.edu
SUMMARY:Mississippi University for Women  Baseball at Lyon College (Ark.)
DESCRIPTION:Mississippi University for Women Baseball at Lyon College (Ark.)
URL:https://www.muw.edu/event/mississippi-university-for-women-baseball-at-lyon-college-ark-2/
LOCATION:Batesville\, AR
CATEGORIES:Owls Athletics
END:VEVENT
BEGIN:VEVENT
DTSTART;TZID=America/Chicago:20250426T100000
DTEND;TZID=America/Chicago:20250426T130000
DTSTAMP:20260423T180455
CREATED:20250408T204344Z
LAST-MODIFIED:20250426T153431Z
UID:10011250-1745661600-1745672400@www.muw.edu
SUMMARY:Mississippi University for Women  Men's Tennis vs Greenville University - UMAC SOUTH TOURNAMENT
DESCRIPTION:Mississippi University for Women Men’s Tennis vs Upper Midwest Athletic Conference South Tournament
URL:https://www.muw.edu/event/mississippi-university-for-women-mens-tennis-vs-upper-midwest-athletic-conference-south-tournament-2/
LOCATION:St. Louis\, Mo.
CATEGORIES:Owls Athletics
END:VEVENT
BEGIN:VEVENT
DTSTART;VALUE=DATE:20250426
DTEND;VALUE=DATE:20250427
DTSTAMP:20260423T180455
CREATED:20250113T164020Z
LAST-MODIFIED:20250113T164020Z
UID:10011292-1745625600-1745711999@www.muw.edu
SUMMARY:Mississippi University for Women  Baseball at Lyon College (Ark.)
DESCRIPTION:Mississippi University for Women Baseball at Lyon College (Ark.)
URL:https://www.muw.edu/event/mississippi-university-for-women-baseball-at-lyon-college-ark/
LOCATION:Batesville\, AR
CATEGORIES:Owls Athletics
END:VEVENT
BEGIN:VEVENT
DTSTART;TZID=America/Chicago:20250425T090000
DTEND;TZID=America/Chicago:20250426T090000
DTSTAMP:20260423T180455
CREATED:20250408T204123Z
LAST-MODIFIED:20250420T151932Z
UID:10011251-1745571600-1745658000@www.muw.edu
SUMMARY:Mississippi University for Women  Women's Tennis vs Upper Midwest Athletic Conference
DESCRIPTION:Mississippi University for Women Women’s Tennis vs Upper Midwest Athletic Conference
URL:https://www.muw.edu/event/mississippi-university-for-women-womens-tennis-vs-upper-midwest-athletic-conference/
LOCATION:St. Louis\, Mo.
CATEGORIES:Owls Athletics
END:VEVENT
BEGIN:VEVENT
DTSTART;VALUE=DATE:20250425
DTEND;VALUE=DATE:20250426
DTSTAMP:20260423T180455
CREATED:20240805T150818Z
LAST-MODIFIED:20250106T093442Z
UID:10010951-1745539200-1745625599@www.muw.edu
SUMMARY:Mississippi University for Women  Women's Track and Field vs St. Louis Intercollegiate Athletic Conference Championships
DESCRIPTION:Mississippi University for Women  Women’s Track and Field vs St. Louis Intercollegiate Athletic Conference Championships
URL:https://www.muw.edu/event/mississippi-university-for-women-womens-track-and-field-vs-st-louis-intercollegiate-athletic-conference-championships-2/
LOCATION:Greenville\, IL (at Greenville)
CATEGORIES:Owls Athletics
END:VEVENT
BEGIN:VEVENT
DTSTART;VALUE=DATE:20250425
DTEND;VALUE=DATE:20250426
DTSTAMP:20260423T180455
CREATED:20240719T161235Z
LAST-MODIFIED:20250425T153446Z
UID:10010904-1745539200-1745625599@www.muw.edu
SUMMARY:Mississippi University for Women  Men's Track and Field vs St. Louis Intercollegiate Athletic Conference Championships
DESCRIPTION:Mississippi University for Women  Men’s Track and Field vs St. Louis Intercollegiate Athletic Conference Championships
URL:https://www.muw.edu/event/mississippi-university-for-women-mens-track-and-field-vs-st-louis-intercollegiate-athletic-conference-championships/
LOCATION:Greenville\, IL (at Greenville)
CATEGORIES:Owls Athletics
END:VEVENT
BEGIN:VEVENT
DTSTART;VALUE=DATE:20250425
DTEND;VALUE=DATE:20250426
DTSTAMP:20260423T180455
CREATED:20240719T161235Z
LAST-MODIFIED:20250425T153447Z
UID:10010905-1745539200-1745625599@www.muw.edu
SUMMARY:Mississippi University for Women  Women's Track and Field vs St. Louis Intercollegiate Athletic Conference Championships
DESCRIPTION:Mississippi University for Women  Women’s Track and Field vs St. Louis Intercollegiate Athletic Conference Championships
URL:https://www.muw.edu/event/mississippi-university-for-women-womens-track-and-field-vs-st-louis-intercollegiate-athletic-conference-championships/
LOCATION:Greenville\, IL (at Greenville)
CATEGORIES:Owls Athletics
END:VEVENT
END:VCALENDAR