BEGIN:VCALENDAR
VERSION:2.0
PRODID:-//The W - ECPv6.15.17.1//NONSGML v1.0//EN
CALSCALE:GREGORIAN
METHOD:PUBLISH
X-WR-CALNAME:The W
X-ORIGINAL-URL:https://www.muw.edu
X-WR-CALDESC:Events for The W
REFRESH-INTERVAL;VALUE=DURATION:PT1H
X-Robots-Tag:noindex
X-PUBLISHED-TTL:PT1H
BEGIN:VTIMEZONE
TZID:America/Chicago
BEGIN:DAYLIGHT
TZOFFSETFROM:-0600
TZOFFSETTO:-0500
TZNAME:CDT
DTSTART:20240310T080000
END:DAYLIGHT
BEGIN:STANDARD
TZOFFSETFROM:-0500
TZOFFSETTO:-0600
TZNAME:CST
DTSTART:20241103T070000
END:STANDARD
BEGIN:DAYLIGHT
TZOFFSETFROM:-0600
TZOFFSETTO:-0500
TZNAME:CDT
DTSTART:20250309T080000
END:DAYLIGHT
BEGIN:STANDARD
TZOFFSETFROM:-0500
TZOFFSETTO:-0600
TZNAME:CST
DTSTART:20251102T070000
END:STANDARD
BEGIN:DAYLIGHT
TZOFFSETFROM:-0600
TZOFFSETTO:-0500
TZNAME:CDT
DTSTART:20260308T080000
END:DAYLIGHT
BEGIN:STANDARD
TZOFFSETFROM:-0500
TZOFFSETTO:-0600
TZNAME:CST
DTSTART:20261101T070000
END:STANDARD
END:VTIMEZONE
BEGIN:VEVENT
DTSTART;TZID=America/Chicago:20250917T180000
DTEND;TZID=America/Chicago:20250917T200000
DTSTAMP:20260423T142735
CREATED:20250905T211232Z
LAST-MODIFIED:20250917T183546Z
UID:10011574-1758132000-1758139200@www.muw.edu
SUMMARY:Mississippi University for Women  Women's Volleyball vs Millsaps College
DESCRIPTION:Mississippi University for Women  Women’s Volleyball vs Millsaps CollegeStreaming Video: https://fan.hudl.com/usa/ms/columbus/organization/173761/muw/video
URL:https://www.muw.edu/event/mississippi-university-for-women-womens-volleyball-vs-millsaps-college/
LOCATION:Columbus\, MS\, Pohl Gymnasium
CATEGORIES:Owls Athletics
END:VEVENT
BEGIN:VEVENT
DTSTART;TZID=America/Chicago:20250914T150000
DTEND;TZID=America/Chicago:20250914T170000
DTSTAMP:20260423T142735
CREATED:20250905T211152Z
LAST-MODIFIED:20250914T183436Z
UID:10011612-1757862000-1757869200@www.muw.edu
SUMMARY:Mississippi University for Women  Men's Soccer vs LaGrange College
DESCRIPTION:Mississippi University for Women Men’s Soccer vs LaGrange College\nStreaming Video: https://fan.hudl.com/usa/ms/columbus/organization/173761/muw
URL:https://www.muw.edu/event/mississippi-university-for-women-mens-soccer-vs-lagrange-college-2/
LOCATION:Columbus\, MS\, Roger Short Soccer Complex
CATEGORIES:Owls Athletics
END:VEVENT
BEGIN:VEVENT
DTSTART;TZID=America/Chicago:20250913T160000
DTEND;TZID=America/Chicago:20250913T180000
DTSTAMP:20260423T142735
CREATED:20250903T030105Z
LAST-MODIFIED:20250913T183435Z
UID:10011611-1757779200-1757786400@www.muw.edu
SUMMARY:Mississippi University for Women  Women's Volleyball vs Stillman College - ALUMNAE GAME
DESCRIPTION:Mississippi University for Women Women’s Volleyball vs Stillman College – ALUMNAE GAME
URL:https://www.muw.edu/event/mississippi-university-for-women-womens-volleyball-vs-stillman-college-alumnae-game/
LOCATION:Columbus\, MS\, Pohl Gymnasium
CATEGORIES:Owls Athletics
END:VEVENT
BEGIN:VEVENT
DTSTART;TZID=America/Chicago:20250913T120000
DTEND;TZID=America/Chicago:20250913T140000
DTSTAMP:20260423T142735
CREATED:20250903T030101Z
LAST-MODIFIED:20250913T183435Z
UID:10011573-1757764800-1757772000@www.muw.edu
SUMMARY:Mississippi University for Women  Women's Volleyball vs United States Sports University
DESCRIPTION:Mississippi University for Women Women’s Volleyball vs United States Sports University
URL:https://www.muw.edu/event/mississippi-university-for-women-womens-volleyball-vs-united-states-sports-university/
LOCATION:Columbus\, MS\, Pohl Gymnasium
CATEGORIES:Owls Athletics
END:VEVENT
BEGIN:VEVENT
DTSTART;TZID=America/Chicago:20250911T190000
DTEND;TZID=America/Chicago:20250911T210000
DTSTAMP:20260423T142735
CREATED:20250903T030054Z
LAST-MODIFIED:20250911T183436Z
UID:10011610-1757617200-1757624400@www.muw.edu
SUMMARY:Mississippi University for Women  Men's Soccer vs Freed-Hardeman University (Tenn.)
DESCRIPTION:Mississippi University for Women Men’s Soccer vs Freed-Hardeman University (Tenn.)\nStreaming Video: https://fan.hudl.com/usa/ms/columbus/organization/173761/muw
URL:https://www.muw.edu/event/mississippi-university-for-women-mens-soccer-vs-freed-hardeman-university-tenn-2/
LOCATION:Columbus\, MS\, Roger Short Soccer Complex
CATEGORIES:Owls Athletics
END:VEVENT
BEGIN:VEVENT
DTSTART;TZID=America/Chicago:20250910T163000
DTEND;TZID=America/Chicago:20250910T183000
DTSTAMP:20260423T142735
CREATED:20250903T030032Z
LAST-MODIFIED:20250910T183436Z
UID:10011609-1757521800-1757529000@www.muw.edu
SUMMARY:Mississippi University for Women  Women's Soccer at Huntingdon College
DESCRIPTION:Mississippi University for Women Women’s Soccer at Huntingdon College
URL:https://www.muw.edu/event/mississippi-university-for-women-womens-soccer-at-huntingdon-college-3/
LOCATION:Montgomery\, AL
CATEGORIES:Owls Athletics
END:VEVENT
BEGIN:VEVENT
DTSTART;TZID=America/Chicago:20250909T190000
DTEND;TZID=America/Chicago:20250909T210000
DTSTAMP:20260423T142735
CREATED:20250903T030023Z
LAST-MODIFIED:20250909T183436Z
UID:10011572-1757444400-1757451600@www.muw.edu
SUMMARY:Mississippi University for Women  Women's Volleyball vs Belhaven University (Miss.)
DESCRIPTION:Mississippi University for Women Women’s Volleyball vs Belhaven University (Miss.)
URL:https://www.muw.edu/event/mississippi-university-for-women-womens-volleyball-vs-belhaven-university-miss-3/
LOCATION:Columbus\, MS\, Pohl Gymnasium
CATEGORIES:Owls Athletics
END:VEVENT
BEGIN:VEVENT
DTSTART;VALUE=DATE:20250908
DTEND;VALUE=DATE:20250909
DTSTAMP:20260423T142735
CREATED:20250903T030006Z
LAST-MODIFIED:20250908T183435Z
UID:10011709-1757289600-1757375999@www.muw.edu
SUMMARY:Mississippi University for Women  Women's Golf at LeTourneau University Tempest Intercollegiate
DESCRIPTION:Mississippi University for Women Women’s Golf at LeTourneau University Tempest Intercollegiate
URL:https://www.muw.edu/event/mississippi-university-for-women-womens-golf-at-letourneau-university-tempest-intercollegiate-3/
LOCATION:Gladewater\, TX (Tempest G.C.)
CATEGORIES:Owls Athletics
END:VEVENT
BEGIN:VEVENT
DTSTART;VALUE=DATE:20250908
DTEND;VALUE=DATE:20250909
DTSTAMP:20260423T142735
CREATED:20250903T030001Z
LAST-MODIFIED:20250908T183435Z
UID:10011708-1757289600-1757375999@www.muw.edu
SUMMARY:Mississippi University for Women  Men's Golf at LeTourneau University Tempest Intercollegiate
DESCRIPTION:Mississippi University for Women Men’s Golf at LeTourneau University Tempest Intercollegiate
URL:https://www.muw.edu/event/mississippi-university-for-women-mens-golf-at-letourneau-university-tempest-intercollegiate-3/
LOCATION:Gladewater\, TX (Tempest G.C.)
CATEGORIES:Owls Athletics
END:VEVENT
BEGIN:VEVENT
DTSTART;TZID=America/Chicago:20250907T130000
DTEND;TZID=America/Chicago:20250907T150000
DTSTAMP:20260423T142735
CREATED:20250903T025957Z
LAST-MODIFIED:20250907T183435Z
UID:10011608-1757250000-1757257200@www.muw.edu
SUMMARY:Mississippi University for Women  Men's Soccer at Piedmont University
DESCRIPTION:Mississippi University for Women Men’s Soccer at Piedmont University
URL:https://www.muw.edu/event/mississippi-university-for-women-mens-soccer-at-piedmont-university-2/
LOCATION:Demorest\, GA
CATEGORIES:Owls Athletics
END:VEVENT
BEGIN:VEVENT
DTSTART;TZID=America/Chicago:20250906T130000
DTEND;TZID=America/Chicago:20250906T150000
DTSTAMP:20260423T142735
CREATED:20250903T025952Z
LAST-MODIFIED:20250906T183435Z
UID:10011607-1757163600-1757170800@www.muw.edu
SUMMARY:Mississippi University for Women  Women's Soccer at LaGrange College
DESCRIPTION:Mississippi University for Women Women’s Soccer at LaGrange College
URL:https://www.muw.edu/event/mississippi-university-for-women-womens-soccer-at-lagrange-college-2/
LOCATION:LaGrange\, GA
CATEGORIES:Owls Athletics
END:VEVENT
BEGIN:VEVENT
DTSTART;TZID=America/Chicago:20250905T184500
DTEND;TZID=America/Chicago:20250905T214500
DTSTAMP:20260423T142735
CREATED:20250903T025947Z
LAST-MODIFIED:20250905T183436Z
UID:10011790-1757097900-1757108700@www.muw.edu
SUMMARY:Mississippi University for Women  Women's Cross Country at Mississippi College Opener (5k)
DESCRIPTION:Mississippi University for Women Women’s Cross Country at Mississippi College Opener (5k)
URL:https://www.muw.edu/event/mississippi-university-for-women-womens-cross-country-at-mississippi-college-opener-5k-3/
LOCATION:Clinton\, MS
CATEGORIES:Owls Athletics
END:VEVENT
BEGIN:VEVENT
DTSTART;TZID=America/Chicago:20250905T180000
DTEND;TZID=America/Chicago:20250905T210000
DTSTAMP:20260423T142735
CREATED:20250903T025942Z
LAST-MODIFIED:20250905T183436Z
UID:10011789-1757095200-1757106000@www.muw.edu
SUMMARY:Mississippi University for Women  Men's Cross Country at Mississippi College Opener (5k)
DESCRIPTION:Mississippi University for Women Men’s Cross Country at Mississippi College Opener (5k)
URL:https://www.muw.edu/event/mississippi-university-for-women-mens-cross-country-at-mississippi-college-opener-5k-4/
LOCATION:Clinton\, MS
CATEGORIES:Owls Athletics
END:VEVENT
BEGIN:VEVENT
DTSTART;TZID=America/Chicago:20250905T160000
DTEND;TZID=America/Chicago:20250905T180000
DTSTAMP:20260423T142735
CREATED:20250903T025915Z
LAST-MODIFIED:20250905T183436Z
UID:10011606-1757088000-1757095200@www.muw.edu
SUMMARY:Mississippi University for Women  Men's Soccer at Toccoa Falls College
DESCRIPTION:Mississippi University for Women Men’s Soccer at Toccoa Falls College
URL:https://www.muw.edu/event/mississippi-university-for-women-mens-soccer-at-toccoa-falls-college-2/
LOCATION:Toccoa Falls\, GA
CATEGORIES:Owls Athletics
END:VEVENT
BEGIN:VEVENT
DTSTART;VALUE=DATE:20250905
DTEND;VALUE=DATE:20250906
DTSTAMP:20260423T142735
CREATED:20250903T025935Z
LAST-MODIFIED:20250905T183436Z
UID:10011707-1757030400-1757116799@www.muw.edu
SUMMARY:CANCELLED Mississippi University for Women  Women's Golf at Spalding University (Ky.) Alabama Invasion
DESCRIPTION:Mississippi University for Women Women’s Golf at Spalding University (Ky.) Alabama Invasion
URL:https://www.muw.edu/event/mississippi-university-for-women-womens-golf-at-spalding-university-ky-alabama-invasion-2/
LOCATION:Union Grove\, AL (Cherokee Ridge GC)
CATEGORIES:Owls Athletics
END:VEVENT
BEGIN:VEVENT
DTSTART;VALUE=DATE:20250905
DTEND;VALUE=DATE:20250906
DTSTAMP:20260423T142736
CREATED:20250903T025846Z
LAST-MODIFIED:20250905T183436Z
UID:10011706-1757030400-1757116799@www.muw.edu
SUMMARY:Mississippi University for Women  Men's Golf at Spalding University (Ky.) Alabama Invasion
DESCRIPTION:Mississippi University for Women Men’s Golf at Spalding University (Ky.) Alabama Invasion
URL:https://www.muw.edu/event/mississippi-university-for-women-mens-golf-at-spalding-university-ky-alabama-invasion-2/
LOCATION:Union Grove\, AL (Cherokee Ridge GC)
CATEGORIES:Owls Athletics
END:VEVENT
BEGIN:VEVENT
DTSTART;TZID=America/Chicago:20250903T173000
DTEND;TZID=America/Chicago:20250903T193000
DTSTAMP:20260423T142736
CREATED:20250903T025801Z
LAST-MODIFIED:20250903T181935Z
UID:10011605-1756920600-1756927800@www.muw.edu
SUMMARY:Mississippi University for Women  Women's Soccer vs Rhodes College
DESCRIPTION:Mississippi University for Women Women’s Soccer vs Rhodes College\nStreaming Video: https://fan.hudl.com/usa/ms/columbus/organization/173761/muw
URL:https://www.muw.edu/event/mississippi-university-for-women-womens-soccer-vs-rhodes-college-3/
LOCATION:Columbus\, MS\, Roger Short Soccer Complex
CATEGORIES:Owls Athletics
END:VEVENT
BEGIN:VEVENT
DTSTART;TZID=America/Chicago:20250902T190000
DTEND;TZID=America/Chicago:20250902T210000
DTSTAMP:20260423T142736
CREATED:20250903T025749Z
LAST-MODIFIED:20250903T025749Z
UID:10011571-1756839600-1756846800@www.muw.edu
SUMMARY:Mississippi University for Women  Women's Volleyball vs Freed-Hardeman University (Tenn.)
DESCRIPTION:Mississippi University for Women Women’s Volleyball vs Freed-Hardeman University (Tenn.)
URL:https://www.muw.edu/event/mississippi-university-for-women-womens-volleyball-vs-freed-hardeman-university-tenn/
LOCATION:Columbus\, MS\, Pohl Gymnasium
CATEGORIES:Owls Athletics
END:VEVENT
BEGIN:VEVENT
DTSTART;VALUE=DATE:20250829
DTEND;VALUE=DATE:20250830
DTSTAMP:20260423T142736
CREATED:20250729T215440Z
LAST-MODIFIED:20250824T173435Z
UID:10011704-1756425600-1756511999@www.muw.edu
SUMMARY:Mississippi University for Women  Men's Golf vs East Mississippi Community College
DESCRIPTION:Mississippi University for Women Men’s Golf vs East Mississippi Community College
URL:https://www.muw.edu/event/mississippi-university-for-women-mens-golf-vs-east-mississippi-community-college/
LOCATION:Columbus\, Elm Lake Golf Course
CATEGORIES:Owls Athletics
END:VEVENT
BEGIN:VEVENT
DTSTART;TZID=America/Chicago:20250825T160000
DTEND;TZID=America/Chicago:20250825T180000
DTSTAMP:20260423T142736
CREATED:20250729T215436Z
LAST-MODIFIED:20250825T173438Z
UID:10011600-1756137600-1756144800@www.muw.edu
SUMMARY:Mississippi University for Women  Men's Soccer at Blue Mountain Christian University  - SCRIMMAGE
DESCRIPTION:Mississippi University for Women Men’s Soccer at Blue Mountain University (Miss.) – SCRIMMAGE
URL:https://www.muw.edu/event/mississippi-university-for-women-mens-soccer-at-blue-mountain-university-miss-scrimmage/
LOCATION:Blue Mountain\, MS
CATEGORIES:Owls Athletics
END:VEVENT
BEGIN:VEVENT
DTSTART;TZID=America/Chicago:20250825T133000
DTEND;TZID=America/Chicago:20250825T153000
DTSTAMP:20260423T142736
CREATED:20250729T215427Z
LAST-MODIFIED:20250825T173437Z
UID:10011599-1756128600-1756135800@www.muw.edu
SUMMARY:Mississippi University for Women  Women's Soccer at Blue Mountain Christian University  - EXHIBITION
DESCRIPTION:Mississippi University for Women Women’s Soccer at Blue Mountain University (Miss.) – EXHIBITION
URL:https://www.muw.edu/event/mississippi-university-for-women-womens-soccer-at-blue-mountain-university-miss-exhibition/
LOCATION:Blue Mountain\, MS
CATEGORIES:Owls Athletics
END:VEVENT
BEGIN:VEVENT
DTSTART;TZID=America/Chicago:20250821T190000
DTEND;TZID=America/Chicago:20250821T210000
DTSTAMP:20260423T142736
CREATED:20250729T215408Z
LAST-MODIFIED:20250821T171936Z
UID:10011598-1755802800-1755810000@www.muw.edu
SUMMARY:Mississippi University for Women  Men's Soccer at East Mississippi Community College - SCRIMMAGE
DESCRIPTION:Mississippi University for Women Men’s Soccer at East Mississippi Community College – SCRIMMAGE
URL:https://www.muw.edu/event/mississippi-university-for-women-mens-soccer-at-east-mississippi-community-college-scrimmage/
LOCATION:Scooba\, MS
CATEGORIES:Owls Athletics
END:VEVENT
BEGIN:VEVENT
DTSTART;TZID=America/Chicago:20250821T170000
DTEND;TZID=America/Chicago:20250821T190000
DTSTAMP:20260423T142736
CREATED:20250729T215400Z
LAST-MODIFIED:20250821T171936Z
UID:10011597-1755795600-1755802800@www.muw.edu
SUMMARY:Mississippi University for Women  Women's Soccer at East Mississippi Community College - EXHIBITION
DESCRIPTION:Mississippi University for Women Women’s Soccer at East Mississippi Community College – EXHIBITION
URL:https://www.muw.edu/event/mississippi-university-for-women-womens-soccer-at-east-mississippi-community-college-exhibition-3/
LOCATION:Scooba\, MS
CATEGORIES:Owls Athletics
END:VEVENT
BEGIN:VEVENT
DTSTART;VALUE=DATE:20250522
DTEND;VALUE=DATE:20250525
DTSTAMP:20260423T142736
CREATED:20240805T150818Z
LAST-MODIFIED:20250106T093443Z
UID:10010952-1747872000-1748131199@www.muw.edu
SUMMARY:Mississippi University for Women  Women's Track and Field vs NCAA III Outdoor National Championships
DESCRIPTION:Mississippi University for Women  Women’s Track and Field vs NCAA III Outdoor National Championships
URL:https://www.muw.edu/event/mississippi-university-for-women-womens-track-and-field-vs-ncaa-iii-outdoor-national-championships-3/
LOCATION:Geneva\, OH
CATEGORIES:Owls Athletics
END:VEVENT
BEGIN:VEVENT
DTSTART;VALUE=DATE:20250522
DTEND;VALUE=DATE:20250525
DTSTAMP:20260423T142736
CREATED:20240719T161235Z
LAST-MODIFIED:20250426T153432Z
UID:10010907-1747872000-1748131199@www.muw.edu
SUMMARY:Mississippi University for Women  Men's Track and Field vs NCAA III Outdoor National Championships
DESCRIPTION:Mississippi University for Women  Men’s Track and Field vs NCAA III Outdoor National Championships
URL:https://www.muw.edu/event/mississippi-university-for-women-mens-track-and-field-vs-ncaa-iii-outdoor-national-championships-2/
LOCATION:Geneva\, OH
CATEGORIES:Owls Athletics
END:VEVENT
BEGIN:VEVENT
DTSTART;VALUE=DATE:20250522
DTEND;VALUE=DATE:20250525
DTSTAMP:20260423T142736
CREATED:20240719T161235Z
LAST-MODIFIED:20250511T160430Z
UID:10010906-1747872000-1748131199@www.muw.edu
SUMMARY:Mississippi University for Women  Women's Track and Field vs NCAA III Outdoor National Championships
DESCRIPTION:Mississippi University for Women  Women’s Track and Field vs NCAA III Outdoor National Championships
URL:https://www.muw.edu/event/mississippi-university-for-women-womens-track-and-field-vs-ncaa-iii-outdoor-national-championships-2/
LOCATION:Geneva\, OH
CATEGORIES:Owls Athletics
END:VEVENT
BEGIN:VEVENT
DTSTART;VALUE=DATE:20250520
DTEND;VALUE=DATE:20250523
DTSTAMP:20260423T142736
CREATED:20250408T204317Z
LAST-MODIFIED:20250522T161930Z
UID:10011500-1747699200-1747958399@www.muw.edu
SUMMARY:Mississippi University for Women  Men's Golf vs NCAA III National Championships
DESCRIPTION:Mississippi University for Women Men’s Golf vs NCAA III National Championships
URL:https://www.muw.edu/event/mississippi-university-for-women-mens-golf-vs-ncaa-iii-national-championships/
LOCATION:Penfield\, NY (Midvale C.C.)
CATEGORIES:Owls Athletics
END:VEVENT
BEGIN:VEVENT
DTSTART;TZID=America/Chicago:20250508T173000
DTEND;TZID=America/Chicago:20250508T203000
DTSTAMP:20260423T142736
CREATED:20250429T214633Z
LAST-MODIFIED:20250508T153436Z
UID:10011550-1746725400-1746736200@www.muw.edu
SUMMARY:Mississippi University for Women  Baseball vs Spalding University (Ky.) - FINAL FOUR
DESCRIPTION:Mississippi University for Women Baseball vs SLIAC CHAMPIONSHIPS – FINAL FOUR
URL:https://www.muw.edu/event/mississippi-university-for-women-baseball-vs-sliac-championships-final-four/
LOCATION:Louisville\, KY
CATEGORIES:Owls Athletics
END:VEVENT
BEGIN:VEVENT
DTSTART;TZID=America/Chicago:20250508T173000
DTEND;TZID=America/Chicago:20250508T193000
DTSTAMP:20260423T142736
CREATED:20250408T204311Z
LAST-MODIFIED:20250508T153436Z
UID:10011156-1746725400-1746732600@www.muw.edu
SUMMARY:Mississippi University for Women  Softball vs Greenville University - SEMIFINALS  (double elim.)
DESCRIPTION:Mississippi University for Women Softball at TBA – FINAL FOUR
URL:https://www.muw.edu/event/mississippi-university-for-women-softball-at-tba-final-four/
LOCATION:tba
CATEGORIES:Owls Athletics
END:VEVENT
BEGIN:VEVENT
DTSTART;TZID=America/Chicago:20250506T163000
DTEND;TZID=America/Chicago:20250506T183000
DTSTAMP:20260423T142736
CREATED:20250408T204302Z
LAST-MODIFIED:20250506T153432Z
UID:10011155-1746549000-1746556200@www.muw.edu
SUMMARY:Mississippi University for Women  Softball at Westminster College (MO) - QUARTERFINALS
DESCRIPTION:Mississippi University for Women Softball at TBA – QUARTERFINALS
URL:https://www.muw.edu/event/mississippi-university-for-women-softball-at-tba-quarterfinals/
LOCATION:tba
CATEGORIES:Owls Athletics
END:VEVENT
END:VCALENDAR